BEGIN:VCALENDAR
VERSION:2.0
PRODID:-//Kidsburgh - ECPv6.0.1.1//NONSGML v1.0//EN
CALSCALE:GREGORIAN
METHOD:PUBLISH
X-WR-CALNAME:Kidsburgh
X-ORIGINAL-URL:https://www.kidsburgh.org
X-WR-CALDESC:Events for Kidsburgh
REFRESH-INTERVAL;VALUE=DURATION:PT1H
X-Robots-Tag:noindex
X-PUBLISHED-TTL:PT1H
BEGIN:VTIMEZONE
TZID:America/New_York
BEGIN:DAYLIGHT
TZOFFSETFROM:-0500
TZOFFSETTO:-0400
TZNAME:EDT
DTSTART:20200308T070000
END:DAYLIGHT
BEGIN:STANDARD
TZOFFSETFROM:-0400
TZOFFSETTO:-0500
TZNAME:EST
DTSTART:20201101T060000
END:STANDARD
BEGIN:DAYLIGHT
TZOFFSETFROM:-0500
TZOFFSETTO:-0400
TZNAME:EDT
DTSTART:20210314T070000
END:DAYLIGHT
BEGIN:STANDARD
TZOFFSETFROM:-0400
TZOFFSETTO:-0500
TZNAME:EST
DTSTART:20211107T060000
END:STANDARD
END:VTIMEZONE
BEGIN:VEVENT
DTSTART;TZID=America/New_York:20210226T180000
DTEND;TZID=America/New_York:20210226T190000
DTSTAMP:20221005T195501
CREATED:20210224T190027Z
LAST-MODIFIED:20210224T190027Z
UID:75466-1614362400-1614366000@www.kidsburgh.org
SUMMARY:Girl Scout Robot Building Party!
DESCRIPTION:Bring a friend\, make new ones\, and build a robot at our Girl Scout Robot Building Party. Learn more about Girl Scouts and all the engaging and exciting activities your girl can participate in. We also welcome adult volunteers to join in on the fun. As a volunteer\, you will help to make a positive impact on girls’ lives.\nJoin in the fun and learn how you can become a Girl Scout.\nMembership is $25 for girls and adults. Financial Aid is available for girls and new Troop Leaders who qualify.
URL:https://www.kidsburgh.org/ec/girl-scout-robot-building-party/
LOCATION:Zoom\, Pittsburgh\, PA\, 15222\, United States
ATTACH;FMTTYPE=image/png:https://www.kidsburgh.org/wp-content/uploads/2021/02/Girl-Scout-Party-2.26.2021.png
END:VEVENT
BEGIN:VEVENT
DTSTART;TZID=America/New_York:20200923T150000
DTEND;TZID=America/New_York:20200923T160000
DTSTAMP:20221005T195501
CREATED:20200922T204902Z
LAST-MODIFIED:20200922T204902Z
UID:70836-1600873200-1600876800@www.kidsburgh.org
SUMMARY:Casa San Jose: Just Action Talks with Ben Gutschow
DESCRIPTION:Just Action Talks with Ben Gutschow\, Community Organizer for Social and Civic Engagement\, Casa San Jose \nBen is a high school student who is actively involved with the Non-Profit Organization\, Casa San Jose as a community organizer for social and civic engagement. Ben actively advocates for immigrant-rights and climate change. \nThis series of Just Action Talks is offered at a 6th grade level of vocabulary. They are intended for K-12 students\, and are open to any age. These informational interviews are intended to expose students to the variety of jobs available in the field of sustainability. After the adult describes a normal day at their job\, what they love about their job\, its challenges and what it took to get there for about 15 minutes\, the dialogue becomes open to Q & A. All students are welcome to attend. Please try to keep vocabulary at a 6th grade level while asking questions to help make the workshop age inclusive.
URL:https://www.kidsburgh.org/ec/casa-san-jose-just-action-talks-with-ben-gutschow/
LOCATION:Zoom\, Pittsburgh\, PA\, 15222\, United States
CATEGORIES:Education
ATTACH;FMTTYPE=image/png:https://www.kidsburgh.org/wp-content/uploads/2020/09/CU-EHC-logo_rgb.png
ORGANIZER;CN="Chatham%20University%20Eden%20Hall%20Campus":MAILTO:khenderson@chatham.edu
END:VEVENT
BEGIN:VEVENT
DTSTART;TZID=America/New_York:20200923T150000
DTEND;TZID=America/New_York:20200923T160000
DTSTAMP:20221005T195501
CREATED:20200922T204902Z
LAST-MODIFIED:20200922T204902Z
UID:74343-1600873200-1600876800@www.kidsburgh.org
SUMMARY:Casa San Jose: Just Action Talks with Ben Gutschow
DESCRIPTION:Just Action Talks with Ben Gutschow\, Community Organizer for Social and Civic Engagement\, Casa San Jose \nBen is a high school student who is actively involved with the Non-Profit Organization\, Casa San Jose as a community organizer for social and civic engagement. Ben actively advocates for immigrant-rights and climate change. \nThis series of Just Action Talks is offered at a 6th grade level of vocabulary. They are intended for K-12 students\, and are open to any age. These informational interviews are intended to expose students to the variety of jobs available in the field of sustainability. After the adult describes a normal day at their job\, what they love about their job\, its challenges and what it took to get there for about 15 minutes\, the dialogue becomes open to Q & A. All students are welcome to attend. Please try to keep vocabulary at a 6th grade level while asking questions to help make the workshop age inclusive.
URL:https://www.kidsburgh.org/ec/casa-san-jose-just-action-talks-with-ben-gutschow-2/
LOCATION:Zoom\, Pittsburgh\, PA\, 15222\, United States
CATEGORIES:Education
ATTACH;FMTTYPE=image/png:https://www.kidsburgh.org/wp-content/uploads/2020/09/CU-EHC-logo_rgb.png
ORGANIZER;CN="Chatham%20University%20Eden%20Hall%20Campus":MAILTO:khenderson@chatham.edu
END:VEVENT
END:VCALENDAR