BEGIN:VCALENDAR
VERSION:2.0
PRODID:-//Kidsburgh - ECPv6.0.1.1//NONSGML v1.0//EN
CALSCALE:GREGORIAN
METHOD:PUBLISH
X-WR-CALNAME:Kidsburgh
X-ORIGINAL-URL:https://www.kidsburgh.org
X-WR-CALDESC:Events for Kidsburgh
REFRESH-INTERVAL;VALUE=DURATION:PT1H
X-Robots-Tag:noindex
X-PUBLISHED-TTL:PT1H
BEGIN:VTIMEZONE
TZID:America/New_York
BEGIN:DAYLIGHT
TZOFFSETFROM:-0500
TZOFFSETTO:-0400
TZNAME:EDT
DTSTART:20210314T070000
END:DAYLIGHT
BEGIN:STANDARD
TZOFFSETFROM:-0400
TZOFFSETTO:-0500
TZNAME:EST
DTSTART:20211107T060000
END:STANDARD
END:VTIMEZONE
BEGIN:VEVENT
DTSTART;TZID=America/New_York:20211103T160000
DTEND;TZID=America/New_York:20211104T190000
DTSTAMP:20221005T200621
CREATED:20211102T223838Z
LAST-MODIFIED:20211102T223838Z
UID:85072-1635955200-1636052400@www.kidsburgh.org
SUMMARY:Steeltown Film & Media College Fair
DESCRIPTION:Steeltown will be hosting our 3rd Annual Film & Media College Fair\, and we’d love to see you there! We will be hosting programs that speak to our demographic: those with an interest in film\, media broadcasting\, content creation – and all of the amazing fields that can encompass. The Fair will be held over two days- virtually on Wednesday November 3rd and in-person on Thursday November 4th. \nThe virtual fair is on Wednesday November 3rd on Zoom from 4pm-7pm. From 4pm-6pm\, schools will be sent to individual breakout rooms where students can come and go as they please to learn about programs they are interested in. Afterwards\,  we will hold a student Q&A session from 6pm-7pm. Here\, college students from your programs will be invited to answer questions high school students may have for them. \nThe in-person fair is on Thursday November 4th from 5pm-7pm. Schools may arrive as early as 4pm to set up for the fair\, and will take place in the Hillman Conference Room on the second floor of WQED’s headquarters\, located at 4802 Fifth Avenue\, Pittsburgh\, PA\, 15213. Please let us know if you have your own tablecloth you are planning on bringing or if you would like us to provide one for you. \nTemperatures will be taken upon arrival and all individuals will be required to wear a mask\, regardless of vaccination status. A COVID release will be provided upon arrival for all individuals to sign. \nIf you’re interested in attending either day\, please register by following this link: https://forms.gle/AunmZf7LEY5BxjLUA
URL:https://www.kidsburgh.org/ec/steeltown-film-media-college-fair/2021-11-03/
LOCATION:Zoom (Nov 3rd); WQED (Nov 4th)\, 4802 Fifth Avenue\, Pittsburgh\, PA\, 15213\, United States
CATEGORIES:Arts and Culture,Education
ATTACH;FMTTYPE=image/jpeg:https://www.kidsburgh.org/wp-content/uploads/2021/10/Steeltown-College-Fair.jpg
ORGANIZER;CN="Steeltown%20Entertainment%20Project":MAILTO:maryann@steeltown.org
END:VEVENT
END:VCALENDAR