BEGIN:VCALENDAR
VERSION:2.0
PRODID:-//Kidsburgh - ECPv6.0.1.1//NONSGML v1.0//EN
CALSCALE:GREGORIAN
METHOD:PUBLISH
X-ORIGINAL-URL:https://www.kidsburgh.org
X-WR-CALDESC:Events for Kidsburgh
REFRESH-INTERVAL;VALUE=DURATION:PT1H
X-Robots-Tag:noindex
X-PUBLISHED-TTL:PT1H
BEGIN:VTIMEZONE
TZID:America/New_York
BEGIN:DAYLIGHT
TZOFFSETFROM:-0500
TZOFFSETTO:-0400
TZNAME:EDT
DTSTART:20200308T070000
END:DAYLIGHT
BEGIN:STANDARD
TZOFFSETFROM:-0400
TZOFFSETTO:-0500
TZNAME:EST
DTSTART:20201101T060000
END:STANDARD
END:VTIMEZONE
BEGIN:VEVENT
DTSTART;TZID=America/New_York:20200404T140000
DTEND;TZID=America/New_York:20200404T160000
DTSTAMP:20221005T195523
CREATED:20200310T161904Z
LAST-MODIFIED:20200310T161904Z
UID:61983-1586008800-1586016000@www.kidsburgh.org
SUMMARY:Easter Jam
DESCRIPTION:Come join us for an all around family fun event. Songs\, a HUGE Easter egg hunt\,a few family friendly games\, family craft\, delicious snacks\, and a photo booth to remember the event. \n*Remember to BRING your OWN BASKET* \nFor any questions please call Christine @ (412)655-3995 or email at office@windoverhillsumc.org
URL:https://www.kidsburgh.org/ec/easter-jam/
LOCATION:Windover HIlls Chuch\, 6751 Ridge Road\, Pittsburgh\, PA\, 15236
CATEGORIES:Community
ATTACH;FMTTYPE=image/jpeg:https://www.kidsburgh.org/wp-content/uploads/2020/03/Facebook_Event_Banner_1.jpg
GEO:40.3154262;-79.9943131
X-APPLE-STRUCTURED-LOCATION;VALUE=URI;X-ADDRESS=Windover HIlls Chuch 6751 Ridge Road Pittsburgh PA 15236;X-APPLE-RADIUS=500;X-TITLE=6751 Ridge Road:geo:-79.9943131,40.3154262
END:VEVENT
END:VCALENDAR