BEGIN:VCALENDAR
VERSION:2.0
PRODID:-//Kidsburgh - ECPv6.0.1.1//NONSGML v1.0//EN
CALSCALE:GREGORIAN
METHOD:PUBLISH
X-ORIGINAL-URL:https://www.kidsburgh.org
X-WR-CALDESC:Events for Kidsburgh
REFRESH-INTERVAL;VALUE=DURATION:PT1H
X-Robots-Tag:noindex
X-PUBLISHED-TTL:PT1H
BEGIN:VTIMEZONE
TZID:America/New_York
BEGIN:DAYLIGHT
TZOFFSETFROM:-0500
TZOFFSETTO:-0400
TZNAME:EDT
DTSTART:20220313T070000
END:DAYLIGHT
BEGIN:STANDARD
TZOFFSETFROM:-0400
TZOFFSETTO:-0500
TZNAME:EST
DTSTART:20221106T060000
END:STANDARD
END:VTIMEZONE
BEGIN:VEVENT
DTSTART;TZID=America/New_York:20220924T100000
DTEND;TZID=America/New_York:20220924T160000
DTSTAMP:20221005T201225
CREATED:20220918T142341Z
LAST-MODIFIED:20220918T142341Z
UID:95996-1664013600-1664035200@www.kidsburgh.org
SUMMARY:EAA Young Eagles Rally
DESCRIPTION:EAA chapter 842 and the Washington Flyers Club will be hosting a Young Eagles Rally wt the Washington County Airport from 10-4 on Saturday September 24th. Volunteer pilots will be providing FREE airplane rides to youth 8-17 years old around Washington County\, Ride will be about 20 minutes long. Parents must be present to sign the permission document. You can preregister at www.youngeaglesday.org
URL:https://www.kidsburgh.org/ec/eaa-young-eagles-rally/
LOCATION:Washington County Airport\, 600 Airport Road\, Washington\, PA\, 15301\, United States
CATEGORIES:Community
ATTACH;FMTTYPE=image/jpeg:https://www.kidsburgh.org/wp-content/uploads/2022/09/YE-KAFJ-2022-scaled.jpg
END:VEVENT
END:VCALENDAR