BEGIN:VCALENDAR
VERSION:2.0
PRODID:-//Kidsburgh - ECPv6.0.1.1//NONSGML v1.0//EN
CALSCALE:GREGORIAN
METHOD:PUBLISH
X-WR-CALNAME:Kidsburgh
X-ORIGINAL-URL:https://www.kidsburgh.org
X-WR-CALDESC:Events for Kidsburgh
REFRESH-INTERVAL;VALUE=DURATION:PT1H
X-Robots-Tag:noindex
X-PUBLISHED-TTL:PT1H
BEGIN:VTIMEZONE
TZID:America/New_York
BEGIN:DAYLIGHT
TZOFFSETFROM:-0500
TZOFFSETTO:-0400
TZNAME:EDT
DTSTART:20210314T070000
END:DAYLIGHT
BEGIN:STANDARD
TZOFFSETFROM:-0400
TZOFFSETTO:-0500
TZNAME:EST
DTSTART:20211107T060000
END:STANDARD
END:VTIMEZONE
BEGIN:VEVENT
DTSTART;TZID=America/New_York:20211022T133000
DTEND;TZID=America/New_York:20211022T143000
DTSTAMP:20221005T201824
CREATED:20211008T142340Z
LAST-MODIFIED:20211009T162106Z
UID:84006-1634909400-1634913000@www.kidsburgh.org
SUMMARY:VolunTOTS Trick or Treat with Seniors
DESCRIPTION:Come trick or treat and parade our costumes for the residents at Highland Park Care Center! This will be an OUTDOOR event for the safety of the residents and our kiddos. Have your kids wear their costumes and bring their smiles. If possible\, please bring a bag of candy for the healthcare workers to pass out. They will have treat bags for the kids\, but if we could also supply candy it would make this a lot easier on the facility.\nIf you’d like to attend\, please fill out the quick form linked below for EACH CHILD attending (3 kids = 3 separate forms)\, so they know how many treats to provide!\n\nHighland Park Care Center – Halloween Parade & Treats! Friday\, 10/22 @ 1:30PM (google.com)
URL:https://www.kidsburgh.org/ec/voluntots-trick-or-treat-with-seniors/
LOCATION:volutot\, 745 N Highland Avenue\, Pittsburgh\, PA\, 15206\, United States
CATEGORIES:Community
END:VEVENT
END:VCALENDAR