BEGIN:VCALENDAR
VERSION:2.0
PRODID:-//Kidsburgh - ECPv6.0.1.1//NONSGML v1.0//EN
CALSCALE:GREGORIAN
METHOD:PUBLISH
X-ORIGINAL-URL:https://www.kidsburgh.org
X-WR-CALDESC:Events for Kidsburgh
REFRESH-INTERVAL;VALUE=DURATION:PT1H
X-Robots-Tag:noindex
X-PUBLISHED-TTL:PT1H
BEGIN:VTIMEZONE
TZID:America/New_York
BEGIN:DAYLIGHT
TZOFFSETFROM:-0500
TZOFFSETTO:-0400
TZNAME:EDT
DTSTART:20200308T070000
END:DAYLIGHT
BEGIN:STANDARD
TZOFFSETFROM:-0400
TZOFFSETTO:-0500
TZNAME:EST
DTSTART:20201101T060000
END:STANDARD
END:VTIMEZONE
BEGIN:VEVENT
DTSTART;TZID=America/New_York:20200526T130000
DTEND;TZID=America/New_York:20200526T163000
DTSTAMP:20221005T202021
CREATED:20200519T130226Z
LAST-MODIFIED:20200519T130226Z
UID:64404-1590498000-1590510600@www.kidsburgh.org
SUMMARY:Virtual UnConference: Re-Opening to Our ‘New Normal’
DESCRIPTION:Join Trying Together for the first virtual UnConference as we dive into topics that are relevant to child care centers as they begin to re-open to a ‘new normal’ due to the effects of COVID-19. This UnConference will be hosted via Zoom. It begins with a “rapid fire” keynote by four speakers\, featuring Michelle Figlar of The Heinz Endowments\, LaTrenda Leonard Sherrill of LaTrenda Consulting (and Board Member of Trying Together)\, Muffy Mendoza of Brown Mamas\, and mental health expert Diana Schwab. The keynote is followed by two workshops diving into topics like: (1) how to create a healthy and safe environment for both the educators and the kids\, (2) how to build connections with families and the community through digital tools\, and (3) how “everyday interactions” are the foundation of learning and growing. \nEach session will have its own Zoom link which will be provided to you upon registration. Upon completion of the UnConference\, 3 hours of accredited professional development will be given. \nFor more information or to register\, visit www.tryingtogether.org.
URL:https://www.kidsburgh.org/ec/virtual-unconference-re-opening-to-our-new-normal/
LOCATION:virtual
CATEGORIES:Advocacy
ATTACH;FMTTYPE=image/jpeg:https://www.kidsburgh.org/wp-content/uploads/2020/05/Unconference-NewNormal-800_EventPageLogo.jpg
ORGANIZER;CN="Trying%20Together":MAILTO:heidi@tryingtogether.org
END:VEVENT
END:VCALENDAR