BEGIN:VCALENDAR
VERSION:2.0
PRODID:-//Kidsburgh - ECPv6.0.1.1//NONSGML v1.0//EN
CALSCALE:GREGORIAN
METHOD:PUBLISH
X-ORIGINAL-URL:https://www.kidsburgh.org
X-WR-CALDESC:Events for Kidsburgh
REFRESH-INTERVAL;VALUE=DURATION:PT1H
X-Robots-Tag:noindex
X-PUBLISHED-TTL:PT1H
BEGIN:VTIMEZONE
TZID:America/New_York
BEGIN:DAYLIGHT
TZOFFSETFROM:-0500
TZOFFSETTO:-0400
TZNAME:EDT
DTSTART:20190310T070000
END:DAYLIGHT
BEGIN:STANDARD
TZOFFSETFROM:-0400
TZOFFSETTO:-0500
TZNAME:EST
DTSTART:20191103T060000
END:STANDARD
END:VTIMEZONE
BEGIN:VEVENT
DTSTART;VALUE=DATE:20191130
DTEND;VALUE=DATE:20191201
DTSTAMP:20221005T200926
CREATED:20190911T163346Z
LAST-MODIFIED:20190911T163346Z
UID:54580-1575072000-1575158399@www.kidsburgh.org
SUMMARY:'Rudolph the Red-Nosed Reindeer: The Musical'
DESCRIPTION:Following five successful years of touring and more than 500 performances\, the “most famous reindeer of all” from the longest-running and highest-rated holiday television special will fly into Moon Township at UPMC Events Center on Saturday\, November 30 live on stage with the critically acclaimed “Rudolph the Red-Nosed Reindeer: The Musical” (www.rudolphthemusical.com). The world’s most famous reindeer and a holly jolly cast of iconic characters including Hermey the Elf\, Yukon Cornelius and the Abominable Snow Monster will help Santa save Christmas. \nTwo performances at 2 and 5 p.m. Nov. 30.
URL:https://www.kidsburgh.org/ec/rudolph-the-red-nosed-reindeer-the-musical/
LOCATION:UPMC Events Center\, 6001 University Blvd\, Moon\, PA\, 15108\, United States
GEO:40.5190748;-80.2124051
X-APPLE-STRUCTURED-LOCATION;VALUE=URI;X-ADDRESS=UPMC Events Center 6001 University Blvd Moon PA 15108 United States;X-APPLE-RADIUS=500;X-TITLE=6001 University Blvd:geo:-80.2124051,40.5190748
END:VEVENT
BEGIN:VEVENT
DTSTART;TZID=America/New_York:20191130T000000
DTEND;TZID=America/New_York:20191130T000000
DTSTAMP:20221005T200926
CREATED:20191108T233401Z
LAST-MODIFIED:20191108T233401Z
UID:56500-1575072000-1575072000@www.kidsburgh.org
SUMMARY:'Rudolph the Red-Nosed Reindeer: The Musical'
DESCRIPTION:Nov. 30: “Rudolph the Red-Nosed Reindeer: The Musical\,” UPMC Events Center\, Moon. The most famous reindeer of all will fly into Pittsburgh in a live stage show that includes Hermey the Elf\, Yukon Cornelius and the Abominable Snow Monster. \nPerformances at 2 and 5 p.m.
URL:https://www.kidsburgh.org/ec/rudolph-the-red-nosed-reindeer-the-musical-2/
LOCATION:UPMC Events Center\, 6001 University Blvd\, Moon\, PA\, 15108\, United States
CATEGORIES:Arts and Culture
GEO:40.5190748;-80.2124051
X-APPLE-STRUCTURED-LOCATION;VALUE=URI;X-ADDRESS=UPMC Events Center 6001 University Blvd Moon PA 15108 United States;X-APPLE-RADIUS=500;X-TITLE=6001 University Blvd:geo:-80.2124051,40.5190748
END:VEVENT
BEGIN:VEVENT
DTSTART;TZID=America/New_York:20190913T193000
DTEND;TZID=America/New_York:20190913T213000
DTSTAMP:20221005T200926
CREATED:20190911T163035Z
LAST-MODIFIED:20190911T163035Z
UID:54578-1568403000-1568410200@www.kidsburgh.org
SUMMARY:Cirque Dreams: Jungle Fantasy
DESCRIPTION:Directed and reimagined by renown theatrical and circus impresario Neil Goldberg\, CIRQUE DREAMS Jungle Fantasy is an exotic encounter inspired by nature’s unpredictable creations that appeared on Broadway to critical acclaim. The astounding feats performed in this action-packed adventure are enhanced with spectacular costumes nominated for an American Theatre Wing Best Costume Design Award. A wildly imaginative journey comes to life in a fantastical jungle setting filled with flowers\, majestic trees and various special effects. This world-class explosion of imagination\, athleticism and Broadway theatrics will exhilarate and entertain audiences of all ages.
URL:https://www.kidsburgh.org/ec/cirque-dreams-jungle-fantasy/
LOCATION:UPMC Events Center\, 6001 University Blvd\, Moon\, PA\, 15108\, United States
GEO:40.5190748;-80.2124051
X-APPLE-STRUCTURED-LOCATION;VALUE=URI;X-ADDRESS=UPMC Events Center 6001 University Blvd Moon PA 15108 United States;X-APPLE-RADIUS=500;X-TITLE=6001 University Blvd:geo:-80.2124051,40.5190748
END:VEVENT
END:VCALENDAR