BEGIN:VCALENDAR
VERSION:2.0
PRODID:-//Kidsburgh - ECPv6.0.1.1//NONSGML v1.0//EN
CALSCALE:GREGORIAN
METHOD:PUBLISH
X-WR-CALNAME:Kidsburgh
X-ORIGINAL-URL:https://www.kidsburgh.org
X-WR-CALDESC:Events for Kidsburgh
REFRESH-INTERVAL;VALUE=DURATION:PT1H
X-Robots-Tag:noindex
X-PUBLISHED-TTL:PT1H
BEGIN:VTIMEZONE
TZID:America/New_York
BEGIN:DAYLIGHT
TZOFFSETFROM:-0500
TZOFFSETTO:-0400
TZNAME:EDT
DTSTART:20200308T070000
END:DAYLIGHT
BEGIN:STANDARD
TZOFFSETFROM:-0400
TZOFFSETTO:-0500
TZNAME:EST
DTSTART:20201101T060000
END:STANDARD
END:VTIMEZONE
BEGIN:VEVENT
DTSTART;TZID=America/New_York:20200404T120000
DTEND;TZID=America/New_York:20200404T150000
DTSTAMP:20221005T195229
CREATED:20200306T152446Z
LAST-MODIFIED:20200306T152446Z
UID:61726-1586001600-1586012400@www.kidsburgh.org
SUMMARY:4th Annual Brookline Egg Hunt
DESCRIPTION:This event is completely FREE. \nBring your children to Tree of Life Open Bible Church in Brookline for an hour of Easter Fun! In order to provide the best event we can for the children in our community\, we are asking parents to PRE-REGISTER for the Egg Hunt. You can sign your child up here:\nhttps://treeoflife.churchcenter.com/registrations/events/373349 \nSign up for one of the three session. Each session is the same and lasts for 1 hour. During your event session\, your family will enjoy free food\, an Easter puppet show\, a photo area with props (we do not have a photographer\, please bring a camera or you can take pictures with your phone)\, and of course\, the highlight of the event\, the EGG HUNT! \nThe session will run 3 times during the day. Once from 12pm to 1pm\, again from 1pm to 2pm\, and the last session will be from 2pm to 3pm. \nPlease only register your child for ONE of the three time frames as slots are limited and we want to make space for as many children to participate as possible. \nWe are thrilled to have the opportunity to serve you this spring. We are so excited to see you and your family this Easter season!
URL:https://www.kidsburgh.org/ec/4th-annual-brookline-egg-hunt/
LOCATION:Tree of Life Open Bible Church\, 1036 Brookline Blvd.\, Pittsburgh\, PA\, 15226\, United States
CATEGORIES:Community
ATTACH;FMTTYPE=image/png:https://www.kidsburgh.org/wp-content/uploads/2020/03/614090_2.png
GEO:40.3914683;-80.0165058
X-APPLE-STRUCTURED-LOCATION;VALUE=URI;X-ADDRESS=Tree of Life Open Bible Church 1036 Brookline Blvd. Pittsburgh PA 15226 United States;X-APPLE-RADIUS=500;X-TITLE=1036 Brookline Blvd.:geo:-80.0165058,40.3914683
END:VEVENT
END:VCALENDAR