BEGIN:VCALENDAR
VERSION:2.0
PRODID:-//Kidsburgh - ECPv6.0.1.1//NONSGML v1.0//EN
CALSCALE:GREGORIAN
METHOD:PUBLISH
X-WR-CALNAME:Kidsburgh
X-ORIGINAL-URL:https://www.kidsburgh.org
X-WR-CALDESC:Events for Kidsburgh
REFRESH-INTERVAL;VALUE=DURATION:PT1H
X-Robots-Tag:noindex
X-PUBLISHED-TTL:PT1H
BEGIN:VTIMEZONE
TZID:America/New_York
BEGIN:DAYLIGHT
TZOFFSETFROM:-0500
TZOFFSETTO:-0400
TZNAME:EDT
DTSTART:20220313T070000
END:DAYLIGHT
BEGIN:STANDARD
TZOFFSETFROM:-0400
TZOFFSETTO:-0500
TZNAME:EST
DTSTART:20221106T060000
END:STANDARD
END:VTIMEZONE
BEGIN:VEVENT
DTSTART;TZID=America/New_York:20220522T100000
DTEND;TZID=America/New_York:20220522T140000
DTSTAMP:20221005T201911
CREATED:20220426T235553Z
LAST-MODIFIED:20220426T235553Z
UID:91206-1653213600-1653228000@www.kidsburgh.org
SUMMARY:Plein Air Painting along the Historic National Road
DESCRIPTION:Plein Air Painting along the Historic National Road [Arts|Outdoor Learning] \nSun\, May 22\, 10:00am-2:00pm \nAges: All Ages \nHosted by: Touchstone Center for Crafts \nPrice: $10 for under 18 and $25 for adults \nGet outside and paint! Be inspired by some of the beautiful locations along the Historic National Road. \n………………..
URL:https://www.kidsburgh.org/ec/plein-air-painting-along-the-historic-national-road/
LOCATION:Touchstone Center for Crafts\, 412 Fayette Springs Rd.\, Chalkhill
CATEGORIES:Arts and Culture,Education,Community,Remake Learning
ATTACH;FMTTYPE=image/jpeg:https://www.kidsburgh.org/wp-content/uploads/2022/04/05-22-2022_pa-southwestern_dsimpsontouchstonecrafts-org.jpg
END:VEVENT
END:VCALENDAR