BEGIN:VCALENDAR
VERSION:2.0
PRODID:-//Kidsburgh - ECPv6.0.1.1//NONSGML v1.0//EN
CALSCALE:GREGORIAN
METHOD:PUBLISH
X-WR-CALNAME:Kidsburgh
X-ORIGINAL-URL:https://www.kidsburgh.org
X-WR-CALDESC:Events for Kidsburgh
REFRESH-INTERVAL;VALUE=DURATION:PT1H
X-Robots-Tag:noindex
X-PUBLISHED-TTL:PT1H
BEGIN:VTIMEZONE
TZID:America/New_York
BEGIN:DAYLIGHT
TZOFFSETFROM:-0500
TZOFFSETTO:-0400
TZNAME:EDT
DTSTART:20190310T070000
END:DAYLIGHT
BEGIN:STANDARD
TZOFFSETFROM:-0400
TZOFFSETTO:-0500
TZNAME:EST
DTSTART:20191103T060000
END:STANDARD
END:VTIMEZONE
BEGIN:VEVENT
DTSTART;TZID=America/New_York:20191027T180000
DTEND;TZID=America/New_York:20191027T210000
DTSTAMP:20221005T202001
CREATED:20191030T184922Z
LAST-MODIFIED:20191030T184922Z
UID:56181-1572199200-1572210000@www.kidsburgh.org
SUMMARY:M.A.G.P.I.E. Night
DESCRIPTION:MAGPIE is Musical Associates Giving People Inspiring Experiences! Visit Topgolf PGH for a FUN night of live music\, a local artist gallery\, children’s activities\, a s’mores bar\, and a costume contest with prizes donated by local businesses (Empire Music\, Johnstonbaugh’s Music\, and The Gifted)\, and more surprises! Admission is free\, musicians are welcome to join in! 6-9 pm 10/27
URL:https://www.kidsburgh.org/ec/m-a-g-p-i-e-night/
LOCATION:topgolf\, 400 Presto-Sygan Road\, Bridgeville\, PA\, 15017\, United States
CATEGORIES:Arts and Culture,Community
ATTACH;FMTTYPE=image/jpeg:https://www.kidsburgh.org/wp-content/uploads/2019/10/B893659F-DC66-486D-AFC1-C3A726CD554B-e1572621228891.jpeg
ORGANIZER;CN="Topgolf":MAILTO:tabitha.sloane@topgolf.com
GEO:40.3667049;-80.1230557
X-APPLE-STRUCTURED-LOCATION;VALUE=URI;X-ADDRESS=topgolf 400 Presto-Sygan Road Bridgeville PA 15017 United States;X-APPLE-RADIUS=500;X-TITLE=400 Presto-Sygan Road:geo:-80.1230557,40.3667049
END:VEVENT
BEGIN:VEVENT
DTSTART;TZID=America/New_York:20190729T083000
DTEND;TZID=America/New_York:20190729T123000
DTSTAMP:20221005T202001
CREATED:20190725T165833Z
LAST-MODIFIED:20190725T165833Z
UID:53780-1564389000-1564403400@www.kidsburgh.org
SUMMARY:Topgolf Kids Summer Academy
DESCRIPTION:The Topgolf Kids Summer Academy is five days of non-stop entertainment and learning that kids will love. The program includes all of the components that make up the great game of golf. From chipping\, putting and full swing\, to the rules and etiquette\, kids will learn everything they need to know to improve their game. Each Academy is designed and taught by our Golf Teaching Professionals in a fun\, relaxed atmosphere. Summer Academy is staffed with a low student-to-instructor ratio to ensure each Junior Golfer receives in-depth\, hands-on attention while he or she develops a winning golf swing. Register your child(ren) today! \nCamp runs from July 29-Aug. 2. \n$199 PER CHILD | ONE REGISTRATION INCLUDES: \n\nEntry to the Academy\nTopgolf Game Play and Golf Instruction\nLunch\nTopgolf Gifts\nCertificate of Completion\n\nDAILY SCHEDULE: \n\n8:30 to 9:00 a.m. – Child drop off\n9:00 a.m. – Academy begins\n11:00 to 11:30 a.m. – Lunch\n12:00 to 12:15 p.m. – Child pick up\n\nAGE LIMIT: \nThis program is designed for children between the ages of 5-13 years old.
URL:https://www.kidsburgh.org/ec/topgolf-kids-summer-academy/
LOCATION:topgolf\, 400 Presto-Sygan Road\, Bridgeville\, PA\, 15017\, United States
CATEGORIES:Education
ATTACH;FMTTYPE=image/jpeg:https://www.kidsburgh.org/wp-content/uploads/2019/07/Venue-e1565017574993.jpg
ORGANIZER;CN="Topgolf":MAILTO:tabitha.sloane@topgolf.com
GEO:40.3667049;-80.1230557
X-APPLE-STRUCTURED-LOCATION;VALUE=URI;X-ADDRESS=topgolf 400 Presto-Sygan Road Bridgeville PA 15017 United States;X-APPLE-RADIUS=500;X-TITLE=400 Presto-Sygan Road:geo:-80.1230557,40.3667049
END:VEVENT
END:VCALENDAR