BEGIN:VCALENDAR
VERSION:2.0
PRODID:-//Kidsburgh - ECPv6.0.1.1//NONSGML v1.0//EN
CALSCALE:GREGORIAN
METHOD:PUBLISH
X-WR-CALNAME:Kidsburgh
X-ORIGINAL-URL:https://www.kidsburgh.org
X-WR-CALDESC:Events for Kidsburgh
REFRESH-INTERVAL;VALUE=DURATION:PT1H
X-Robots-Tag:noindex
X-PUBLISHED-TTL:PT1H
BEGIN:VTIMEZONE
TZID:America/New_York
BEGIN:DAYLIGHT
TZOFFSETFROM:-0500
TZOFFSETTO:-0400
TZNAME:EDT
DTSTART:20220313T070000
END:DAYLIGHT
BEGIN:STANDARD
TZOFFSETFROM:-0400
TZOFFSETTO:-0500
TZNAME:EST
DTSTART:20221106T060000
END:STANDARD
END:VTIMEZONE
BEGIN:VEVENT
DTSTART;TZID=America/New_York:20220521T100000
DTEND;TZID=America/New_York:20220521T150000
DTSTAMP:20221005T195035
CREATED:20220426T224038Z
LAST-MODIFIED:20220426T224038Z
UID:91144-1653127200-1653145200@www.kidsburgh.org
SUMMARY:Remake Learning Days at The Westmoreland
DESCRIPTION:  \n  \nEngage in interactive activities at the gallery such as creative writing\, self-guided tour and finder guide\, imaginative play and empathy with emojis. Enjoy a fun day of learning and explore the Museum! \n 
URL:https://www.kidsburgh.org/ec/remake-learning-days-at-the-westmoreland/
LOCATION:The Westmoreland Museum of American Art\, 221 N. Main St\, Greensburg\, PA\, 15222\, United States
CATEGORIES:Education,Community,Remake Learning
ATTACH;FMTTYPE=image/jpeg:https://www.kidsburgh.org/wp-content/uploads/2022/04/05-21-2022_pa-southwestern_the-westmoreland-museum-of-american-art-scaled.jpg
END:VEVENT
END:VCALENDAR