BEGIN:VCALENDAR
VERSION:2.0
PRODID:-//Kidsburgh - ECPv6.0.1.1//NONSGML v1.0//EN
CALSCALE:GREGORIAN
METHOD:PUBLISH
X-ORIGINAL-URL:https://www.kidsburgh.org
X-WR-CALDESC:Events for Kidsburgh
REFRESH-INTERVAL;VALUE=DURATION:PT1H
X-Robots-Tag:noindex
X-PUBLISHED-TTL:PT1H
BEGIN:VTIMEZONE
TZID:America/New_York
BEGIN:DAYLIGHT
TZOFFSETFROM:-0500
TZOFFSETTO:-0400
TZNAME:EDT
DTSTART:20210314T070000
END:DAYLIGHT
BEGIN:STANDARD
TZOFFSETFROM:-0400
TZOFFSETTO:-0500
TZNAME:EST
DTSTART:20211107T060000
END:STANDARD
END:VTIMEZONE
BEGIN:VEVENT
DTSTART;TZID=America/New_York:20210608T130000
DTEND;TZID=America/New_York:20210608T200000
DTSTAMP:20221005T195355
CREATED:20210607T214759Z
LAST-MODIFIED:20210607T215118Z
UID:79298-1623157200-1623182400@www.kidsburgh.org
SUMMARY:Jurassic Quest Drive-Thru
DESCRIPTION:Jurassic Quest Drive-Thru\, The Pavilion at Star Lake: June 4-20\nYour dinosaur-crazed kids will love the Jurassic Quest Drive-Thru when it makes a Pittsburgh stop during its national tour. More than 70 animatronic dinosaurs will make their home at The Pavilion at Star Lake from June 4-20. Along with a fierce T. Rex\, the “sail-backed” Spinosaurus and an intimidating Triceratops\, adorable baby dinosaurs will offer a smiling welcome. An audio guide will offer informative background on the creatures through the 60-minute tour. Dino wranglers will stop by your car for more personal interactions. Boost the kids’ anticipation by downloading free Jurassic Quest activities like a coloring book\, word search and foldable projects. Ticket prices range from $39-$80 per car\, depending on the date and vehicle size. Each vehicle will receive a free safari-style photo with a dinosaur backdrop to keep as a souvenir. \nHours: \nWednesday 1pm-8pm\nThursday 9am-8pm\nFriday 9am-8pm\nSaturday 9am-9pm\nSunday 9am-8pm
URL:https://www.kidsburgh.org/ec/jurassic-quest-drive-thru/2021-06-08/
LOCATION:The Pavillion at Star Lake\, 665 Route 8\, Burgetestown\, 15201
END:VEVENT
END:VCALENDAR