BEGIN:VCALENDAR
VERSION:2.0
PRODID:-//Kidsburgh - ECPv6.0.1.1//NONSGML v1.0//EN
CALSCALE:GREGORIAN
METHOD:PUBLISH
X-WR-CALNAME:Kidsburgh
X-ORIGINAL-URL:https://www.kidsburgh.org
X-WR-CALDESC:Events for Kidsburgh
REFRESH-INTERVAL;VALUE=DURATION:PT1H
X-Robots-Tag:noindex
X-PUBLISHED-TTL:PT1H
BEGIN:VTIMEZONE
TZID:America/New_York
BEGIN:DAYLIGHT
TZOFFSETFROM:-0500
TZOFFSETTO:-0400
TZNAME:EDT
DTSTART:20220313T070000
END:DAYLIGHT
BEGIN:STANDARD
TZOFFSETFROM:-0400
TZOFFSETTO:-0500
TZNAME:EST
DTSTART:20221106T060000
END:STANDARD
END:VTIMEZONE
BEGIN:VEVENT
DTSTART;TZID=America/New_York:20220616T100000
DTEND;TZID=America/New_York:20220619T143000
DTSTAMP:20221005T202249
CREATED:20220520T204447Z
LAST-MODIFIED:20220520T204447Z
UID:91616-1655373600-1655649000@www.kidsburgh.org
SUMMARY:Prime Stage Theatre Sprouts presents The Amazing Lemonade Girl
DESCRIPTION:A true story inspired by the life of Alexandra Flynn Scott\nby James DeVita with the permission of Alex’s Lemonade Stand Foundation\nDirected by Allison Weakland \nAlex Scott wasn’t going to let her rare childhood illness get her down — she started a frontyard lemonade stand to raise funds to help other kids. Based on the book written by her parents\, this regional premiere shows how a single person can change the world one act\, or even one cup at a time. Watch as her noble efforts inspire donations of over $1 million dollars and a foundation that has raised $200 million and funded over 1\,000 medical research projects for children’s health. \nThe Run Time: Approximately 60 minutes without an intermission\nAge Recommendation: Suggested for families with children between 5 and 11 years old
URL:https://www.kidsburgh.org/ec/prime-stage-theatre-sprouts-presents-the-amazing-lemonade-girl/2022-06-16/
LOCATION:The Hazlett Theater\, 6 Allegheny Square East\, Pittsburgh\, PA\, 15212\, United States
ATTACH;FMTTYPE=image/jpeg:https://www.kidsburgh.org/wp-content/uploads/2022/05/Sprouts.jpg
END:VEVENT
END:VCALENDAR