BEGIN:VCALENDAR
VERSION:2.0
PRODID:-//Kidsburgh - ECPv6.0.1.1//NONSGML v1.0//EN
CALSCALE:GREGORIAN
METHOD:PUBLISH
X-ORIGINAL-URL:https://www.kidsburgh.org
X-WR-CALDESC:Events for Kidsburgh
REFRESH-INTERVAL;VALUE=DURATION:PT1H
X-Robots-Tag:noindex
X-PUBLISHED-TTL:PT1H
BEGIN:VTIMEZONE
TZID:America/New_York
BEGIN:DAYLIGHT
TZOFFSETFROM:-0500
TZOFFSETTO:-0400
TZNAME:EDT
DTSTART:20220313T070000
END:DAYLIGHT
BEGIN:STANDARD
TZOFFSETFROM:-0400
TZOFFSETTO:-0500
TZNAME:EST
DTSTART:20221106T060000
END:STANDARD
END:VTIMEZONE
BEGIN:VEVENT
DTSTART;TZID=America/New_York:20220703T090000
DTEND;TZID=America/New_York:20220703T150000
DTSTAMP:20221005T201927
CREATED:20220614T171915Z
LAST-MODIFIED:20220614T171915Z
UID:92766-1656838800-1656860400@www.kidsburgh.org
SUMMARY:Pittsburgh Reptile Show & Sale July 3rd
DESCRIPTION:At our REPTIROOTS events vendors will bring a large selection of reptiles\, amphibians\, birds\, inverts\, small & furry friends\, feeders\, supplies\, and more. Guests will have the opportunity to learn about\, see\, or purchase animals not normally seen in local pet shops. Vendors are always willing to teach guests about their animals and many of our vendors allow live hands on interactions with their animals. Guest can shop for their new family pet among the thousands of exotic animals at the event. Reptiroots events are also the perfect place to get discounted merchandise\, cages\, supplies\, and both live and frozen feeders\, for your pets. \nMeet up with other animal lovers who share your passion\, explore different tables\, and chat with different breeders.
URL:https://www.kidsburgh.org/ec/pittsburgh-reptile-show-sale-july-3rd/
LOCATION:The Harmar House\, 1321 Freeport Rd.\, Cheswick\, PA\, 15024\, United States
ATTACH;FMTTYPE=image/jpeg:https://www.kidsburgh.org/wp-content/uploads/2022/06/pittsburgh.jpg
ORGANIZER;CN="ReptiRoots%20Reptile%20Expos":MAILTO:pghreptileshow@gmail.com
END:VEVENT
BEGIN:VEVENT
DTSTART;TZID=America/New_York:20220403T090000
DTEND;TZID=America/New_York:20220403T150000
DTSTAMP:20221005T201927
CREATED:20220328T122603Z
LAST-MODIFIED:20220328T122603Z
UID:89683-1648976400-1648998000@www.kidsburgh.org
SUMMARY:Pittsburgh Reptile Show & Sale April 3rd
DESCRIPTION:Pittsburgh Reptile Show & Sale \nSunday April 3rd \nTime: 9-3pm \n@ The Harmar House 1321 Freeport rd. Cheswick Pa 15024 \nWHAT: \nAt the Pittsburgh Reptile show & Sale\,  vendors will bring a large selection of reptiles\, amphibians\, birds\, inverts\, small & furry friends\, feeders\, supplies\, and more. Guests will have the opportunity to learn about\, see\, or purchase animals not normally seen in local pet shops. \nVendors are always willing to teach guests about their animals and many of our vendors allow live hands on interactions with their animals. Guest can shop for their new family pet among the thousands of exotic animals at the event. \nReptiroots events are also the perfect place to get discounted merchandise\, cages\, supplies\, and both live and frozen feeders\, for your pets. \nMeet up with other animal lovers who share your passion\, explore different tables\, and chat with different breeders. \nMore info  Call 724-516-0441 or Check out our Website or FB page
URL:https://www.kidsburgh.org/ec/pittsburgh-reptile-show-sale-april-3rd/
LOCATION:The Harmar House\, 1321 Freeport Rd.\, Cheswick\, PA\, 15024\, United States
ATTACH;FMTTYPE=image/jpeg:https://www.kidsburgh.org/wp-content/uploads/2022/03/April.jpg
ORGANIZER;CN="ReptiRoots%20Reptile%20Expos":MAILTO:pghreptileshow@gmail.com
END:VEVENT
END:VCALENDAR