BEGIN:VCALENDAR
VERSION:2.0
PRODID:-//Kidsburgh - ECPv6.0.1.1//NONSGML v1.0//EN
CALSCALE:GREGORIAN
METHOD:PUBLISH
X-ORIGINAL-URL:https://www.kidsburgh.org
X-WR-CALDESC:Events for Kidsburgh
REFRESH-INTERVAL;VALUE=DURATION:PT1H
X-Robots-Tag:noindex
X-PUBLISHED-TTL:PT1H
BEGIN:VTIMEZONE
TZID:America/New_York
BEGIN:DAYLIGHT
TZOFFSETFROM:-0500
TZOFFSETTO:-0400
TZNAME:EDT
DTSTART:20200308T070000
END:DAYLIGHT
BEGIN:STANDARD
TZOFFSETFROM:-0400
TZOFFSETTO:-0500
TZNAME:EST
DTSTART:20201101T060000
END:STANDARD
END:VTIMEZONE
BEGIN:VEVENT
DTSTART;TZID=America/New_York:20200717T100000
DTEND;TZID=America/New_York:20200717T140000
DTSTAMP:20221005T195438
CREATED:20200618T174205Z
LAST-MODIFIED:20200618T174205Z
UID:66194-1594980000-1594994400@www.kidsburgh.org
SUMMARY:Summer Immunization Clinic in Crafton Heights
DESCRIPTION:Summer Immunization Clinic at The First United Presbyterian Church of Crafton Heights \nUPMC Children’s Hospital\, UPMC Children’s Community Pediatrics and Ronald McDonald House Charities of Pittsburgh and Morgantown are partnering to bring needed vaccines\, safely\, to western Pennsylvania communities. In addition to providing vaccinations to children ages 2 months through high school\, staff will assist with WIC form completion. Children who receive immunizations will also receive health and safety information\, kindergarten registration information and activity bags full of at-home activities for summertime.
URL:https://www.kidsburgh.org/ec/summer-immunization-clinic-in-crafton-heights-2/
LOCATION:The First United Presbyterian Church of Crafton Heights\, 50 Stratmore Ave\, Pittsburgh\, PA\, 15205\, United States
CATEGORIES:Health and Wellness
ATTACH;FMTTYPE=image/jpeg:https://www.kidsburgh.org/wp-content/uploads/2020/06/CM-Flier-Page-1-4-scaled.jpg
GEO:40.4387689;-80.0555607
X-APPLE-STRUCTURED-LOCATION;VALUE=URI;X-ADDRESS=The First United Presbyterian Church of Crafton Heights 50 Stratmore Ave Pittsburgh PA 15205 United States;X-APPLE-RADIUS=500;X-TITLE=50 Stratmore Ave:geo:-80.0555607,40.4387689
END:VEVENT
BEGIN:VEVENT
DTSTART;TZID=America/New_York:20200629T100000
DTEND;TZID=America/New_York:20200629T140000
DTSTAMP:20221005T195438
CREATED:20200618T174105Z
LAST-MODIFIED:20200618T174105Z
UID:66190-1593424800-1593439200@www.kidsburgh.org
SUMMARY:Summer Immunization Clinic in Crafton Heights
DESCRIPTION:Summer Immunization Clinic at The First United Presbyterian Church of Crafton Heights \nUPMC Children’s Hospital\, UPMC Children’s Community Pediatrics and Ronald McDonald House Charities of Pittsburgh and Morgantown are partnering to bring needed vaccines\, safely\, to western Pennsylvania communities. In addition to providing vaccinations to children ages 2 months through high school\, staff will assist with WIC form completion. Children who receive immunizations will also receive health and safety information\, kindergarten registration information and activity bags full of at-home activities for summertime.
URL:https://www.kidsburgh.org/ec/summer-immunization-clinic-in-crafton-heights/
LOCATION:The First United Presbyterian Church of Crafton Heights\, 50 Stratmore Ave\, Pittsburgh\, PA\, 15205\, United States
CATEGORIES:Health and Wellness
ATTACH;FMTTYPE=image/jpeg:https://www.kidsburgh.org/wp-content/uploads/2020/06/CM-Flier-Page-1-3-scaled.jpg
GEO:40.4387689;-80.0555607
X-APPLE-STRUCTURED-LOCATION;VALUE=URI;X-ADDRESS=The First United Presbyterian Church of Crafton Heights 50 Stratmore Ave Pittsburgh PA 15205 United States;X-APPLE-RADIUS=500;X-TITLE=50 Stratmore Ave:geo:-80.0555607,40.4387689
END:VEVENT
END:VCALENDAR