BEGIN:VCALENDAR
VERSION:2.0
PRODID:-//Kidsburgh - ECPv6.0.1.1//NONSGML v1.0//EN
CALSCALE:GREGORIAN
METHOD:PUBLISH
X-WR-CALNAME:Kidsburgh
X-ORIGINAL-URL:https://www.kidsburgh.org
X-WR-CALDESC:Events for Kidsburgh
REFRESH-INTERVAL;VALUE=DURATION:PT1H
X-Robots-Tag:noindex
X-PUBLISHED-TTL:PT1H
BEGIN:VTIMEZONE
TZID:America/New_York
BEGIN:DAYLIGHT
TZOFFSETFROM:-0500
TZOFFSETTO:-0400
TZNAME:EDT
DTSTART:20190310T070000
END:DAYLIGHT
BEGIN:STANDARD
TZOFFSETFROM:-0400
TZOFFSETTO:-0500
TZNAME:EST
DTSTART:20191103T060000
END:STANDARD
BEGIN:DAYLIGHT
TZOFFSETFROM:-0500
TZOFFSETTO:-0400
TZNAME:EDT
DTSTART:20200308T070000
END:DAYLIGHT
BEGIN:STANDARD
TZOFFSETFROM:-0400
TZOFFSETTO:-0500
TZNAME:EST
DTSTART:20201101T060000
END:STANDARD
END:VTIMEZONE
BEGIN:VEVENT
DTSTART;TZID=America/New_York:20200207T180000
DTEND;TZID=America/New_York:20200207T210000
DTSTAMP:20221005T201214
CREATED:20191219T175819Z
LAST-MODIFIED:20191219T175819Z
UID:58106-1581098400-1581109200@www.kidsburgh.org
SUMMARY:Special Needs Valentine's Dance
DESCRIPTION:Many individuals with developmental disabilities and special needs have a great desire to enjoy the same kinds of fun events that typical developing people their age enjoy but often either don’t get the opportunity because these events can be extremely overwhelming to their senses. The music is too loud\, the lights are too bright and there’s too many people. A special event at Sugar Plum Parties can offer the same awesome experience\, in a controlled environment. Guests can come in their best dresses and ties to enjoy music and refreshments. Sound and lights can be adjusted as needed. Sugar Plum hosts will serve refreshments and lead the guests in all their favorite dances. Register now and reserve your spot. Please make us aware of any allergies we can accommodate. Only $20 a person or $30 a couple (any caretakers or staff with the attendee has no cost).
URL:https://www.kidsburgh.org/ec/special-needs-valentines-dance/
LOCATION:sugar plum parties\, 1770 Golden Mile Highway\, Monroeville\, PA\, 15146\, United States
CATEGORIES:Community
ATTACH;FMTTYPE=image/jpeg:https://www.kidsburgh.org/wp-content/uploads/2019/12/special-needs-valentines-day-e1576779026159.jpg
ORGANIZER;CN="sugar%20plum%20parties":MAILTO:pghpartyplanning@gmail.com
GEO:40.4450973;-79.7129673
X-APPLE-STRUCTURED-LOCATION;VALUE=URI;X-ADDRESS=sugar plum parties 1770 Golden Mile Highway Monroeville PA 15146 United States;X-APPLE-RADIUS=500;X-TITLE=1770 Golden Mile Highway:geo:-79.7129673,40.4450973
END:VEVENT
BEGIN:VEVENT
DTSTART;TZID=America/New_York:20200202T110000
DTEND;TZID=America/New_York:20200202T123000
DTSTAMP:20221005T201214
CREATED:20191219T175750Z
LAST-MODIFIED:20191219T175750Z
UID:58104-1580641200-1580646600@www.kidsburgh.org
SUMMARY:Fairy Etiquette Brunch
DESCRIPTION:Come down to Sugar Plum for a fun filled day with The Sugar Plum Fairy! Start the day off by getting in a pretty fairy dress with your very own wings. Get a sparkly manicure and a fancy hairdo. Then have a beautiful tea party and learn all about proper etiquette. Reserve your spot ahead of time and let us know if there are any allergies we can accommodate. All beverages and snacks will be provided. Only $25 a child.
URL:https://www.kidsburgh.org/ec/fairy-etiquette-brunch/
LOCATION:sugar plum parties\, 1770 Golden Mile Highway\, Monroeville\, PA\, 15146\, United States
CATEGORIES:Community
ATTACH;FMTTYPE=image/jpeg:https://www.kidsburgh.org/wp-content/uploads/2019/12/fairy-etiquette-scaled.jpg
ORGANIZER;CN="sugar%20plum%20parties":MAILTO:pghpartyplanning@gmail.com
GEO:40.4450973;-79.7129673
X-APPLE-STRUCTURED-LOCATION;VALUE=URI;X-ADDRESS=sugar plum parties 1770 Golden Mile Highway Monroeville PA 15146 United States;X-APPLE-RADIUS=500;X-TITLE=1770 Golden Mile Highway:geo:-79.7129673,40.4450973
END:VEVENT
BEGIN:VEVENT
DTSTART;TZID=America/New_York:20200201T120000
DTEND;TZID=America/New_York:20200201T130000
DTSTAMP:20221005T201214
CREATED:20191219T175724Z
LAST-MODIFIED:20191219T175724Z
UID:58102-1580558400-1580562000@www.kidsburgh.org
SUMMARY:Rockstar Party
DESCRIPTION:Do you love to rock out? Come down to Sugar Plum and become a Rockstar for the day! We will have Rockstar tutu’s\, sparkly manicures and hairdos for girls and temporary tattoos and hair color spray for boys!  Register now and reserve your spot. Please make us aware of any allergies we can accommodate. Only $20 per child.
URL:https://www.kidsburgh.org/ec/rockstar-party/
LOCATION:sugar plum parties\, 1770 Golden Mile Highway\, Monroeville\, PA\, 15146\, United States
CATEGORIES:Community
ATTACH;FMTTYPE=image/jpeg:https://www.kidsburgh.org/wp-content/uploads/2019/12/rockstar-party-e1576779052786.jpg
ORGANIZER;CN="sugar%20plum%20parties":MAILTO:pghpartyplanning@gmail.com
GEO:40.4450973;-79.7129673
X-APPLE-STRUCTURED-LOCATION;VALUE=URI;X-ADDRESS=sugar plum parties 1770 Golden Mile Highway Monroeville PA 15146 United States;X-APPLE-RADIUS=500;X-TITLE=1770 Golden Mile Highway:geo:-79.7129673,40.4450973
END:VEVENT
BEGIN:VEVENT
DTSTART;TZID=America/New_York:20200120T093000
DTEND;TZID=America/New_York:20200120T140000
DTSTAMP:20221005T201214
CREATED:20191219T175349Z
LAST-MODIFIED:20191219T175349Z
UID:58099-1579512600-1579528800@www.kidsburgh.org
SUMMARY:MLK Day Camp at Sugar Plum
DESCRIPTION:Need a fun activity for the kids on their day off school? Bring them down to Sugar Plum for a drop off day full of fun activities. Start the morning off for drop off at 9:30 am. We will get the girls fancy princess dresses and the boys pirate costumes or superhero capes. They will get fancy hairdo’s\, sparkly manicures\, and fun temporary tattoos. We have a fun day planned filled with STEM activities\, singing\, dancing\, crafts\, games\, and even some cartoon! Pick up will be at 2:00 pm. Late pickup will be available for an extra fee. All ages and genders al welcome. Reserve your spot ahead of time and let us know if there are any allergies we can accommodate. All beverages and snacks will be provided. Only $50 a child.
URL:https://www.kidsburgh.org/ec/mlk-day-camp-at-sugar-plum/
LOCATION:sugar plum parties\, 1770 Golden Mile Highway\, Monroeville\, PA\, 15146\, United States
CATEGORIES:Education,Community
ATTACH;FMTTYPE=image/jpeg:https://www.kidsburgh.org/wp-content/uploads/2019/12/MLK-day-camp.jpg
ORGANIZER;CN="sugar%20plum%20parties":MAILTO:pghpartyplanning@gmail.com
GEO:40.4450973;-79.7129673
X-APPLE-STRUCTURED-LOCATION;VALUE=URI;X-ADDRESS=sugar plum parties 1770 Golden Mile Highway Monroeville PA 15146 United States;X-APPLE-RADIUS=500;X-TITLE=1770 Golden Mile Highway:geo:-79.7129673,40.4450973
END:VEVENT
BEGIN:VEVENT
DTSTART;TZID=America/New_York:20200112T100000
DTEND;TZID=America/New_York:20200112T110000
DTSTAMP:20221005T201214
CREATED:20191219T174930Z
LAST-MODIFIED:20191219T174930Z
UID:58091-1578823200-1578826800@www.kidsburgh.org
SUMMARY:Royal Dance Party
DESCRIPTION:Make your prince or princess dreams come true with us at Sugar Plum and become a real prince\, knight\, pirate\, princess\, diva\, or anyone you want to be. Helping you reach your royalty dreams will be The Frost Queen herself and her mischievous little sister\, and our very own Sugar Plum Fairy. With a fancy hairdo\, a sparkly manicure or temporary tattoo\, and an awesome costume to match\, come down to sugar plum to dance the night away with us and our special guests. Only $20 a child.
URL:https://www.kidsburgh.org/ec/royal-dance-party/
LOCATION:sugar plum parties\, 1770 Golden Mile Highway\, Monroeville\, PA\, 15146\, United States
CATEGORIES:Community
ATTACH;FMTTYPE=image/jpeg:https://www.kidsburgh.org/wp-content/uploads/2019/12/royal-dance-party-scaled.jpg
ORGANIZER;CN="sugar%20plum%20parties":MAILTO:pghpartyplanning@gmail.com
GEO:40.4450973;-79.7129673
X-APPLE-STRUCTURED-LOCATION;VALUE=URI;X-ADDRESS=sugar plum parties 1770 Golden Mile Highway Monroeville PA 15146 United States;X-APPLE-RADIUS=500;X-TITLE=1770 Golden Mile Highway:geo:-79.7129673,40.4450973
END:VEVENT
BEGIN:VEVENT
DTSTART;TZID=America/New_York:20191222T110000
DTEND;TZID=America/New_York:20191222T123000
DTSTAMP:20221005T201214
CREATED:20191219T174635Z
LAST-MODIFIED:20191219T174635Z
UID:58079-1577012400-1577017800@www.kidsburgh.org
SUMMARY:Sugar Plum Holiday Celebration
DESCRIPTION:Celebrate Hanukkah and Christmas here with us here at Sugar Plum! We will be making a fun Hanukkah craft and DIY Christmas ornaments. Girls can get sparkly manicures and fancy hairdo’s and for the boys\, we have temporary tattoos and fun color hair spray. Color themed coloring pages and put your hand print up on our window mural. Come celebrate with us on December 22nd at 11:00 am. Please register ahead of time and let us know of any allergies we can accommodate. All ages and genders are welcome! Only $20 a child
URL:https://www.kidsburgh.org/ec/sugar-plum-holiday-celebration/
LOCATION:sugar plum parties\, 1770 Golden Mile Highway\, Monroeville\, PA\, 15146\, United States
CATEGORIES:Community
ATTACH;FMTTYPE=image/jpeg:https://www.kidsburgh.org/wp-content/uploads/2019/12/winter-holiday-celebration.jpg
ORGANIZER;CN="sugar%20plum%20parties":MAILTO:pghpartyplanning@gmail.com
GEO:40.4450973;-79.7129673
X-APPLE-STRUCTURED-LOCATION;VALUE=URI;X-ADDRESS=sugar plum parties 1770 Golden Mile Highway Monroeville PA 15146 United States;X-APPLE-RADIUS=500;X-TITLE=1770 Golden Mile Highway:geo:-79.7129673,40.4450973
END:VEVENT
END:VCALENDAR