BEGIN:VCALENDAR
VERSION:2.0
PRODID:-//Kidsburgh - ECPv6.0.1.1//NONSGML v1.0//EN
CALSCALE:GREGORIAN
METHOD:PUBLISH
X-WR-CALNAME:Kidsburgh
X-ORIGINAL-URL:https://www.kidsburgh.org
X-WR-CALDESC:Events for Kidsburgh
REFRESH-INTERVAL;VALUE=DURATION:PT1H
X-Robots-Tag:noindex
X-PUBLISHED-TTL:PT1H
BEGIN:VTIMEZONE
TZID:America/New_York
BEGIN:DAYLIGHT
TZOFFSETFROM:-0500
TZOFFSETTO:-0400
TZNAME:EDT
DTSTART:20220313T070000
END:DAYLIGHT
BEGIN:STANDARD
TZOFFSETFROM:-0400
TZOFFSETTO:-0500
TZNAME:EST
DTSTART:20221106T060000
END:STANDARD
END:VTIMEZONE
BEGIN:VEVENT
DTSTART;TZID=America/New_York:20220423T113000
DTEND;TZID=America/New_York:20220423T210000
DTSTAMP:20221005T195644
CREATED:20220408T222840Z
LAST-MODIFIED:20220408T222840Z
UID:90223-1650713400-1650747600@www.kidsburgh.org
SUMMARY:Pittsburgh Mac and Cheese Festival
DESCRIPTION:It’s Here – The Cheesiesst Event Pittsburgh Has Ever Seen…\nPittsburgh Mac and Cheese Festival –\nWe’re Coming to Strip District Terminal – Don’t Miss If You’re Cheeesay!\nTop Chefs\, Food Trucks and Food Vendors Serving up the World’s Most Amazing (and Cheesiest!) Dish – America’s Own Mac and Cheese! More than just a Food Festival\, we’ll also have an amazing selection of Craft Beers\, wines and ciders to sample. You’ll get \n\nOver 30 Kinds of Mac and Cheese to sample from top chefs and food vendors\nGreat wines and ciders to sample\nLive Bands and Entertainment\nGet to Vote for Pittsburgh’s Best Mac and Cheese!\n\nWe expect this event to Sell Out fast\, so get your tickets and get ready to taste the most fantastic thing ever created on this Great Earth. Cheesey\, Gooey\, Over-the-top Macaroni presentations…As Ben Franklin once said “Macaroni is what makes this Nation Great!” – well\, we’re not sure about the quote – but do you really want to miss this?? \nYou Must be 21 or older to consume alcohol and must bring a valid ID – Children 12 years old and under get Free Admission.
URL:https://www.kidsburgh.org/ec/pittsburgh-mac-and-cheese-festival-3/
LOCATION:Strip District Terminal\, 2101 Smallman St\, Pittsburgh\, PA\, 15222\, United States
CATEGORIES:Community
ATTACH;FMTTYPE=image/jpeg:https://www.kidsburgh.org/wp-content/uploads/2022/04/mac-and-cheese.jpg
END:VEVENT
BEGIN:VEVENT
DTSTART;TZID=America/New_York:20220423T113000
DTEND;TZID=America/New_York:20220423T210000
DTSTAMP:20221005T195644
CREATED:20220301T151857Z
LAST-MODIFIED:20220301T151857Z
UID:88141-1650713400-1650747600@www.kidsburgh.org
SUMMARY:Pittsburgh Mac and Cheese Festival
DESCRIPTION:It’s Here – The Cheesiesst Event Pittsburgh Has Ever Seen…Pittsburgh Mac and Cheese Festival -We’re Coming to Strip District Terminal – Don’t Miss If You’re Cheeesay!Top Chefs\, Food Trucks and Food Vendors Serving up the World’s Most Amazing (and Cheesiest!) Dish – America’s Own Mac and Cheese! More than just a Food Festival\, we’ll also have an amazing selection of Craft Beers\, wines and ciders to sample. You’ll get\nOver 30 Kinds of Mac and Cheese to sample from top chefs and food vendorsGreat wines and ciders to sampleLive Bands and EntertainmentGet to Vote for Pittsburgh’s Best Mac and Cheese!We expect this event to Sell Out fast\, so get your tickets and get ready to taste the most fantastic thing ever created on this Great Earth. Cheesey\, Gooey\, Over-the-top Macaroni presentations…As Ben Franklin once said “Macaroni is what makes this Nation Great!” – well\, we’re not sure about the quote – but do you really want to miss this??\nYou Must be 21 or older to consume alcohol and must bring a valid ID – Children 12 years old and under get Free Admission.
URL:https://www.kidsburgh.org/ec/pittsburgh-mac-and-cheese-festival-2/
LOCATION:Strip District Terminal\, 2101 Smallman St\, Pittsburgh\, PA\, 15222\, United States
CATEGORIES:Health and Wellness
ATTACH;FMTTYPE=image/jpeg:https://www.kidsburgh.org/wp-content/uploads/2022/02/download.jpg
ORGANIZER;CN="TasteUSA%20Festival%20Management":MAILTO:taste@tasteusa.com
END:VEVENT
END:VCALENDAR