BEGIN:VCALENDAR
VERSION:2.0
PRODID:-//Kidsburgh - ECPv6.0.1.1//NONSGML v1.0//EN
CALSCALE:GREGORIAN
METHOD:PUBLISH
X-ORIGINAL-URL:https://www.kidsburgh.org
X-WR-CALDESC:Events for Kidsburgh
REFRESH-INTERVAL;VALUE=DURATION:PT1H
X-Robots-Tag:noindex
X-PUBLISHED-TTL:PT1H
BEGIN:VTIMEZONE
TZID:America/New_York
BEGIN:DAYLIGHT
TZOFFSETFROM:-0500
TZOFFSETTO:-0400
TZNAME:EDT
DTSTART:20220313T070000
END:DAYLIGHT
BEGIN:STANDARD
TZOFFSETFROM:-0400
TZOFFSETTO:-0500
TZNAME:EST
DTSTART:20221106T060000
END:STANDARD
END:VTIMEZONE
BEGIN:VEVENT
DTSTART;TZID=America/New_York:20220519T173000
DTEND;TZID=America/New_York:20220519T200000
DTSTAMP:20221005T201357
CREATED:20220426T213525Z
LAST-MODIFIED:20220426T213525Z
UID:91117-1652981400-1652990400@www.kidsburgh.org
SUMMARY:Computer Science Creation Stations
DESCRIPTION:Engage with computer science through animation\, robotics\, audio design\, and more.
URL:https://www.kidsburgh.org/ec/computer-science-creation-stations/
LOCATION:STEM Coding Lab\, 622 N Homewood Ave.\, Pittsburgh\, PA\, 15222\, United States
CATEGORIES:Education,Community,Remake Learning
ATTACH;FMTTYPE=image/jpeg:https://www.kidsburgh.org/wp-content/uploads/2022/04/05-19-2022_pa-southwestern_caseymindlin.jpg
END:VEVENT
END:VCALENDAR