BEGIN:VCALENDAR
VERSION:2.0
PRODID:-//Kidsburgh - ECPv6.0.1.1//NONSGML v1.0//EN
CALSCALE:GREGORIAN
METHOD:PUBLISH
X-ORIGINAL-URL:https://www.kidsburgh.org
X-WR-CALDESC:Events for Kidsburgh
REFRESH-INTERVAL;VALUE=DURATION:PT1H
X-Robots-Tag:noindex
X-PUBLISHED-TTL:PT1H
BEGIN:VTIMEZONE
TZID:America/New_York
BEGIN:DAYLIGHT
TZOFFSETFROM:-0500
TZOFFSETTO:-0400
TZNAME:EDT
DTSTART:20190310T070000
END:DAYLIGHT
BEGIN:STANDARD
TZOFFSETFROM:-0400
TZOFFSETTO:-0500
TZNAME:EST
DTSTART:20191103T060000
END:STANDARD
BEGIN:DAYLIGHT
TZOFFSETFROM:-0500
TZOFFSETTO:-0400
TZNAME:EDT
DTSTART:20200308T070000
END:DAYLIGHT
BEGIN:STANDARD
TZOFFSETFROM:-0400
TZOFFSETTO:-0500
TZNAME:EST
DTSTART:20201101T060000
END:STANDARD
BEGIN:DAYLIGHT
TZOFFSETFROM:-0500
TZOFFSETTO:-0400
TZNAME:EDT
DTSTART:20210314T070000
END:DAYLIGHT
BEGIN:STANDARD
TZOFFSETFROM:-0400
TZOFFSETTO:-0500
TZNAME:EST
DTSTART:20211107T060000
END:STANDARD
END:VTIMEZONE
BEGIN:VEVENT
DTSTART;TZID=America/New_York:20210706T100000
DTEND;TZID=America/New_York:20210706T160000
DTSTAMP:20221005T200434
CREATED:20210409T213719Z
LAST-MODIFIED:20210409T213735Z
UID:77326-1625565600-1625587200@www.kidsburgh.org
SUMMARY:Steeltown Film Academy Summer Program
DESCRIPTION:Steeltown’s Film Academy is a youth education program in digital media arts and filmmaking. The Academy is open to rising 9th graders through recent 12th grade graduates (graduated 2021). \nStudents who successfully complete the program are eligible to apply for a next-level internship opportunity with Steeltown’s Teen Film Crew. Upon successful completion of their internship\, they may then be invited to apply for a part-time job with the Teen Film Crew where they get paid to produce promotional videos for clients and content for our web series: “The Reel Teens: Pittsburgh.” \nThe summer 2021 program runs from Tuesday\, July 6th through August 12th 2021 for four days each week (Monday\, Tuesday\, Wednesday and Thursday) from 10AM – 12PM via Zoom. We will then break from 12-2PM to allow for lunch and travel time to Steeltown\, and end the day in person from 2-4PM.
URL:https://www.kidsburgh.org/ec/steeltown-film-academy-summer-program/
LOCATION:Steeltown Entertainment Project\, 2100 Wharton St\, Pittsburgh\, PA\, 15203\, United States
ATTACH;FMTTYPE=image/png:https://www.kidsburgh.org/wp-content/uploads/2021/04/sfa.png
ORGANIZER;CN="Steeltown%20Entertainment%20Project":MAILTO:maryann@steeltown.org
GEO:40.4300357;-79.975396
X-APPLE-STRUCTURED-LOCATION;VALUE=URI;X-ADDRESS=Steeltown Entertainment Project 2100 Wharton St Pittsburgh PA 15203 United States;X-APPLE-RADIUS=500;X-TITLE=2100 Wharton St:geo:-79.975396,40.4300357
END:VEVENT
BEGIN:VEVENT
DTSTART;TZID=America/New_York:20200121T163000
DTEND;TZID=America/New_York:20200121T193000
DTSTAMP:20221005T200434
CREATED:20200117T213618Z
LAST-MODIFIED:20200122T175640Z
UID:58681-1579624200-1579635000@www.kidsburgh.org
SUMMARY:Spring Steeltown Film Academy
DESCRIPTION:SFA teaches a curriculum of the basics of digital media arts — what we call SCALE: storytelling\, camera\, audio\, lighting\, and editing. Upon successful completion of Steeltown Film Academy\, students can apply to the Steeltown Teen Film Crew. The Teen Film Crew gets paid while they continue to build their skills creating promotional videos for clients and working on their own creative content as part of our Reel Teens web series! \nThe workshops are January 21 – April 9 \,every Tuesday\, Wednesday \, and Thursday from 4:30 – 7:30. The cost of the workshops is $1500 to attend . Financial aid is offered if needed.
URL:https://www.kidsburgh.org/ec/spring-steeltown-film-academy/2020-01-21/
LOCATION:Steeltown Entertainment Project\, 2100 Wharton St\, Pittsburgh\, PA\, 15203\, United States
CATEGORIES:Arts and Culture,Remake Learning
ORGANIZER;CN="Steeltown%20Entertainment%20Project":MAILTO:maryann@steeltown.org
GEO:40.4300357;-79.975396
X-APPLE-STRUCTURED-LOCATION;VALUE=URI;X-ADDRESS=Steeltown Entertainment Project 2100 Wharton St Pittsburgh PA 15203 United States;X-APPLE-RADIUS=500;X-TITLE=2100 Wharton St:geo:-79.975396,40.4300357
END:VEVENT
BEGIN:VEVENT
DTSTART;TZID=America/New_York:20190924T153000
DTEND;TZID=America/New_York:20190924T193000
DTSTAMP:20221005T200434
CREATED:20190924T142231Z
LAST-MODIFIED:20190924T142453Z
UID:54702-1569339000-1569353400@www.kidsburgh.org
SUMMARY:Steeltown Film Academy
DESCRIPTION:Steeltown Film Academy (SFA) teaches a curriculum of the basics of digital media arts — what we call SCALE: storytelling\, camera\, audio\, lighting\, and editing. Upon successful completion of Steeltown Film Academy\, students can apply to the Steeltown Teen Film Crew. The Teen Film Crew gets paid while they continue to build their skills creating promotional videos for clients and working on their own creative content as part of our Reel Teens web series! \nUpcoming Fall SFA 2019:\n\n\nSeptember 24th-December 12th\, 2019\nThree days each week\nTuesday – Thursday: 4-7 pm
URL:https://www.kidsburgh.org/ec/steeltown-film-academy/
LOCATION:Steeltown Entertainment Project\, 2100 Wharton St\, Pittsburgh\, PA\, 15203\, United States
CATEGORIES:Arts and Culture,Education
ATTACH;FMTTYPE=image/jpeg:https://www.kidsburgh.org/wp-content/uploads/2019/09/SFA.jpg
ORGANIZER;CN="Steeltown%20Entertainment%20Project":MAILTO:maryann@steeltown.org
GEO:40.4300357;-79.975396
X-APPLE-STRUCTURED-LOCATION;VALUE=URI;X-ADDRESS=Steeltown Entertainment Project 2100 Wharton St Pittsburgh PA 15203 United States;X-APPLE-RADIUS=500;X-TITLE=2100 Wharton St:geo:-79.975396,40.4300357
END:VEVENT
END:VCALENDAR