BEGIN:VCALENDAR
VERSION:2.0
PRODID:-//Kidsburgh - ECPv6.0.1.1//NONSGML v1.0//EN
CALSCALE:GREGORIAN
METHOD:PUBLISH
X-WR-CALNAME:Kidsburgh
X-ORIGINAL-URL:https://www.kidsburgh.org
X-WR-CALDESC:Events for Kidsburgh
REFRESH-INTERVAL;VALUE=DURATION:PT1H
X-Robots-Tag:noindex
X-PUBLISHED-TTL:PT1H
BEGIN:VTIMEZONE
TZID:America/New_York
BEGIN:DAYLIGHT
TZOFFSETFROM:-0500
TZOFFSETTO:-0400
TZNAME:EDT
DTSTART:20190310T070000
END:DAYLIGHT
BEGIN:STANDARD
TZOFFSETFROM:-0400
TZOFFSETTO:-0500
TZNAME:EST
DTSTART:20191103T060000
END:STANDARD
BEGIN:DAYLIGHT
TZOFFSETFROM:-0500
TZOFFSETTO:-0400
TZNAME:EDT
DTSTART:20200308T070000
END:DAYLIGHT
BEGIN:STANDARD
TZOFFSETFROM:-0400
TZOFFSETTO:-0500
TZNAME:EST
DTSTART:20201101T060000
END:STANDARD
END:VTIMEZONE
BEGIN:VEVENT
DTSTART;TZID=America/New_York:20200929T190000
DTEND;TZID=America/New_York:20200929T200000
DTSTAMP:20221005T200817
CREATED:20200914T164014Z
LAST-MODIFIED:20200914T164014Z
UID:70625-1601406000-1601409600@www.kidsburgh.org
SUMMARY:Steeltown Open House
DESCRIPTION:Join us for a tour of Steeltown’s space and meet some of our film academy students and teaching assistants! \n\n\n\nSteeltown Film Academy (SFA) teaches a curriculum of the basics of digital media arts — what we call SCALE: storytelling\, camera\, audio\, lighting\, and editing. Upon successful completion of Steeltown Film Academy\, students can apply to the Steeltown Teen Film Crew. The Teen Film Crew gets paid while they continue to build their skills creating promotional videos for clients and working on their own creative content as part of our Reel Teens webseries!
URL:https://www.kidsburgh.org/ec/steeltown-open-house/
LOCATION:Steeltown Entertainment Project\, 2100 Wharton St.\, Pittsburgh\, PA\, 15203\, United States
ATTACH;FMTTYPE=image/jpeg:https://www.kidsburgh.org/wp-content/uploads/2020/09/openhouse-flyer-fall.jpg
ORGANIZER;CN="Steeltown%20Entertainment%20Project":MAILTO:maryann@steeltown.org
GEO:40.4300357;-79.975396
X-APPLE-STRUCTURED-LOCATION;VALUE=URI;X-ADDRESS=Steeltown Entertainment Project 2100 Wharton St. Pittsburgh PA 15203 United States;X-APPLE-RADIUS=500;X-TITLE=2100 Wharton St.:geo:-79.975396,40.4300357
END:VEVENT
BEGIN:VEVENT
DTSTART;TZID=America/New_York:20200929T190000
DTEND;TZID=America/New_York:20200929T200000
DTSTAMP:20221005T200817
CREATED:20200914T164014Z
LAST-MODIFIED:20200914T164014Z
UID:74338-1601406000-1601409600@www.kidsburgh.org
SUMMARY:Steeltown Open House
DESCRIPTION:Join us for a tour of Steeltown’s space and meet some of our film academy students and teaching assistants! \n\n\n\nSteeltown Film Academy (SFA) teaches a curriculum of the basics of digital media arts — what we call SCALE: storytelling\, camera\, audio\, lighting\, and editing. Upon successful completion of Steeltown Film Academy\, students can apply to the Steeltown Teen Film Crew. The Teen Film Crew gets paid while they continue to build their skills creating promotional videos for clients and working on their own creative content as part of our Reel Teens webseries!
URL:https://www.kidsburgh.org/ec/steeltown-open-house-2/
LOCATION:Steeltown Entertainment Project\, 2100 Wharton St.\, Pittsburgh\, PA\, 15203\, United States
ATTACH;FMTTYPE=image/jpeg:https://www.kidsburgh.org/wp-content/uploads/2020/09/openhouse-flyer-fall.jpg
ORGANIZER;CN="Steeltown%20Entertainment%20Project":MAILTO:maryann@steeltown.org
GEO:40.4300357;-79.975396
X-APPLE-STRUCTURED-LOCATION;VALUE=URI;X-ADDRESS=Steeltown Entertainment Project 2100 Wharton St. Pittsburgh PA 15203 United States;X-APPLE-RADIUS=500;X-TITLE=2100 Wharton St.:geo:-79.975396,40.4300357
END:VEVENT
BEGIN:VEVENT
DTSTART;TZID=America/New_York:20191030T180000
DTEND;TZID=America/New_York:20191030T200000
DTSTAMP:20221005T200817
CREATED:20191016T160915Z
LAST-MODIFIED:20191017T220100Z
UID:55896-1572458400-1572465600@www.kidsburgh.org
SUMMARY:Steeltown College Fair
DESCRIPTION:If you are a high school student curious about pursuing a career in filmmaking\, broadcasting\, and digital arts\, you’ll want to know about the numerous higher education opportunities available right here in Pittsburgh. Free and open to the public\, representatives from several colleges and universities will be available to connect with you and your parents for campus visits\, share career opportunities in the field\, and answer any questions you have about their unique film-related programs. \nAdditionally\, you will also be able to tour Steeltown’s creative space and learn more about their multiple programs that support young filmmakers. \nVisiting schools include University of Pittsburgh\, Point Park University\, Carnegie Mellon University\, Community College of Allegheny County (CCAC)\, La Roche University\, Douglas Education Center\, Penn State\, Robert Morris University\, St. Vincent College and more!
URL:https://www.kidsburgh.org/ec/steeltown-college-fair/
LOCATION:Steeltown Entertainment Project\, 2100 Wharton St.\, Pittsburgh\, PA\, 15203\, United States
CATEGORIES:Arts and Culture,Education
ATTACH;FMTTYPE=image/png:https://www.kidsburgh.org/wp-content/uploads/2019/10/Screen-shot-2019-10-16-at-11.10.45-AM-e1571764970362.png
ORGANIZER;CN="Steeltown%20Entertainment%20Project":MAILTO:maryann@steeltown.org
GEO:40.4300357;-79.975396
X-APPLE-STRUCTURED-LOCATION;VALUE=URI;X-ADDRESS=Steeltown Entertainment Project 2100 Wharton St. Pittsburgh PA 15203 United States;X-APPLE-RADIUS=500;X-TITLE=2100 Wharton St.:geo:-79.975396,40.4300357
END:VEVENT
BEGIN:VEVENT
DTSTART;TZID=America/New_York:20191003T170000
DTEND;TZID=America/New_York:20191003T190000
DTSTAMP:20221005T200817
CREATED:20190924T142546Z
LAST-MODIFIED:20190924T142546Z
UID:54715-1570122000-1570129200@www.kidsburgh.org
SUMMARY:Steeltown Fall Open House
DESCRIPTION:Steeltown will once again be hosting an OPEN HOUSE for all those interested in learning more about Steeltown and the local film scene. It is a great oppurtunity for students\, family\, and friends of Steeltown. \nThe Open House will be Thursday\, October 3rd\, from 5-7PM. We will also encourage all interested high school-level students in Allegheny County as well as our community friends and partners to join us. Come on down to see the space\, check out what our students are working on and make a new connection or two!
URL:https://www.kidsburgh.org/ec/steeltown-fall-open-house/
LOCATION:Steeltown Entertainment Project\, 2100 Wharton St.\, Pittsburgh\, PA\, 15203\, United States
CATEGORIES:Arts and Culture
ATTACH;FMTTYPE=image/jpeg:https://www.kidsburgh.org/wp-content/uploads/2019/09/Open-House.jpg
ORGANIZER;CN="Steeltown%20Entertainment%20Project":MAILTO:maryann@steeltown.org
GEO:40.4300357;-79.975396
X-APPLE-STRUCTURED-LOCATION;VALUE=URI;X-ADDRESS=Steeltown Entertainment Project 2100 Wharton St. Pittsburgh PA 15203 United States;X-APPLE-RADIUS=500;X-TITLE=2100 Wharton St.:geo:-79.975396,40.4300357
END:VEVENT
END:VCALENDAR