BEGIN:VCALENDAR
VERSION:2.0
PRODID:-//Kidsburgh - ECPv6.0.1.1//NONSGML v1.0//EN
CALSCALE:GREGORIAN
METHOD:PUBLISH
X-ORIGINAL-URL:https://www.kidsburgh.org
X-WR-CALDESC:Events for Kidsburgh
REFRESH-INTERVAL;VALUE=DURATION:PT1H
X-Robots-Tag:noindex
X-PUBLISHED-TTL:PT1H
BEGIN:VTIMEZONE
TZID:America/New_York
BEGIN:DAYLIGHT
TZOFFSETFROM:-0500
TZOFFSETTO:-0400
TZNAME:EDT
DTSTART:20190310T070000
END:DAYLIGHT
BEGIN:STANDARD
TZOFFSETFROM:-0400
TZOFFSETTO:-0500
TZNAME:EST
DTSTART:20191103T060000
END:STANDARD
END:VTIMEZONE
BEGIN:VEVENT
DTSTART;TZID=America/New_York:20190622T160000
DTEND;TZID=America/New_York:20190622T230000
DTSTAMP:20221005T194926
CREATED:20190603T141946Z
LAST-MODIFIED:20190603T141946Z
UID:52357-1561219200-1561244400@www.kidsburgh.org
SUMMARY:St. Thomas More Polish Night
DESCRIPTION:Polish Night at St. Thomas More \n St. Thomas More Church (Bethel Park\, PA\, in the South Hills section of Pittsburgh near South Hills Village Mall) will host “Polish Night” on Saturday\, June 22nd as a part of its annual church festival.  The evening begins with a Polka Mass at 4 p.m. with music by Henny and the Versa J’s in the church.  Dinners will be served from 5-7 p.m. in the parish center featuring delicious Polish food\, including pierogi\, halushki\, golumbki\, kielbasa\, and kolaczki.  Non-stop polka music will be provided by Henny and the Versa J’s and Ray Jay and the Carousels from 6:15-10:15 p.m.  Carnival rides and games for the kids as well as traditional carnival food will top off the evening.   \n 
URL:https://www.kidsburgh.org/ec/st-thomas-more-polish-night-2/
LOCATION:St. Thomas More Church\, 126 Ft Couch Rd\, Bethel Park\, PA\, 15241\, United States
CATEGORIES:Community
ORGANIZER;CN="Ann%20Shoplik":MAILTO:ANNSHOPLIK@GMAIL.COM
GEO:40.3423921;-80.0520976
X-APPLE-STRUCTURED-LOCATION;VALUE=URI;X-ADDRESS=St. Thomas More Church 126 Ft Couch Rd Bethel Park PA 15241 United States;X-APPLE-RADIUS=500;X-TITLE=126 Ft Couch Rd:geo:-80.0520976,40.3423921
END:VEVENT
END:VCALENDAR