BEGIN:VCALENDAR
VERSION:2.0
PRODID:-//Kidsburgh - ECPv6.0.1.1//NONSGML v1.0//EN
CALSCALE:GREGORIAN
METHOD:PUBLISH
X-WR-CALNAME:Kidsburgh
X-ORIGINAL-URL:https://www.kidsburgh.org
X-WR-CALDESC:Events for Kidsburgh
REFRESH-INTERVAL;VALUE=DURATION:PT1H
X-Robots-Tag:noindex
X-PUBLISHED-TTL:PT1H
BEGIN:VTIMEZONE
TZID:America/New_York
BEGIN:DAYLIGHT
TZOFFSETFROM:-0500
TZOFFSETTO:-0400
TZNAME:EDT
DTSTART:20210314T070000
END:DAYLIGHT
BEGIN:STANDARD
TZOFFSETFROM:-0400
TZOFFSETTO:-0500
TZNAME:EST
DTSTART:20211107T060000
END:STANDARD
BEGIN:DAYLIGHT
TZOFFSETFROM:-0500
TZOFFSETTO:-0400
TZNAME:EDT
DTSTART:20220313T070000
END:DAYLIGHT
BEGIN:STANDARD
TZOFFSETFROM:-0400
TZOFFSETTO:-0500
TZNAME:EST
DTSTART:20221106T060000
END:STANDARD
END:VTIMEZONE
BEGIN:VEVENT
DTSTART;TZID=America/New_York:20220911T123000
DTEND;TZID=America/New_York:20220911T183000
DTSTAMP:20221005T200430
CREATED:20220830T002159Z
LAST-MODIFIED:20220830T002159Z
UID:94683-1662899400-1662921000@www.kidsburgh.org
SUMMARY:Harvest Home Dinner
DESCRIPTION:Dine-in or Take-out\nEntree Choice: Charcoal grilled half chicken\, hand carved ham\, or pulled pork\nMeals $15.00\nKids Meals only for dine-in guests $8.00\nDinners include: vegetables and fruits from local farms\, rolls\, and dessert.\nThere will also be a kids play zone\, Steeler watch party\, country store and much more!
URL:https://www.kidsburgh.org/ec/harvest-home-dinner/
LOCATION:st. alphonsus Church\, 201 Church Road\, Wexford\, PA\, 15090\, United States
CATEGORIES:Community
ATTACH;FMTTYPE=image/png:https://www.kidsburgh.org/wp-content/uploads/2022/08/havesthome2.png
ORGANIZER;CN="St.%20Alphonsus%20%26amp%3B%20Blessed%20Francis%20Seelos%20Academy":MAILTO:kids@seelosacademy.org
END:VEVENT
BEGIN:VEVENT
DTSTART;TZID=America/New_York:20210912T123000
DTEND;TZID=America/New_York:20210912T183000
DTSTAMP:20221005T200430
CREATED:20210823T175712Z
LAST-MODIFIED:20210823T175712Z
UID:81888-1631449800-1631471400@www.kidsburgh.org
SUMMARY:St. Alphonsus Harvest Home Dinner
DESCRIPTION:Saint Alphonsus Harvest Home Dinner\, dine in or take out \nSept 12\, 2021 \n12:30pm-6:30 pm \nwww.harvesthomedinner.com or call 412-585-3915 or 724-931-0596 to order.  Online orders start 9/6 and phone orders on 9/12 at 11 am. \nEntrée choice:  charcoal-grilled half chicken\, ham or pulled pork.  Dinners are $13 and include side dishes made from local farm produce\, rolls and dessert.
URL:https://www.kidsburgh.org/ec/st-alphonsus-harvest-home-dinner/
LOCATION:st. alphonsus Church\, 201 Church Road\, Wexford\, PA\, 15090\, United States
CATEGORIES:Community
ORGANIZER;CN="St.%20Alphonsus%20%26amp%3B%20Blessed%20Francis%20Seelos%20Academy":MAILTO:kids@seelosacademy.org
END:VEVENT
BEGIN:VEVENT
DTSTART;TZID=America/New_York:20210909T170000
DTEND;TZID=America/New_York:20210909T220000
DTSTAMP:20221005T200430
CREATED:20210823T173714Z
LAST-MODIFIED:20210823T173714Z
UID:81863-1631206800-1631224800@www.kidsburgh.org
SUMMARY:St. Alexis Festival (Wexford\, PA)
DESCRIPTION:Sept 9-11\, 2021 \nThursday 5-10 PM \nFriday & Saturday 6-11 PM \nwww.saintalexisfestival.com \nParking is available at the McKnight Road park-and-ride (by the old Rave Cinemas).  Complimentary shuttle busses will be available.  There will no longer be shuttles from North Allegheny Sr. High due to football games. \nEntertainment – Rides\, live stage entertainment\, games\, food\, blackjack\, raffles\, a beer garden\, flea market and so much more! \nBingo schedule – Thursday 5-9:30 pm\, Friday 6-10:30 pm\, Saturday 6-10:30 pm \nFood specials – Thursday – BBQ pulled pork sandwich with coleslaw\, Friday – Brat/kielbasa sandwich with sauerkraut\, Saturday – Meatball hoagie with cheese \nSt. Alexis Church Campus\, 10090 Old Perry Hwy\, Wexford\, PA 15090 \nQuestions?  Please email Festival@saintaidanparish.org
URL:https://www.kidsburgh.org/ec/st-alexis-festival-wexford-pa/2021-09-09/
LOCATION:st. alphonsus Church\, 201 Church Road\, Wexford\, PA\, 15090\, United States
CATEGORIES:Community
ATTACH;FMTTYPE=image/jpeg:https://www.kidsburgh.org/wp-content/uploads/2021/08/st-alexis-festival-1.jpg
ORGANIZER;CN="St.%20Alphonsus%20%26amp%3B%20Blessed%20Francis%20Seelos%20Academy":MAILTO:kids@seelosacademy.org
END:VEVENT
END:VCALENDAR