BEGIN:VCALENDAR
VERSION:2.0
PRODID:-//Kidsburgh - ECPv6.0.1.1//NONSGML v1.0//EN
CALSCALE:GREGORIAN
METHOD:PUBLISH
X-ORIGINAL-URL:https://www.kidsburgh.org
X-WR-CALDESC:Events for Kidsburgh
REFRESH-INTERVAL;VALUE=DURATION:PT1H
X-Robots-Tag:noindex
X-PUBLISHED-TTL:PT1H
BEGIN:VTIMEZONE
TZID:America/New_York
BEGIN:DAYLIGHT
TZOFFSETFROM:-0500
TZOFFSETTO:-0400
TZNAME:EDT
DTSTART:20200308T070000
END:DAYLIGHT
BEGIN:STANDARD
TZOFFSETFROM:-0400
TZOFFSETTO:-0500
TZNAME:EST
DTSTART:20201101T060000
END:STANDARD
BEGIN:DAYLIGHT
TZOFFSETFROM:-0500
TZOFFSETTO:-0400
TZNAME:EDT
DTSTART:20210314T070000
END:DAYLIGHT
BEGIN:STANDARD
TZOFFSETFROM:-0400
TZOFFSETTO:-0500
TZNAME:EST
DTSTART:20211107T060000
END:STANDARD
BEGIN:DAYLIGHT
TZOFFSETFROM:-0500
TZOFFSETTO:-0400
TZNAME:EDT
DTSTART:20220313T070000
END:DAYLIGHT
BEGIN:STANDARD
TZOFFSETFROM:-0400
TZOFFSETTO:-0500
TZNAME:EST
DTSTART:20221106T060000
END:STANDARD
END:VTIMEZONE
BEGIN:VEVENT
DTSTART;TZID=America/New_York:20220713T180000
DTEND;TZID=America/New_York:20220716T220000
DTSTAMP:20221005T201514
CREATED:20220707T124929Z
LAST-MODIFIED:20220707T124929Z
UID:93483-1657735200-1658008800@www.kidsburgh.org
SUMMARY:St. Alexis Summer Festival
DESCRIPTION:The Saint Alexis Festival has been a summertime family favorite for decades. Located in Wexford\, this community summer festival has much to offer. Shuttle to the festival after parking the NA High School Parking lot. Enjoy rides\, games\, food\, bingo\, raffles\, kiddieland\, poker tent\, beer garden\, nightly food specials and nightly entertainment! and more. Flea Market where pre-loved items await you. Watch live entertainment on the stage. Grab a drink in the beer garden. Spend time supporting your community and enjoying time with your family. We are excited to see you there!
URL:https://www.kidsburgh.org/ec/st-alexis-summer-festival-2/2022-07-13/
LOCATION:st. alexis church\, 10090 Perry Highway\, 15090\, United States
CATEGORIES:Community
ATTACH;FMTTYPE=image/jpeg:https://www.kidsburgh.org/wp-content/uploads/2022/07/st-alexis-festival-1.jpg
GEO:40.5974215;-80.047503
X-APPLE-STRUCTURED-LOCATION;VALUE=URI;X-ADDRESS=st. alexis church 10090 Perry Highway 15090 United States;X-APPLE-RADIUS=500;X-TITLE=10090 Perry Highway:geo:-80.047503,40.5974215
END:VEVENT
BEGIN:VEVENT
DTSTART;TZID=America/New_York:20200910T180000
DTEND;TZID=America/New_York:20200910T230000
DTSTAMP:20221005T201514
CREATED:20200310T162829Z
LAST-MODIFIED:20200624T171040Z
UID:62016-1599760800-1599778800@www.kidsburgh.org
SUMMARY:St. Alexis Summer Festival
DESCRIPTION:Rides and games: 6 – 11 PM\nAll you can ride tickets: $15 \n\n\n\n\n\nPARKING INFO\nOff-site lighted parking is available at North Allegheny Senior High School with continuous free shuttle to festival grounds. \n\nMore information:  www.blessedseelosfestival.com \nSaint Alexis Parish Grounds\n10090 Old Perry Highway\nWexford\, PA 15090 \n 
URL:https://www.kidsburgh.org/ec/st-alexis-summer-festival/2020-09-10/
LOCATION:st. alexis church\, 10090 Perry Highway\, 15090\, United States
CATEGORIES:Community
ATTACH;FMTTYPE=image/jpeg:https://www.kidsburgh.org/wp-content/uploads/2020/03/st-alexis-festival-1.jpg
GEO:40.5974215;-80.047503
X-APPLE-STRUCTURED-LOCATION;VALUE=URI;X-ADDRESS=st. alexis church 10090 Perry Highway 15090 United States;X-APPLE-RADIUS=500;X-TITLE=10090 Perry Highway:geo:-80.047503,40.5974215
END:VEVENT
END:VCALENDAR