BEGIN:VCALENDAR
VERSION:2.0
PRODID:-//Kidsburgh - ECPv6.0.1.1//NONSGML v1.0//EN
CALSCALE:GREGORIAN
METHOD:PUBLISH
X-WR-CALNAME:Kidsburgh
X-ORIGINAL-URL:https://www.kidsburgh.org
X-WR-CALDESC:Events for Kidsburgh
REFRESH-INTERVAL;VALUE=DURATION:PT1H
X-Robots-Tag:noindex
X-PUBLISHED-TTL:PT1H
BEGIN:VTIMEZONE
TZID:America/New_York
BEGIN:DAYLIGHT
TZOFFSETFROM:-0500
TZOFFSETTO:-0400
TZNAME:EDT
DTSTART:20190310T070000
END:DAYLIGHT
BEGIN:STANDARD
TZOFFSETFROM:-0400
TZOFFSETTO:-0500
TZNAME:EST
DTSTART:20191103T060000
END:STANDARD
BEGIN:DAYLIGHT
TZOFFSETFROM:-0500
TZOFFSETTO:-0400
TZNAME:EDT
DTSTART:20200308T070000
END:DAYLIGHT
BEGIN:STANDARD
TZOFFSETFROM:-0400
TZOFFSETTO:-0500
TZNAME:EST
DTSTART:20201101T060000
END:STANDARD
BEGIN:DAYLIGHT
TZOFFSETFROM:-0500
TZOFFSETTO:-0400
TZNAME:EDT
DTSTART:20210314T070000
END:DAYLIGHT
BEGIN:STANDARD
TZOFFSETFROM:-0400
TZOFFSETTO:-0500
TZNAME:EST
DTSTART:20211107T060000
END:STANDARD
END:VTIMEZONE
BEGIN:VEVENT
DTSTART;TZID=America/New_York:20211112T180000
DTEND;TZID=America/New_York:20211112T193000
DTSTAMP:20221005T201501
CREATED:20211116T135851Z
LAST-MODIFIED:20211116T135851Z
UID:85520-1636740000-1636745400@www.kidsburgh.org
SUMMARY:The Lights of Jingle Bell Hill\, musical
DESCRIPTION:Join in the tale of the annual holiday contest & the frustrated residents of Jingle Bell Hill who\, despite their best efforts\, never win! Larry\, the frightening tenant who lives in the one dark house on the corner\, refuses to participate in the decorating efforts. Throughout the course of this hilarious & heartwarming musical\, the townspeople discover the real reason for Larry’s reluctance to get into the holiday spirit! Performed on the beautiful outdoor stage. We’ll help keep you warm with crackling bonfires\, hot chocolate\, & warm s’mores!
URL:https://www.kidsburgh.org/ec/the-lights-of-jingle-bell-hill-musical/2021-11-12/
LOCATION:South Park Theatre\, Corner of Brownsville Road and Corrigan Drive\, South Park Township\, PA\, 15219\, United States
CATEGORIES:Arts and Culture
ATTACH;FMTTYPE=image/png:https://www.kidsburgh.org/wp-content/uploads/2021/11/3F415A40-0739-405E-A6F7-C4859A4993AA.png
GEO:40.3066485;-79.9964552
X-APPLE-STRUCTURED-LOCATION;VALUE=URI;X-ADDRESS=South Park Theatre Corner of Brownsville Road and Corrigan Drive South Park Township PA 15219 United States;X-APPLE-RADIUS=500;X-TITLE=Corner of Brownsville Road and Corrigan Drive:geo:-79.9964552,40.3066485
END:VEVENT
BEGIN:VEVENT
DTSTART;TZID=America/New_York:20210712T183000
DTEND;TZID=America/New_York:20210712T193000
DTSTAMP:20221005T201501
CREATED:20210707T164153Z
LAST-MODIFIED:20210707T164153Z
UID:80525-1626114600-1626118200@www.kidsburgh.org
SUMMARY:'My Sister\, the Dragon'
DESCRIPTION:There’s a lot of magic going on in “My Sister\, the Dragon\,” the latest production from South Park Theatre. When Princess Marguerite sneaks out of the castle\, she comes across a dragon\, who is really a princess. But when the spell is broken\, Marguerite is transformed into a dragon and her brother has to come up with a solution. The show runs from July 12-21 on the outdoor stage. Lawn seating is limited to 150 patrons\, allowing for social distancing. Tickets are $5\, free for 3 years and younger\, and sold at the door.
URL:https://www.kidsburgh.org/ec/my-sister-the-dragon/2021-07-12/
LOCATION:South Park Theatre\, Corner of Brownsville Road and Corrigan Drive\, South Park Township\, PA\, 15219\, United States
CATEGORIES:Arts and Culture
GEO:40.3066485;-79.9964552
X-APPLE-STRUCTURED-LOCATION;VALUE=URI;X-ADDRESS=South Park Theatre Corner of Brownsville Road and Corrigan Drive South Park Township PA 15219 United States;X-APPLE-RADIUS=500;X-TITLE=Corner of Brownsville Road and Corrigan Drive:geo:-79.9964552,40.3066485
END:VEVENT
BEGIN:VEVENT
DTSTART;TZID=America/New_York:20210628T183000
DTEND;TZID=America/New_York:20210628T203000
DTSTAMP:20221005T201501
CREATED:20210609T163608Z
LAST-MODIFIED:20210609T164607Z
UID:79420-1624905000-1624912200@www.kidsburgh.org
SUMMARY:'Pinocchio: No Strings Attached\, The Musical'
DESCRIPTION:Part of South Park Theatre’s Children’s Theatre season. \nDUE TO RECENTLY LIFTED OUTDOOR RESTRICTIONS\, WE ARE PLEASED TO RETURN TO ADMISSION SALES AT-THE-DOOR ONLY THIS YEAR.\n\nNO ADVANCED/ONLINE TICKETING. SEATING WILL STILL BE LIMITED TO APPROXIMATELY 150 & WE ARE CURRENTLY STILL ASKING PATRONS TO WEAR THEIR MASKS UNLESS YOU ARE EATING/DRINKING.\nPerformances run June 28-July 7: \n6:30 p.m. Mondays and Tuesdays \n10 a.m. Tuesdays and Wednesdays
URL:https://www.kidsburgh.org/ec/pinocchio-no-strings-attached-the-musical/2021-06-28/
LOCATION:South Park Theatre\, Corner of Brownsville Road and Corrigan Drive\, South Park Township\, PA\, 15219\, United States
GEO:40.3066485;-79.9964552
X-APPLE-STRUCTURED-LOCATION;VALUE=URI;X-ADDRESS=South Park Theatre Corner of Brownsville Road and Corrigan Drive South Park Township PA 15219 United States;X-APPLE-RADIUS=500;X-TITLE=Corner of Brownsville Road and Corrigan Drive:geo:-79.9964552,40.3066485
END:VEVENT
BEGIN:VEVENT
DTSTART;TZID=America/New_York:20210614T183000
DTEND;TZID=America/New_York:20210614T200000
DTSTAMP:20221005T201501
CREATED:20210607T220036Z
LAST-MODIFIED:20210607T220036Z
UID:79323-1623695400-1623700800@www.kidsburgh.org
SUMMARY:'Cinderella … If the Shoe Fits!'
DESCRIPTION:“Cinderella … If the Shoe Fits!\,” South Park Theatre: June 14-23\nSouth Park Theatre’s lineup of plays for kids returns with all the gleeful silliness we missed last summer. The season opens with the musical “Cinderella … If the Shoe Fits!” with morning and evening shows on the outdoor stage. Lawn seating is limited to 150 patrons\, allowing for social distancing. Tickets will be sold at the door and are $5 (free for ages 3 and younger). For a special treat\, order a boxed picnic dinner\, available on Monday nights. \nCheck out the complete season schedule here. \nPerformances: \n6:30 p.m. Mondays \n10 a.m. and 6:30 p.m. Tuesdays \n10 a.m. Wednesdays
URL:https://www.kidsburgh.org/ec/cinderella-if-the-shoe-fits/2021-06-14/
LOCATION:South Park Theatre\, Corner of Brownsville Road and Corrigan Drive\, South Park Township\, PA\, 15219\, United States
GEO:40.3066485;-79.9964552
X-APPLE-STRUCTURED-LOCATION;VALUE=URI;X-ADDRESS=South Park Theatre Corner of Brownsville Road and Corrigan Drive South Park Township PA 15219 United States;X-APPLE-RADIUS=500;X-TITLE=Corner of Brownsville Road and Corrigan Drive:geo:-79.9964552,40.3066485
END:VEVENT
BEGIN:VEVENT
DTSTART;TZID=America/New_York:20201016T180000
DTEND;TZID=America/New_York:20201016T190000
DTSTAMP:20221005T201501
CREATED:20201012T165223Z
LAST-MODIFIED:20201012T165223Z
UID:71798-1602871200-1602874800@www.kidsburgh.org
SUMMARY:'Jack & the Frakenbeanstalk'
DESCRIPTION:Dr. Frankenbean and Ogre have worked for 20 years to create genetically-modified beans. But some of their fellow villagers disapprove. The village people think that genetically-engineered beans are a crime against nature\, and they pursue the evil doctor. \nThree of these beans are acquired by a dim\, young lad named Jack\, but instead of turning into a large beanstalk\, they become the Bean Brothers — Favo\, Pinto\, and Garbanzo — who are very reminiscent of the Marx Brothers. They help Jack get to the castle in the clouds and deal with the giant while they are pursued by Dr. Frankenbean and Ogre\, who are pursued by The Village People. \nThis punny and fast-paced show runs about 60 minutes and is “stalk” full of laughs! Performed on the outdoor stage (masks must be worn)\, and featuring bonfires & free hot apple cider and s’mores!
URL:https://www.kidsburgh.org/ec/jack-the-frakenbeanstalk/2020-10-16/
LOCATION:South Park Theatre\, Corner of Brownsville Road and Corrigan Drive\, South Park Township\, PA\, 15219\, United States
CATEGORIES:Arts and Culture
ATTACH;FMTTYPE=image/png:https://www.kidsburgh.org/wp-content/uploads/2020/10/Jack-the-Frankenbeanstalk-color.png
GEO:40.3066485;-79.9964552
X-APPLE-STRUCTURED-LOCATION;VALUE=URI;X-ADDRESS=South Park Theatre Corner of Brownsville Road and Corrigan Drive South Park Township PA 15219 United States;X-APPLE-RADIUS=500;X-TITLE=Corner of Brownsville Road and Corrigan Drive:geo:-79.9964552,40.3066485
END:VEVENT
BEGIN:VEVENT
DTSTART;TZID=America/New_York:20201016T180000
DTEND;TZID=America/New_York:20201016T190000
DTSTAMP:20221005T201501
CREATED:20201012T165223Z
LAST-MODIFIED:20201012T165223Z
UID:74393-1602871200-1602874800@www.kidsburgh.org
SUMMARY:'Jack & the Frakenbeanstalk'
DESCRIPTION:Dr. Frankenbean and Ogre have worked for 20 years to create genetically-modified beans. But some of their fellow villagers disapprove. The village people think that genetically-engineered beans are a crime against nature\, and they pursue the evil doctor. \nThree of these beans are acquired by a dim\, young lad named Jack\, but instead of turning into a large beanstalk\, they become the Bean Brothers — Favo\, Pinto\, and Garbanzo — who are very reminiscent of the Marx Brothers. They help Jack get to the castle in the clouds and deal with the giant while they are pursued by Dr. Frankenbean and Ogre\, who are pursued by The Village People. \nThis punny and fast-paced show runs about 60 minutes and is “stalk” full of laughs! Performed on the outdoor stage (masks must be worn)\, and featuring bonfires & free hot apple cider and s’mores!
URL:https://www.kidsburgh.org/ec/jack-the-frakenbeanstalk-2/2020-10-16/
LOCATION:South Park Theatre\, Corner of Brownsville Road and Corrigan Drive\, South Park Township\, PA\, 15219\, United States
CATEGORIES:Arts and Culture
ATTACH;FMTTYPE=image/png:https://www.kidsburgh.org/wp-content/uploads/2020/10/Jack-the-Frankenbeanstalk-color.png
GEO:40.3066485;-79.9964552
X-APPLE-STRUCTURED-LOCATION;VALUE=URI;X-ADDRESS=South Park Theatre Corner of Brownsville Road and Corrigan Drive South Park Township PA 15219 United States;X-APPLE-RADIUS=500;X-TITLE=Corner of Brownsville Road and Corrigan Drive:geo:-79.9964552,40.3066485
END:VEVENT
BEGIN:VEVENT
DTSTART;VALUE=DATE:20190812
DTEND;VALUE=DATE:20190815
DTSTAMP:20221005T201501
CREATED:20190723T221451Z
LAST-MODIFIED:20190723T222000Z
UID:53743-1565568000-1565827199@www.kidsburgh.org
SUMMARY:'Dorothy Meets Alice'
DESCRIPTION:Aug. 12-14: “Dorothy Meets Alice\,” South Park Theatre. The Children’s Theatre summer series presents its alumni production. \n$3 Admission.\nChildren 2 yrs. and under: free\nMonday – 6:30 pm\nTuesday – 10 am & 6:30 pm\nWednesday – 10 a.m.
URL:https://www.kidsburgh.org/ec/dorothy-meets-alice/
LOCATION:South Park Theatre\, Corner of Brownsville Road and Corrigan Drive\, South Park Township\, PA\, 15219\, United States
CATEGORIES:Arts and Culture
GEO:40.3066485;-79.9964552
X-APPLE-STRUCTURED-LOCATION;VALUE=URI;X-ADDRESS=South Park Theatre Corner of Brownsville Road and Corrigan Drive South Park Township PA 15219 United States;X-APPLE-RADIUS=500;X-TITLE=Corner of Brownsville Road and Corrigan Drive:geo:-79.9964552,40.3066485
END:VEVENT
BEGIN:VEVENT
DTSTART;VALUE=DATE:20190729
DTEND;VALUE=DATE:20190730
DTSTAMP:20221005T201501
CREATED:20190620T190429Z
LAST-MODIFIED:20190731T183744Z
UID:52947-1564358400-1564444799@www.kidsburgh.org
SUMMARY:'The Twelve Dancing Princesses'
DESCRIPTION:July 29-Aug. 7: “The Twelve Dancing Princesses\,” South Park Theatre. The Children’s Theatre summer series is performed on the outdoor stage. \nTickets are $3\, free for age 2 and younger. Shows run 6:30 p.m. Mondays\, 10 a.m. and 6:30 p.m. Tuesdays and 10 a.m. Wednesdays.
URL:https://www.kidsburgh.org/ec/the-twelve-dancing-princesses/2019-07-29/
LOCATION:South Park Theatre\, Corner of Brownsville Road and Corrigan Drive\, South Park Township\, PA\, 15219\, United States
CATEGORIES:Arts and Culture
GEO:40.3066485;-79.9964552
X-APPLE-STRUCTURED-LOCATION;VALUE=URI;X-ADDRESS=South Park Theatre Corner of Brownsville Road and Corrigan Drive South Park Township PA 15219 United States;X-APPLE-RADIUS=500;X-TITLE=Corner of Brownsville Road and Corrigan Drive:geo:-79.9964552,40.3066485
END:VEVENT
BEGIN:VEVENT
DTSTART;VALUE=DATE:20190715
DTEND;VALUE=DATE:20190716
DTSTAMP:20221005T201501
CREATED:20190620T190939Z
LAST-MODIFIED:20190717T140323Z
UID:52941-1563148800-1563235199@www.kidsburgh.org
SUMMARY:'Snow White'
DESCRIPTION:July 15-24: “Snow White\,” South Park Theatre. A fun adaptation of a favorite fairytale. \nTickets are $3\, free for age 2 and younger. Shows run 6:30 p.m. Mondays\, 10 a.m. and 6:30 p.m. Tuesdays and 10 a.m. Wednesdays.
URL:https://www.kidsburgh.org/ec/snow-white/2019-07-15/
LOCATION:South Park Theatre\, Corner of Brownsville Road and Corrigan Drive\, South Park Township\, PA\, 15219\, United States
CATEGORIES:Arts and Culture
GEO:40.3066485;-79.9964552
X-APPLE-STRUCTURED-LOCATION;VALUE=URI;X-ADDRESS=South Park Theatre Corner of Brownsville Road and Corrigan Drive South Park Township PA 15219 United States;X-APPLE-RADIUS=500;X-TITLE=Corner of Brownsville Road and Corrigan Drive:geo:-79.9964552,40.3066485
END:VEVENT
BEGIN:VEVENT
DTSTART;VALUE=DATE:20190701
DTEND;VALUE=DATE:20190704
DTSTAMP:20221005T201501
CREATED:20190620T185826Z
LAST-MODIFIED:20190620T185826Z
UID:52935-1561939200-1562198399@www.kidsburgh.org
SUMMARY:'Tweet the Musical'
DESCRIPTION:July 1-10: “Tweet the Musical\,” South Park Theatre. A perfect introduction to musical theater for little kids. \nTickets are $3\, free for age 2 and younger. Shows run 6:30 p.m. Mondays\, 10 a.m. and 6:30 p.m. Tuesdays and 10 a.m. Wednesdays. \n 
URL:https://www.kidsburgh.org/ec/tweet-the-musical/2019-07-01/
LOCATION:South Park Theatre\, Corner of Brownsville Road and Corrigan Drive\, South Park Township\, PA\, 15219\, United States
CATEGORIES:Arts and Culture
GEO:40.3066485;-79.9964552
X-APPLE-STRUCTURED-LOCATION;VALUE=URI;X-ADDRESS=South Park Theatre Corner of Brownsville Road and Corrigan Drive South Park Township PA 15219 United States;X-APPLE-RADIUS=500;X-TITLE=Corner of Brownsville Road and Corrigan Drive:geo:-79.9964552,40.3066485
END:VEVENT
BEGIN:VEVENT
DTSTART;VALUE=DATE:20190620
DTEND;VALUE=DATE:20190621
DTSTAMP:20221005T201501
CREATED:20190620T181405Z
LAST-MODIFIED:20190620T181405Z
UID:52470-1560988800-1561075199@www.kidsburgh.org
SUMMARY:'The Granny Awards Musical'
DESCRIPTION:Produced by South Park Theatre’s Children’s Theater on the outdoor stage June 17-26. \nPerformances are Mondays at 6:30 p.m.\, Tuesdays at 10 a.m. and 6:30 p.m.\, Wednesdays at 10 a.m. \nTickets are $3\, free for age 2 and younger. \n 
URL:https://www.kidsburgh.org/ec/the-granny-awards-musical/2019-06-20/
LOCATION:South Park Theatre\, Corner of Brownsville Road and Corrigan Drive\, South Park Township\, PA\, 15219\, United States
GEO:40.3066485;-79.9964552
X-APPLE-STRUCTURED-LOCATION;VALUE=URI;X-ADDRESS=South Park Theatre Corner of Brownsville Road and Corrigan Drive South Park Township PA 15219 United States;X-APPLE-RADIUS=500;X-TITLE=Corner of Brownsville Road and Corrigan Drive:geo:-79.9964552,40.3066485
END:VEVENT
END:VCALENDAR