BEGIN:VCALENDAR
VERSION:2.0
PRODID:-//Kidsburgh - ECPv6.0.1.1//NONSGML v1.0//EN
CALSCALE:GREGORIAN
METHOD:PUBLISH
X-ORIGINAL-URL:https://www.kidsburgh.org
X-WR-CALDESC:Events for Kidsburgh
REFRESH-INTERVAL;VALUE=DURATION:PT1H
X-Robots-Tag:noindex
X-PUBLISHED-TTL:PT1H
BEGIN:VTIMEZONE
TZID:America/New_York
BEGIN:DAYLIGHT
TZOFFSETFROM:-0500
TZOFFSETTO:-0400
TZNAME:EDT
DTSTART:20200308T070000
END:DAYLIGHT
BEGIN:STANDARD
TZOFFSETFROM:-0400
TZOFFSETTO:-0500
TZNAME:EST
DTSTART:20201101T060000
END:STANDARD
BEGIN:DAYLIGHT
TZOFFSETFROM:-0500
TZOFFSETTO:-0400
TZNAME:EDT
DTSTART:20210314T070000
END:DAYLIGHT
BEGIN:STANDARD
TZOFFSETFROM:-0400
TZOFFSETTO:-0500
TZNAME:EST
DTSTART:20211107T060000
END:STANDARD
BEGIN:DAYLIGHT
TZOFFSETFROM:-0500
TZOFFSETTO:-0400
TZNAME:EDT
DTSTART:20220313T070000
END:DAYLIGHT
BEGIN:STANDARD
TZOFFSETFROM:-0400
TZOFFSETTO:-0500
TZNAME:EST
DTSTART:20221106T060000
END:STANDARD
END:VTIMEZONE
BEGIN:VEVENT
DTSTART;TZID=America/New_York:20220122T110000
DTEND;TZID=America/New_York:20220122T143000
DTSTAMP:20221005T195705
CREATED:20220119T220759Z
LAST-MODIFIED:20220119T220759Z
UID:87389-1642849200-1642861800@www.kidsburgh.org
SUMMARY:South Park (features an NHL-sized rink and skate trail)
DESCRIPTION:The ice rinks are now open for the season! Buy your favorite skater an Ice Skating Gift Certificate by calling any Parks facility today.
URL:https://www.kidsburgh.org/ec/south-park-features-an-nhl-sized-rink-and-skate-trail/2022-01-22/
LOCATION:South Park
ATTACH;FMTTYPE=image/jpeg:https://www.kidsburgh.org/wp-content/uploads/2022/01/ice-skating-icon.jpg
ORGANIZER;CN="South%20Park%20Rink":MAILTO:SPrink@alleghenycounty.us
END:VEVENT
BEGIN:VEVENT
DTSTART;TZID=America/New_York:20211023T120000
DTEND;TZID=America/New_York:20211023T140000
DTSTAMP:20221005T195705
CREATED:20210922T205938Z
LAST-MODIFIED:20210922T215845Z
UID:83489-1634990400-1634997600@www.kidsburgh.org
SUMMARY:South Park Trunk or Treat
DESCRIPTION:Celebrate spooky season by joining us for Trunk or Treat! Wear your Halloween costume and join us for candy and fun! We encourage participants to decorate their vehicles\, bring candy\, and dress up in their best Halloween costumes! \nRegistration Dates: Last day for standard registration: Oct 22\, 2021\nLast day for Internet registration: Oct 22\, 2021
URL:https://www.kidsburgh.org/ec/south-park-trunk-or-treat/
LOCATION:South Park
CATEGORIES:Community
ATTACH;FMTTYPE=image/jpeg:https://www.kidsburgh.org/wp-content/uploads/2021/09/Allegheny-Parks-Trunk-or-Treat-1.jpg
ORGANIZER;CN="Allegheny%20County%20Parks":MAILTO:Webmaster.Parks@alleghenycounty.us
END:VEVENT
BEGIN:VEVENT
DTSTART;TZID=America/New_York:20210612T193000
DTEND;TZID=America/New_York:20210612T220000
DTSTAMP:20221005T195705
CREATED:20210609T160938Z
LAST-MODIFIED:20210609T160938Z
UID:79404-1623526200-1623535200@www.kidsburgh.org
SUMMARY:Allegheny County Movies in the Parks @ South Park
DESCRIPTION:All movies are free!\nBring your blankets or chairs and join us for family activities and fun starting at 7:30 pm.\nOnce the sun sets\, we’ll start the show! \n\n\n\nJune 5\nDoolittle (PG)\n\n\nJune 12\nScoob! (PG)  Drive-in movie at South Park VIP Parking Lot\n\n\nJune 19\nThe Jungle Book (PG)\n\n\nJune 26\nRatatouille (G)\n\n\nJuly 2\nThe Croods – A New Age (PG)\n\n\nJuly 10\nCars (G)\n\n\nJuly 17\nRaiders of the Lost Ark (PG)\n\n\nJuly 24\n50 First Dates (PG-13)\n\n\nJuly 31\nMadagascar (PG)\n\n\nAug. 7\nShrek (PG)\n\n\nAug. 14\nLilo & Stitch (PG)\n\n\nAug. 21\nFerris Bueller’s Day Off (PG-13)\n\n\nAug. 28\nRaya and the Last Dragon (PG)\n\n\nSept. 4\nTrolls World Tour (PG)
URL:https://www.kidsburgh.org/ec/allegheny-county-movies-in-the-parks-south-park/2021-06-12/
LOCATION:South Park
END:VEVENT
BEGIN:VEVENT
DTSTART;TZID=America/New_York:20201016T190000
DTEND;TZID=America/New_York:20201016T220000
DTSTAMP:20221005T195705
CREATED:20201006T220618Z
LAST-MODIFIED:20201006T220618Z
UID:71518-1602874800-1602885600@www.kidsburgh.org
SUMMARY:South Park Halloween Drive-in Movies
DESCRIPTION:Following its popular summer movie season\, Allegheny County Parks continues the fun with Halloween Drive-in Movies at Hartwood Acres and South Park. “Hocus Pocus” and “Nightmare Before Christmas” are on the bill for spooky PG-rated entertainment. \nSouth Park Movies\, South Park Ice Rink Parking Lot\nFriday\, October 16: “Hocus Pocus” (PG)\nSaturday\, October 17: “Nightmare Before Christmas” (PG) \n 
URL:https://www.kidsburgh.org/ec/south-park-halloween-drive-in-movies/2020-10-16/
LOCATION:South Park
CATEGORIES:Arts and Culture
END:VEVENT
BEGIN:VEVENT
DTSTART;TZID=America/New_York:20201016T190000
DTEND;TZID=America/New_York:20201016T220000
DTSTAMP:20221005T195705
CREATED:20201006T220618Z
LAST-MODIFIED:20201006T220618Z
UID:74379-1602874800-1602885600@www.kidsburgh.org
SUMMARY:South Park Halloween Drive-in Movies
DESCRIPTION:Following its popular summer movie season\, Allegheny County Parks continues the fun with Halloween Drive-in Movies at Hartwood Acres and South Park. “Hocus Pocus” and “Nightmare Before Christmas” are on the bill for spooky PG-rated entertainment. \nSouth Park Movies\, South Park Ice Rink Parking Lot\nFriday\, October 16: “Hocus Pocus” (PG)\nSaturday\, October 17: “Nightmare Before Christmas” (PG) \n 
URL:https://www.kidsburgh.org/ec/south-park-halloween-drive-in-movies-2/2020-10-16/
LOCATION:South Park
CATEGORIES:Arts and Culture
END:VEVENT
BEGIN:VEVENT
DTSTART;TZID=America/New_York:20200730T190000
DTEND;TZID=America/New_York:20200730T230000
DTSTAMP:20221005T195705
CREATED:20200708T203046Z
LAST-MODIFIED:20200708T203046Z
UID:67809-1596135600-1596150000@www.kidsburgh.org
SUMMARY:Drive-In Movies at South Park
DESCRIPTION:Drive-In Movies at South Park: Family Drive-In Movie \nJoin us this summer at South Park for our Family Drive-In Movie Series! Gates open at 7:00 pm and the show will start at dusk. This event is free and will be first come first serve. Once the parking area reaches capacity\, we will announce on our Facebook page. \n\n\n\n\nFamily Movie\nSouth Park VIP Parking Lot\n\n\n\n\nSonic the Hedgehog (PG)\nThursday\, July 30\n\n\nMoana (PG)\nThursday\, August 6\n\n\nFrozen 2 (PG)\nThursday\, August 13\n\n\nFinding Nemo (PG)\nThursday\, August 20\n\n\nLion King (PG)\nThursday\, August 27\n\n\nAladdin (PG)\nThursday\, September 3\n\n\nThe Goonies (PG)\nThursday\, September 10\n\n\nToy Story 4 (G)\nThursday\, September 17\n\n\nMaleficent: Mistress of Evil (PG)\nThursday\, September 24\n\n\nSecret Life of Pets 2 (PG)\nThursday\, October 1
URL:https://www.kidsburgh.org/ec/drive-in-movies-at-south-park/2020-07-30/
LOCATION:South Park
END:VEVENT
BEGIN:VEVENT
DTSTART;TZID=America/New_York:20200730T190000
DTEND;TZID=America/New_York:20200730T230000
DTSTAMP:20221005T195706
CREATED:20200708T203046Z
LAST-MODIFIED:20200708T203046Z
UID:74215-1596135600-1596150000@www.kidsburgh.org
SUMMARY:Drive-In Movies at South Park
DESCRIPTION:Drive-In Movies at South Park: Family Drive-In Movie \nJoin us this summer at South Park for our Family Drive-In Movie Series! Gates open at 7:00 pm and the show will start at dusk. This event is free and will be first come first serve. Once the parking area reaches capacity\, we will announce on our Facebook page. \n\n\n\n\nFamily Movie\nSouth Park VIP Parking Lot\n\n\n\n\nSonic the Hedgehog (PG)\nThursday\, July 30\n\n\nMoana (PG)\nThursday\, August 6\n\n\nFrozen 2 (PG)\nThursday\, August 13\n\n\nFinding Nemo (PG)\nThursday\, August 20\n\n\nLion King (PG)\nThursday\, August 27\n\n\nAladdin (PG)\nThursday\, September 3\n\n\nThe Goonies (PG)\nThursday\, September 10\n\n\nToy Story 4 (G)\nThursday\, September 17\n\n\nMaleficent: Mistress of Evil (PG)\nThursday\, September 24\n\n\nSecret Life of Pets 2 (PG)\nThursday\, October 1
URL:https://www.kidsburgh.org/ec/drive-in-movies-at-south-park-2/2020-07-30/
LOCATION:South Park
END:VEVENT
END:VCALENDAR