BEGIN:VCALENDAR
VERSION:2.0
PRODID:-//Kidsburgh - ECPv6.0.1.1//NONSGML v1.0//EN
CALSCALE:GREGORIAN
METHOD:PUBLISH
X-WR-CALNAME:Kidsburgh
X-ORIGINAL-URL:https://www.kidsburgh.org
X-WR-CALDESC:Events for Kidsburgh
REFRESH-INTERVAL;VALUE=DURATION:PT1H
X-Robots-Tag:noindex
X-PUBLISHED-TTL:PT1H
BEGIN:VTIMEZONE
TZID:America/New_York
BEGIN:DAYLIGHT
TZOFFSETFROM:-0500
TZOFFSETTO:-0400
TZNAME:EDT
DTSTART:20220313T070000
END:DAYLIGHT
BEGIN:STANDARD
TZOFFSETFROM:-0400
TZOFFSETTO:-0500
TZNAME:EST
DTSTART:20221106T060000
END:STANDARD
END:VTIMEZONE
BEGIN:VEVENT
DTSTART;TZID=America/New_York:20220514T110000
DTEND;TZID=America/New_York:20220514T140000
DTSTAMP:20221005T195350
CREATED:20220301T152208Z
LAST-MODIFIED:20220301T152208Z
UID:88646-1652526000-1652536800@www.kidsburgh.org
SUMMARY:Celebrate the South Hills with SHIM
DESCRIPTION:We’re welcoming hundreds of families\, community leaders\, businesses\, and supporters to our Bethel Park location for a day of volunteering\, games\, food\, and music. The event will act as a celebration of the collective spirit and the generosity of people in the South Hills who choose to make a difference. Only through the generous support of the community\, SHIM is able to provide food\, clothing\, employment support\, parenting classes\, youth programs\, and much more to the community.\nLearn more- www.shimcares.org/celebrate
URL:https://www.kidsburgh.org/ec/celebrate-the-south-hills-with-shim/
LOCATION:South Hills Interfaith Movement\, 5301 Park Ave\, Bethel Park\, PA\, 15102\, United States
CATEGORIES:Community
ATTACH;FMTTYPE=image/png:https://www.kidsburgh.org/wp-content/uploads/2022/02/SHIM.png
END:VEVENT
END:VCALENDAR