BEGIN:VCALENDAR
VERSION:2.0
PRODID:-//Kidsburgh - ECPv6.0.1.1//NONSGML v1.0//EN
CALSCALE:GREGORIAN
METHOD:PUBLISH
X-ORIGINAL-URL:https://www.kidsburgh.org
X-WR-CALDESC:Events for Kidsburgh
REFRESH-INTERVAL;VALUE=DURATION:PT1H
X-Robots-Tag:noindex
X-PUBLISHED-TTL:PT1H
BEGIN:VTIMEZONE
TZID:America/New_York
BEGIN:DAYLIGHT
TZOFFSETFROM:-0500
TZOFFSETTO:-0400
TZNAME:EDT
DTSTART:20220313T070000
END:DAYLIGHT
BEGIN:STANDARD
TZOFFSETFROM:-0400
TZOFFSETTO:-0500
TZNAME:EST
DTSTART:20221106T060000
END:STANDARD
END:VTIMEZONE
BEGIN:VEVENT
DTSTART;TZID=America/New_York:20220523T090000
DTEND;TZID=America/New_York:20220523T101500
DTSTAMP:20221005T200832
CREATED:20220427T000623Z
LAST-MODIFIED:20220427T000623Z
UID:91218-1653296400-1653300900@www.kidsburgh.org
SUMMARY:Creative Coding: A Morning of Making
DESCRIPTION:  \nCome for a morning of creative coding challenges where students will teach their parents how to program using Scratch and Scratch Jr.! \n 
URL:https://www.kidsburgh.org/ec/creative-coding-a-morning-of-making/
LOCATION:South Fayette School District\, Pittsburgh\, PA\, 15222\, United States
CATEGORIES:Science and Technology,Education,Community,Remake Learning
ATTACH;FMTTYPE=image/png:https://www.kidsburgh.org/wp-content/uploads/2022/04/05-23-2022_pa-southwestern_melissa_unger.png
END:VEVENT
BEGIN:VEVENT
DTSTART;TZID=America/New_York:20220523T083000
DTEND;TZID=America/New_York:20220523T110000
DTSTAMP:20221005T200832
CREATED:20220427T000325Z
LAST-MODIFIED:20220427T000325Z
UID:91215-1653294600-1653303600@www.kidsburgh.org
SUMMARY:Programming and Pastries
DESCRIPTION:  \nStudents and their caregivers are invited to a morning of programming and pastries! Kids and adults will work together to code Scratch and Scratch Jr. projects. \n 
URL:https://www.kidsburgh.org/ec/programming-and-pastries/
LOCATION:South Fayette School District\, Pittsburgh\, PA\, 15222\, United States
CATEGORIES:Science and Technology,Education,Community,Remake Learning
ATTACH;FMTTYPE=image/png:https://www.kidsburgh.org/wp-content/uploads/2022/04/05-23-2022_pa-southwestern_melissa_unger.png
END:VEVENT
BEGIN:VEVENT
DTSTART;TZID=America/New_York:20220518T180000
DTEND;TZID=America/New_York:20220518T200000
DTSTAMP:20221005T200832
CREATED:20220426T171227Z
LAST-MODIFIED:20220426T171227Z
UID:91084-1652896800-1652904000@www.kidsburgh.org
SUMMARY:Family Engineering Night
DESCRIPTION:  \nWork together to plan and build your own Cardboard Creation and then spend time trying out each family’s project.  \nhttps://remakelearningdays.org/event/family-engineering-night/#
URL:https://www.kidsburgh.org/ec/family-engineering-night/
LOCATION:South Fayette School District\, Pittsburgh\, PA\, 15222\, United States
CATEGORIES:Education,Community,Remake Learning
ATTACH;FMTTYPE=image/jpeg:https://www.kidsburgh.org/wp-content/uploads/2022/04/05-18-2022_pa-southwestern_melissa_unger-scaled.jpg
END:VEVENT
END:VCALENDAR