BEGIN:VCALENDAR
VERSION:2.0
PRODID:-//Kidsburgh - ECPv6.0.1.1//NONSGML v1.0//EN
CALSCALE:GREGORIAN
METHOD:PUBLISH
X-ORIGINAL-URL:https://www.kidsburgh.org
X-WR-CALDESC:Events for Kidsburgh
REFRESH-INTERVAL;VALUE=DURATION:PT1H
X-Robots-Tag:noindex
X-PUBLISHED-TTL:PT1H
BEGIN:VTIMEZONE
TZID:America/New_York
BEGIN:DAYLIGHT
TZOFFSETFROM:-0500
TZOFFSETTO:-0400
TZNAME:EDT
DTSTART:20220313T070000
END:DAYLIGHT
BEGIN:STANDARD
TZOFFSETFROM:-0400
TZOFFSETTO:-0500
TZNAME:EST
DTSTART:20221106T060000
END:STANDARD
END:VTIMEZONE
BEGIN:VEVENT
DTSTART;TZID=America/New_York:20220205T163000
DTEND;TZID=America/New_York:20220205T173000
DTSTAMP:20221005T195133
CREATED:20220211T024245Z
LAST-MODIFIED:20220211T024245Z
UID:87729-1644078600-1644082200@www.kidsburgh.org
SUMMARY:Valentine's Cookie Decorating
DESCRIPTION:Social Revolution is hosting a cookie decorating class for children 5-12 and their parent. Come and learn from a professional decorator and enjoy your delicious creations! Hot cocoa bombs are available to purchase as well. Registration is required at https://social-rev.com/ola/services/valentine-cookie-decorating.
URL:https://www.kidsburgh.org/ec/valentines-cookie-decorating/
LOCATION:Social Sphere\, 162 Brickyard Rd. Suite 400\, Mars\, PA\, 16046\, United States
CATEGORIES:Community
ATTACH;FMTTYPE=image/jpeg:https://www.kidsburgh.org/wp-content/uploads/2022/01/SRcookiekids.jpg
ORGANIZER;CN="Social%20Revolution":MAILTO:support@social-rev.com
END:VEVENT
END:VCALENDAR