BEGIN:VCALENDAR
VERSION:2.0
PRODID:-//Kidsburgh - ECPv6.0.1.1//NONSGML v1.0//EN
CALSCALE:GREGORIAN
METHOD:PUBLISH
X-ORIGINAL-URL:https://www.kidsburgh.org
X-WR-CALDESC:Events for Kidsburgh
REFRESH-INTERVAL;VALUE=DURATION:PT1H
X-Robots-Tag:noindex
X-PUBLISHED-TTL:PT1H
BEGIN:VTIMEZONE
TZID:America/New_York
BEGIN:DAYLIGHT
TZOFFSETFROM:-0500
TZOFFSETTO:-0400
TZNAME:EDT
DTSTART:20210314T070000
END:DAYLIGHT
BEGIN:STANDARD
TZOFFSETFROM:-0400
TZOFFSETTO:-0500
TZNAME:EST
DTSTART:20211107T060000
END:STANDARD
END:VTIMEZONE
BEGIN:VEVENT
DTSTART;TZID=America/New_York:20210327T100000
DTEND;TZID=America/New_York:20210327T180000
DTSTAMP:20221005T195520
CREATED:20210316T182844Z
LAST-MODIFIED:20210316T182844Z
UID:76202-1616839200-1616868000@www.kidsburgh.org
SUMMARY:Simmons Farm Easter Egg Hunt
DESCRIPTION:Simmons Farm holds its annual Easter Egg Hunt daily from March 27-April 3 with eggs hidden in the greenhouse and orchard. Kids will decorate an Easter egg gathering bag\, then head out to collect 12 eggs to exchange for prizes. Other crafts include decorating a flowerpot and planting a flower or vegetable. Kids can cheer on ducky races and visit the petting zoo. Admission is $14.50 for kids (free for their grownups). No registration is required. Plan to wear masks along with the usual Covid restrictions.
URL:https://www.kidsburgh.org/ec/simmons-farm-easter-egg-hunt/2021-03-27/
LOCATION:Simmons Farm\, 170 Simmons Road\, McMurray PA\, 15317
ORGANIZER;CN="Simmons%20Farm":MAILTO:market@simmonsfarm.com
END:VEVENT
END:VCALENDAR