BEGIN:VCALENDAR
VERSION:2.0
PRODID:-//Kidsburgh - ECPv6.0.1.1//NONSGML v1.0//EN
CALSCALE:GREGORIAN
METHOD:PUBLISH
X-ORIGINAL-URL:https://www.kidsburgh.org
X-WR-CALDESC:Events for Kidsburgh
REFRESH-INTERVAL;VALUE=DURATION:PT1H
X-Robots-Tag:noindex
X-PUBLISHED-TTL:PT1H
BEGIN:VTIMEZONE
TZID:America/New_York
BEGIN:DAYLIGHT
TZOFFSETFROM:-0500
TZOFFSETTO:-0400
TZNAME:EDT
DTSTART:20220313T070000
END:DAYLIGHT
BEGIN:STANDARD
TZOFFSETFROM:-0400
TZOFFSETTO:-0500
TZNAME:EST
DTSTART:20221106T060000
END:STANDARD
END:VTIMEZONE
BEGIN:VEVENT
DTSTART;TZID=America/New_York:20220812T060000
DTEND;TZID=America/New_York:20220812T170000
DTSTAMP:20221005T201442
CREATED:20220714T143636Z
LAST-MODIFIED:20220714T143636Z
UID:93712-1660284000-1660323600@www.kidsburgh.org
SUMMARY:The Education Partnership and Bazzy and Bubba's Backpack Brigade with Star 100.7 and Shultz Ford Wexford
DESCRIPTION:Now more than ever\, students need access to school supplies\, including pencils\, notebooks\, and\, the all-important\, backpacks. Bazzy and Bubba’s Backpack Brigade is back to step in and help! Join The Education Partnership as we team up with Star 100.7 and Shultz Ford to collect new and gently used backpacks for students throughout Southwestern PA. Let’s give all students the chance to start the school year organized and ready to learn! \nStop by Shultz Ford in Wexford between 6 AM to 5 PM on Friday\, August 12\, 2022. While buying supplies for your children\, pick up an extra backpack and school supplies to donate. Star 100.7 will be onsite broadcasting live all day\, and food trucks and activities will be available throughout the day at Shultz Ford in Wexford. Don’t miss out on a great opportunity and event to give back to students in our communities.
URL:https://www.kidsburgh.org/ec/the-education-partnership-and-bazzy-and-bubbas-backpack-brigade-with-star-100-7-and-shultz-ford-wexford/
LOCATION:Shultz Ford Wexford\, 10401 Perry Hwy\, Wexford\, PA\, 15090
CATEGORIES:Education,Community
ATTACH;FMTTYPE=image/jpeg:https://www.kidsburgh.org/wp-content/uploads/2022/07/backpack-brigade.jpg
ORGANIZER;CN="The%20Education%20Partnership":MAILTO:elizabeth@theeducationpartnership.org
END:VEVENT
END:VCALENDAR