BEGIN:VCALENDAR
VERSION:2.0
PRODID:-//Kidsburgh - ECPv6.0.1.1//NONSGML v1.0//EN
CALSCALE:GREGORIAN
METHOD:PUBLISH
X-WR-CALNAME:Kidsburgh
X-ORIGINAL-URL:https://www.kidsburgh.org
X-WR-CALDESC:Events for Kidsburgh
REFRESH-INTERVAL;VALUE=DURATION:PT1H
X-Robots-Tag:noindex
X-PUBLISHED-TTL:PT1H
BEGIN:VTIMEZONE
TZID:America/New_York
BEGIN:DAYLIGHT
TZOFFSETFROM:-0500
TZOFFSETTO:-0400
TZNAME:EDT
DTSTART:20220313T070000
END:DAYLIGHT
BEGIN:STANDARD
TZOFFSETFROM:-0400
TZOFFSETTO:-0500
TZNAME:EST
DTSTART:20221106T060000
END:STANDARD
END:VTIMEZONE
BEGIN:VEVENT
DTSTART;TZID=America/New_York:20220814T120000
DTEND;TZID=America/New_York:20220814T160000
DTSTAMP:20221005T202034
CREATED:20220808T135344Z
LAST-MODIFIED:20220808T135344Z
UID:94406-1660478400-1660492800@www.kidsburgh.org
SUMMARY:Kid's Day in Schenley Plaza
DESCRIPTION:Come to Schenley Plaza for free activities for children (and children at heart) including balloon artist\, craft activities\, special guests and performers\, and free rides on the PNC Carousel! Registration is not required.
URL:https://www.kidsburgh.org/ec/kids-day-in-schenley-plaza-2/
LOCATION:Shenley Plaza\, Pittsburgh\, PA\, 15222\, United States
CATEGORIES:Community
ATTACH;FMTTYPE=image/png:https://www.kidsburgh.org/wp-content/uploads/2022/08/Kids_Day.png
ORGANIZER;CN="Playful%20Pittsburgh%20Collaborative":MAILTO:sarahs@tryingtogether.org
END:VEVENT
BEGIN:VEVENT
DTSTART;TZID=America/New_York:20220812T110000
DTEND;TZID=America/New_York:20220812T120000
DTSTAMP:20221005T202034
CREATED:20220808T134926Z
LAST-MODIFIED:20220808T135042Z
UID:94401-1660302000-1660305600@www.kidsburgh.org
SUMMARY:Storytime – Schenley Plaza
DESCRIPTION:Bring your children and enjoy a story under the Schenley Plaza tent. After storytime\, enjoy a free ride on the PNC carousel.
URL:https://www.kidsburgh.org/ec/storytime-schenley-plaza-2/2022-08-12/
LOCATION:Shenley Plaza\, Pittsburgh\, PA\, 15222\, United States
CATEGORIES:Community
ATTACH;FMTTYPE=image/jpeg:https://www.kidsburgh.org/wp-content/uploads/2022/08/storytime.jpeg
END:VEVENT
BEGIN:VEVENT
DTSTART;TZID=America/New_York:20220703T080000
DTEND;TZID=America/New_York:20220703T170000
DTSTAMP:20221005T202034
CREATED:20220521T013022Z
LAST-MODIFIED:20220521T014058Z
UID:92045-1656835200-1656867600@www.kidsburgh.org
SUMMARY:Movies in the Park
DESCRIPTION:Free movie screenings every Sunday! \nGrab a blanket or lawn chair and head out for an unforgettable evening of free cinema under the stars!  Dollar Bank Cinema in the Park entertains throughout the summer in various park settings.
URL:https://www.kidsburgh.org/ec/movies-in-the-park/2022-07-03/
LOCATION:Shenley Plaza\, Pittsburgh\, PA\, 15222\, United States
CATEGORIES:Community
ATTACH;FMTTYPE=image/jpeg:https://www.kidsburgh.org/wp-content/uploads/2022/05/14683_Cinema-in-the-Park-Hero.jpg
END:VEVENT
END:VCALENDAR