BEGIN:VCALENDAR
VERSION:2.0
PRODID:-//Kidsburgh - ECPv6.0.1.1//NONSGML v1.0//EN
CALSCALE:GREGORIAN
METHOD:PUBLISH
X-ORIGINAL-URL:https://www.kidsburgh.org
X-WR-CALDESC:Events for Kidsburgh
REFRESH-INTERVAL;VALUE=DURATION:PT1H
X-Robots-Tag:noindex
X-PUBLISHED-TTL:PT1H
BEGIN:VTIMEZONE
TZID:America/New_York
BEGIN:DAYLIGHT
TZOFFSETFROM:-0500
TZOFFSETTO:-0400
TZNAME:EDT
DTSTART:20220313T070000
END:DAYLIGHT
BEGIN:STANDARD
TZOFFSETFROM:-0400
TZOFFSETTO:-0500
TZNAME:EST
DTSTART:20221106T060000
END:STANDARD
END:VTIMEZONE
BEGIN:VEVENT
DTSTART;TZID=America/New_York:20221001T140000
DTEND;TZID=America/New_York:20221001T150000
DTSTAMP:20221005T200233
CREATED:20220921T030309Z
LAST-MODIFIED:20220921T030309Z
UID:96070-1664632800-1664636400@www.kidsburgh.org
SUMMARY:The 13th Ring: A Magic Show for Kids
DESCRIPTION:Some of Pittsburgh’s best wizards will materialize in the Scott Township Public Library to astound and delight children ages 5 and up. The fun starts promptly on Saturday\, October 1st at 2:00 P.M. \nThis event will take place in the Main Meeting Room. Space is limited so please arrive early to get a good seat! Registration is NOT required.
URL:https://www.kidsburgh.org/ec/the-13th-ring-a-magic-show-for-kids/
LOCATION:scott township public library\, 301 Lindsay Road\, Scott Township\, PA\, 15106\, United States
CATEGORIES:Community
ATTACH;FMTTYPE=image/png:https://www.kidsburgh.org/wp-content/uploads/2022/09/holiday_pumpkin_cute.png
END:VEVENT
BEGIN:VEVENT
DTSTART;TZID=America/New_York:20220324T110000
DTEND;TZID=America/New_York:20220324T113000
DTSTAMP:20221005T200233
CREATED:20220316T131735Z
LAST-MODIFIED:20220316T131735Z
UID:89124-1648119600-1648121400@www.kidsburgh.org
SUMMARY:Babies and Books
DESCRIPTION:Babies 0-24 months with caregiver come listen to stories\, sing songs\, play with scarves\, and more. Registration is required and limit of six babies.
URL:https://www.kidsburgh.org/ec/babies-and-books/2022-03-24/
LOCATION:scott township public library\, 301 Lindsay Road\, Scott Township\, PA\, 15106\, United States
CATEGORIES:Education
END:VEVENT
BEGIN:VEVENT
DTSTART;TZID=America/New_York:20220316T130000
DTEND;TZID=America/New_York:20220316T133000
DTSTAMP:20221005T200233
CREATED:20220316T131531Z
LAST-MODIFIED:20220316T131531Z
UID:89100-1647435600-1647437400@www.kidsburgh.org
SUMMARY:Scott Township Public Library Story Times
DESCRIPTION:Join Scott Township Public Library for storytime! Children ages 2-5\, with a caregiver\, are welcome to join us for a fun-filled Storytime! Come show your child the joy of reading by sharing in a few stories\, rhymes and songs. Registration required on scottlibrary.org.
URL:https://www.kidsburgh.org/ec/scott-township-public-library-story-times/2022-03-16/
LOCATION:scott township public library\, 301 Lindsay Road\, Scott Township\, PA\, 15106\, United States
CATEGORIES:Education
ATTACH;FMTTYPE=image/jpeg:https://www.kidsburgh.org/wp-content/uploads/2022/03/TN_cute-girl-reading-book-in-kindergrden-classroom-clipart.jpg
END:VEVENT
END:VCALENDAR