BEGIN:VCALENDAR
VERSION:2.0
PRODID:-//Kidsburgh - ECPv6.0.1.1//NONSGML v1.0//EN
CALSCALE:GREGORIAN
METHOD:PUBLISH
X-ORIGINAL-URL:https://www.kidsburgh.org
X-WR-CALDESC:Events for Kidsburgh
REFRESH-INTERVAL;VALUE=DURATION:PT1H
X-Robots-Tag:noindex
X-PUBLISHED-TTL:PT1H
BEGIN:VTIMEZONE
TZID:America/New_York
BEGIN:DAYLIGHT
TZOFFSETFROM:-0500
TZOFFSETTO:-0400
TZNAME:EDT
DTSTART:20210314T070000
END:DAYLIGHT
BEGIN:STANDARD
TZOFFSETFROM:-0400
TZOFFSETTO:-0500
TZNAME:EST
DTSTART:20211107T060000
END:STANDARD
BEGIN:DAYLIGHT
TZOFFSETFROM:-0500
TZOFFSETTO:-0400
TZNAME:EDT
DTSTART:20220313T070000
END:DAYLIGHT
BEGIN:STANDARD
TZOFFSETFROM:-0400
TZOFFSETTO:-0500
TZNAME:EST
DTSTART:20221106T060000
END:STANDARD
END:VTIMEZONE
BEGIN:VEVENT
DTSTART;TZID=America/New_York:20220617T193000
DTEND;TZID=America/New_York:20220617T213000
DTSTAMP:20221005T200910
CREATED:20220531T134038Z
LAST-MODIFIED:20220531T134038Z
UID:92261-1655494200-1655501400@www.kidsburgh.org
SUMMARY:E-Parks
DESCRIPTION:Join like-minded gamers as you play video games projected on the Schenley Plaza Oval Tent while listing to beats from a guest DJ. \nAll are welcome to play or watch!
URL:https://www.kidsburgh.org/ec/e-parks/
LOCATION:Schenley Plaza Tent
CATEGORIES:Community
ATTACH;FMTTYPE=image/jpeg:https://www.kidsburgh.org/wp-content/uploads/2022/05/a62a1158-a7f3-4191-8f85-b6f2ce3c4f33.jpeg
END:VEVENT
BEGIN:VEVENT
DTSTART;TZID=America/New_York:20220605T140000
DTEND;TZID=America/New_York:20220605T150000
DTSTAMP:20221005T200910
CREATED:20220520T204321Z
LAST-MODIFIED:20220520T204321Z
UID:91506-1654437600-1654441200@www.kidsburgh.org
SUMMARY:The Fabulous High Flying Guaraldi Brothers
DESCRIPTION:Join us for a fun\, sensory friendly concert by Azure Family Concerts Pittsburgh\, where all behaviors are welcome. This event features jazz pianist Tom Roberts and drummer Dave Klug playing music from Charlie Brown and Peanuts. Dave is also an award winning cartoonist\, so if you’d like to try your hand at drawing Charlie Brown & friends\, you’ll get some pro tips at the concert as well. As always\, there will be an instrument petting zoo following the performance. All Behaviors Welcome! Reserve your FREE tickets at our website azurepittsburgh.org/events
URL:https://www.kidsburgh.org/ec/the-fabulous-high-flying-guaraldi-brothers-2/
LOCATION:Schenley Plaza Tent
CATEGORIES:Arts and Culture,Advocacy,Community
ATTACH;FMTTYPE=image/jpeg:https://www.kidsburgh.org/wp-content/uploads/2022/05/e0c4ca_ed10be0b984343bda6360e7e84e0d05c_mv2.jpeg
END:VEVENT
BEGIN:VEVENT
DTSTART;TZID=America/New_York:20220605T140000
DTEND;TZID=America/New_York:20220605T150000
DTSTAMP:20221005T200910
CREATED:20220520T204121Z
LAST-MODIFIED:20220520T204121Z
UID:91503-1654437600-1654441200@www.kidsburgh.org
SUMMARY:The Fabulous High Flying Guaraldi Brothers
DESCRIPTION:Join us for a fun\, sensory friendly concert by Azure Family Concerts Pittsburgh\, where all behaviors are welcome. This event features jazz pianist Tom Roberts and drummer Dave Klug playing music from Charlie Brown and Peanuts. Dave is also an award winning cartoonist\, so if you’d like to try your hand at drawing Charlie Brown & friends\, you’ll get some pro tips at the concert as well. As always\, there will be an instrument petting zoo following the performance. All Behaviors Welcome! Reserve your FREE tickets at our website azurepittsburgh.org/events
URL:https://www.kidsburgh.org/ec/the-fabulous-high-flying-guaraldi-brothers/
LOCATION:Schenley Plaza Tent
CATEGORIES:Arts and Culture,Advocacy,Community
ATTACH;FMTTYPE=image/jpeg:https://www.kidsburgh.org/wp-content/uploads/2022/05/June-5-Azure-Poster-scaled.jpg
ORGANIZER;CN="Azure%20Family%20Concerts%20Pittsburgh":MAILTO:azurepittsburgh@gmail.com
END:VEVENT
BEGIN:VEVENT
DTSTART;TZID=America/New_York:20220603T110000
DTEND;TZID=America/New_York:20220603T120000
DTSTAMP:20221005T200910
CREATED:20220531T132628Z
LAST-MODIFIED:20220531T132628Z
UID:92217-1654254000-1654257600@www.kidsburgh.org
SUMMARY:Storytime
DESCRIPTION:Bring your children and enjoy a story under the Schenley Plaza tent. After storytime\, enjoy a free ride on the PNC Carousel! \nSign up at the Pittsburgh Parks Conservancy’s website!
URL:https://www.kidsburgh.org/ec/storytime/2022-06-03/
LOCATION:Schenley Plaza Tent
CATEGORIES:Community
ATTACH;FMTTYPE=image/jpeg:https://www.kidsburgh.org/wp-content/uploads/2022/05/Storytime.jpg
END:VEVENT
BEGIN:VEVENT
DTSTART;TZID=America/New_York:20220526T183000
DTEND;TZID=America/New_York:20220526T193000
DTSTAMP:20221005T200910
CREATED:20220420T080850Z
LAST-MODIFIED:20220420T080850Z
UID:90401-1653589800-1653593400@www.kidsburgh.org
SUMMARY:PPC's Dance and be Fit with Roland Ford
DESCRIPTION:Join Roland of Dance & Be Fit and get your body active during the spring and summer months! These movements are inclusive to all and will have you feeling great! \nFitness programs at Schenley Plaza are generously supported by UPMC.
URL:https://www.kidsburgh.org/ec/ppcs-dance-and-be-fit-with-roland-ford-2/
LOCATION:Schenley Plaza Tent
CATEGORIES:Community
ATTACH;FMTTYPE=image/jpeg:https://www.kidsburgh.org/wp-content/uploads/2022/04/Dance-and-be-fit.jpg
END:VEVENT
BEGIN:VEVENT
DTSTART;TZID=America/New_York:20210813T203000
DTEND;TZID=America/New_York:20210813T220000
DTSTAMP:20221005T200910
CREATED:20210725T172309Z
LAST-MODIFIED:20210725T172309Z
UID:80917-1628886600-1628892000@www.kidsburgh.org
SUMMARY:E-Sport: Schenley Plaza
DESCRIPTION:Join gamers under the tent at Schenley Plaza for a non-competitive gaming experience. Participants are asked to bring their own wireless Xbox One controllers for COVID-19 safety.
URL:https://www.kidsburgh.org/ec/e-sport-schenley-plaza/
LOCATION:Schenley Plaza Tent
CATEGORIES:Science and Technology
ATTACH;FMTTYPE=image/png:https://www.kidsburgh.org/wp-content/uploads/2021/07/E-Sports.png
END:VEVENT
BEGIN:VEVENT
DTSTART;TZID=America/New_York:20210812T120000
DTEND;TZID=America/New_York:20210812T133000
DTSTAMP:20221005T200910
CREATED:20210725T172231Z
LAST-MODIFIED:20210725T172231Z
UID:80914-1628769600-1628775000@www.kidsburgh.org
SUMMARY:Live Lunchtime Music hosted by Calliope
DESCRIPTION: Calliope is a nonprofit educational and presenting organization dedicated to the promotion and preservation of traditional and contemporary folk music and its allied arts. Music is a language through which we speak\, learn\, create\, and come to know our world\, engaging individuals of all backgrounds. Through their programs\, they seek to connect people through the particular power of folk music.
URL:https://www.kidsburgh.org/ec/live-lunchtime-music-hosted-by-calliope-2/
LOCATION:Schenley Plaza Tent
CATEGORIES:Education
ATTACH;FMTTYPE=image/jpeg:https://www.kidsburgh.org/wp-content/uploads/2021/07/Calliope.jpg
END:VEVENT
END:VCALENDAR