BEGIN:VCALENDAR
VERSION:2.0
PRODID:-//Kidsburgh - ECPv6.0.1.1//NONSGML v1.0//EN
CALSCALE:GREGORIAN
METHOD:PUBLISH
X-ORIGINAL-URL:https://www.kidsburgh.org
X-WR-CALDESC:Events for Kidsburgh
REFRESH-INTERVAL;VALUE=DURATION:PT1H
X-Robots-Tag:noindex
X-PUBLISHED-TTL:PT1H
BEGIN:VTIMEZONE
TZID:America/New_York
BEGIN:DAYLIGHT
TZOFFSETFROM:-0500
TZOFFSETTO:-0400
TZNAME:EDT
DTSTART:20190310T070000
END:DAYLIGHT
BEGIN:STANDARD
TZOFFSETFROM:-0400
TZOFFSETTO:-0500
TZNAME:EST
DTSTART:20191103T060000
END:STANDARD
BEGIN:DAYLIGHT
TZOFFSETFROM:-0500
TZOFFSETTO:-0400
TZNAME:EDT
DTSTART:20200308T070000
END:DAYLIGHT
BEGIN:STANDARD
TZOFFSETFROM:-0400
TZOFFSETTO:-0500
TZNAME:EST
DTSTART:20201101T060000
END:STANDARD
BEGIN:DAYLIGHT
TZOFFSETFROM:-0500
TZOFFSETTO:-0400
TZNAME:EDT
DTSTART:20210314T070000
END:DAYLIGHT
BEGIN:STANDARD
TZOFFSETFROM:-0400
TZOFFSETTO:-0500
TZNAME:EST
DTSTART:20211107T060000
END:STANDARD
END:VTIMEZONE
BEGIN:VEVENT
DTSTART;TZID=America/New_York:20210808T100000
DTEND;TZID=America/New_York:20210808T110000
DTSTAMP:20221005T202144
CREATED:20210725T171958Z
LAST-MODIFIED:20210725T171958Z
UID:80910-1628416800-1628420400@www.kidsburgh.org
SUMMARY:The Barre Code Total Body Workout at Schenley Plaza
DESCRIPTION:he Barre Code Total Body Workout is for cardio\, strength and more! Bring your mat and water bottle to Schenley Plaza for this free class . All levels are encouraged to join.
URL:https://www.kidsburgh.org/ec/the-barre-code-total-body-workout-at-schenley-plaza/
LOCATION:Schenley Plaza\, 4100 Forbes Ave\, Pittsburgh\, PA\, 15213\, United States
CATEGORIES:Health and Wellness
ATTACH;FMTTYPE=image/jpeg:https://www.kidsburgh.org/wp-content/uploads/2021/07/Total-Barre-1.jpg
GEO:40.4431825;-79.9532681
X-APPLE-STRUCTURED-LOCATION;VALUE=URI;X-ADDRESS=Schenley Plaza 4100 Forbes Ave Pittsburgh PA 15213 United States;X-APPLE-RADIUS=500;X-TITLE=4100 Forbes Ave:geo:-79.9532681,40.4431825
END:VEVENT
BEGIN:VEVENT
DTSTART;TZID=America/New_York:20210711T120000
DTEND;TZID=America/New_York:20210711T160000
DTSTAMP:20221005T202144
CREATED:20210628T180135Z
LAST-MODIFIED:20210628T180135Z
UID:80114-1626004800-1626019200@www.kidsburgh.org
SUMMARY:Kid’s Day in Schenley Plaza
DESCRIPTION:Come to Schenley Plaza for free activities for children (and children at heart) including a balloon artist\, craft activities\, special guests and performers\, and free rides on the PNC Carousel! Also\, don’t miss out on Millie’s Ice Cream Truck\, which will be on-site for the August\, September\, and October Kid’s Days!
URL:https://www.kidsburgh.org/ec/kids-day-in-schenley-plaza/
LOCATION:Schenley Plaza\, 4100 Forbes Ave\, Pittsburgh\, PA\, 15213\, United States
CATEGORIES:Community
ATTACH;FMTTYPE=image/png:https://www.kidsburgh.org/wp-content/uploads/2021/06/Kids_Day19509.png
GEO:40.4431825;-79.9532681
X-APPLE-STRUCTURED-LOCATION;VALUE=URI;X-ADDRESS=Schenley Plaza 4100 Forbes Ave Pittsburgh PA 15213 United States;X-APPLE-RADIUS=500;X-TITLE=4100 Forbes Ave:geo:-79.9532681,40.4431825
END:VEVENT
BEGIN:VEVENT
DTSTART;TZID=America/New_York:20210618T103000
DTEND;TZID=America/New_York:20210618T110000
DTSTAMP:20221005T202144
CREATED:20210614T150252Z
LAST-MODIFIED:20210614T150328Z
UID:79466-1624012200-1624014000@www.kidsburgh.org
SUMMARY:Storytime in Schenley Plaza
DESCRIPTION:You and your little learner are invited to join Storytime every Friday in Schenley Plaza for a story reading followed by a free ride on the PNC Carousel (weather permitting). Recommended for toddlers. \nSpecial thanks to PA Distance Learning for partnering with us on this exciting program!
URL:https://www.kidsburgh.org/ec/storytime-in-schenley-plaza-3/2021-06-18/
LOCATION:Schenley Plaza\, 4100 Forbes Ave\, Pittsburgh\, PA\, 15213\, United States
CATEGORIES:Education
ATTACH;FMTTYPE=image/jpeg:https://www.kidsburgh.org/wp-content/uploads/2021/06/37821916_10155586879261269_8485120291712794624_n-760x760-2.jpeg
GEO:40.4431825;-79.9532681
X-APPLE-STRUCTURED-LOCATION;VALUE=URI;X-ADDRESS=Schenley Plaza 4100 Forbes Ave Pittsburgh PA 15213 United States;X-APPLE-RADIUS=500;X-TITLE=4100 Forbes Ave:geo:-79.9532681,40.4431825
END:VEVENT
BEGIN:VEVENT
DTSTART;TZID=America/New_York:20210613T120000
DTEND;TZID=America/New_York:20210613T170000
DTSTAMP:20221005T202144
CREATED:20210607T215341Z
LAST-MODIFIED:20210607T215341Z
UID:79321-1623585600-1623603600@www.kidsburgh.org
SUMMARY:Kid’s Day at Schenley Plaza
DESCRIPTION:Kid’s Day\, Schenley Plaza: June 13\nPittsburgh Parks Conservancy welcomes families to Kid’s Day at Schenley Plaza for an afternoon of fun in the sun — or under the tent. Kids will love the balloon artist\, hands-on craft activities and live performers. Moms and dads will love the price: It’s all free\, including rides on the PNC Carousel. No registration is needed. Just stop by between noon and 5 p.m.
URL:https://www.kidsburgh.org/ec/kids-day-at-schenley-plaza/
LOCATION:Schenley Plaza\, 4100 Forbes Ave\, Pittsburgh\, PA\, 15213\, United States
GEO:40.4431825;-79.9532681
X-APPLE-STRUCTURED-LOCATION;VALUE=URI;X-ADDRESS=Schenley Plaza 4100 Forbes Ave Pittsburgh PA 15213 United States;X-APPLE-RADIUS=500;X-TITLE=4100 Forbes Ave:geo:-79.9532681,40.4431825
END:VEVENT
BEGIN:VEVENT
DTSTART;TZID=America/New_York:20200822T100000
DTEND;TZID=America/New_York:20200822T110000
DTSTAMP:20221005T202144
CREATED:20200818T215715Z
LAST-MODIFIED:20200818T215715Z
UID:69520-1598090400-1598094000@www.kidsburgh.org
SUMMARY:Yoga in Schenley Plaza
DESCRIPTION:YOGA IN SCHENLEY PLAZA\nSaturday @ 10:00 A.M.\nMonday @ 12:00 P.M.\nThis program is made possible by UPMC Health Plan.\n\nSaturday\, August 22\nMonday\, August 24\nSaturday\, August 29\nMonday\, August 31\n\nSaturday\, September 5\nSaturday\, September 12\nMonday\, September 14\nSaturday\, September 19\nMonday\, September 21\nSaturday\, September 26\nMonday\, September 28\n\nPROGRAM INFORMATION\nAll classes are free and all levels are welcome.\nParticipants are encouraged to pre-register for class.\nStay home if you have any symptom of COVID-19.\nParticipants should bring their own mat and towel.\nParticipants will wear a mask during registration. Masks may be removed only when you are on your mat.\nPractice physical distancing – be at least six (6) feet apart.\nAvoid touching your face\, use a towel if necessary.\nWash and sanitize your hands frequently.\nParticipants are encouraged to sanitize mat before and after each session and launder towel and work-out clothes after each session.
URL:https://www.kidsburgh.org/ec/yoga-in-schenley-plaza/2020-08-22/
LOCATION:Schenley Plaza\, 4100 Forbes Ave\, Pittsburgh\, PA\, 15213\, United States
GEO:40.4431825;-79.9532681
X-APPLE-STRUCTURED-LOCATION;VALUE=URI;X-ADDRESS=Schenley Plaza 4100 Forbes Ave Pittsburgh PA 15213 United States;X-APPLE-RADIUS=500;X-TITLE=4100 Forbes Ave:geo:-79.9532681,40.4431825
END:VEVENT
BEGIN:VEVENT
DTSTART;TZID=America/New_York:20200822T100000
DTEND;TZID=America/New_York:20200822T110000
DTSTAMP:20221005T202144
CREATED:20200818T215715Z
LAST-MODIFIED:20200818T215715Z
UID:74284-1598090400-1598094000@www.kidsburgh.org
SUMMARY:Yoga in Schenley Plaza
DESCRIPTION:YOGA IN SCHENLEY PLAZA\nSaturday @ 10:00 A.M.\nMonday @ 12:00 P.M.\nThis program is made possible by UPMC Health Plan.\n\nSaturday\, August 22\nMonday\, August 24\nSaturday\, August 29\nMonday\, August 31\n\nSaturday\, September 5\nSaturday\, September 12\nMonday\, September 14\nSaturday\, September 19\nMonday\, September 21\nSaturday\, September 26\nMonday\, September 28\n\nPROGRAM INFORMATION\nAll classes are free and all levels are welcome.\nParticipants are encouraged to pre-register for class.\nStay home if you have any symptom of COVID-19.\nParticipants should bring their own mat and towel.\nParticipants will wear a mask during registration. Masks may be removed only when you are on your mat.\nPractice physical distancing – be at least six (6) feet apart.\nAvoid touching your face\, use a towel if necessary.\nWash and sanitize your hands frequently.\nParticipants are encouraged to sanitize mat before and after each session and launder towel and work-out clothes after each session.
URL:https://www.kidsburgh.org/ec/yoga-in-schenley-plaza-2/2020-08-22/
LOCATION:Schenley Plaza\, 4100 Forbes Ave\, Pittsburgh\, PA\, 15213\, United States
GEO:40.4431825;-79.9532681
X-APPLE-STRUCTURED-LOCATION;VALUE=URI;X-ADDRESS=Schenley Plaza 4100 Forbes Ave Pittsburgh PA 15213 United States;X-APPLE-RADIUS=500;X-TITLE=4100 Forbes Ave:geo:-79.9532681,40.4431825
END:VEVENT
BEGIN:VEVENT
DTSTART;TZID=America/New_York:20200807T190000
DTEND;TZID=America/New_York:20200807T200000
DTSTAMP:20221005T202144
CREATED:20200805T193930Z
LAST-MODIFIED:20200805T193930Z
UID:69079-1596826800-1596830400@www.kidsburgh.org
SUMMARY:Dance and Be Fit with Roland Ford
DESCRIPTION:DANCE AND BE FIT WITH ROLAND FORD\n\nSCHENLEY PLAZA TENT – FRIDAY @ 7:00 P.M. \nThis program is made possible by UPMC Health Plan.\n\nAugust 7\nAugust 14\nAugust 21\nAugust 28\n\n\n\nEveryone deserves the gift of better health especially when it can boost our immune system and help reduce stress during this challenging time. Get moving and stay active by dancing! This class is designed for all ages and abilities. Join us under the Tent at Schenley Plaza. \nPlease complete COVID-19 waiver before arriving to class and email to info@pittsburghparks.org \n\nAll classes are free and all levels are welcome\nParticipants are encouraged to pre-register for class\nStay home if you have any symptom of COVID-19\nParticipants will wear a mask during registration. If necessary\, masks may be removed only while dancing.\nPractice physical distancing – be at least six (6) feet apart\nAvoid touching your face\, use a towel if necessary\nWash and sanitize your hands frequently\nParticipants are encouraged to sanitize before and after each session and launder towel and work-out clothes after each session\n\nThis program is made possible through the UPMC Health Plan.
URL:https://www.kidsburgh.org/ec/dance-and-be-fit-with-roland-ford/2020-08-07/
LOCATION:Schenley Plaza\, 4100 Forbes Ave\, Pittsburgh\, PA\, 15213\, United States
GEO:40.4431825;-79.9532681
X-APPLE-STRUCTURED-LOCATION;VALUE=URI;X-ADDRESS=Schenley Plaza 4100 Forbes Ave Pittsburgh PA 15213 United States;X-APPLE-RADIUS=500;X-TITLE=4100 Forbes Ave:geo:-79.9532681,40.4431825
END:VEVENT
BEGIN:VEVENT
DTSTART;TZID=America/New_York:20200807T190000
DTEND;TZID=America/New_York:20200807T200000
DTSTAMP:20221005T202144
CREATED:20200805T193930Z
LAST-MODIFIED:20200805T193930Z
UID:74270-1596826800-1596830400@www.kidsburgh.org
SUMMARY:Dance and Be Fit with Roland Ford
DESCRIPTION:DANCE AND BE FIT WITH ROLAND FORD\n\nSCHENLEY PLAZA TENT – FRIDAY @ 7:00 P.M. \nThis program is made possible by UPMC Health Plan.\n\nAugust 7\nAugust 14\nAugust 21\nAugust 28\n\n\n\nEveryone deserves the gift of better health especially when it can boost our immune system and help reduce stress during this challenging time. Get moving and stay active by dancing! This class is designed for all ages and abilities. Join us under the Tent at Schenley Plaza. \nPlease complete COVID-19 waiver before arriving to class and email to info@pittsburghparks.org \n\nAll classes are free and all levels are welcome\nParticipants are encouraged to pre-register for class\nStay home if you have any symptom of COVID-19\nParticipants will wear a mask during registration. If necessary\, masks may be removed only while dancing.\nPractice physical distancing – be at least six (6) feet apart\nAvoid touching your face\, use a towel if necessary\nWash and sanitize your hands frequently\nParticipants are encouraged to sanitize before and after each session and launder towel and work-out clothes after each session\n\nThis program is made possible through the UPMC Health Plan.
URL:https://www.kidsburgh.org/ec/dance-and-be-fit-with-roland-ford-2/2020-08-07/
LOCATION:Schenley Plaza\, 4100 Forbes Ave\, Pittsburgh\, PA\, 15213\, United States
GEO:40.4431825;-79.9532681
X-APPLE-STRUCTURED-LOCATION;VALUE=URI;X-ADDRESS=Schenley Plaza 4100 Forbes Ave Pittsburgh PA 15213 United States;X-APPLE-RADIUS=500;X-TITLE=4100 Forbes Ave:geo:-79.9532681,40.4431825
END:VEVENT
BEGIN:VEVENT
DTSTART;TZID=America/New_York:20191006T090000
DTEND;TZID=America/New_York:20191006T140000
DTSTAMP:20221005T202144
CREATED:20190924T141743Z
LAST-MODIFIED:20190924T141743Z
UID:54771-1570352400-1570370400@www.kidsburgh.org
SUMMARY:Chess Week Celebration
DESCRIPTION:In 2017\, former City Councilmember Dan Gillman wrote a proclamation to celebrate chess in the City of Pittsburgh. In 2018\, County Councilperson Tom Baker expanded this celebration to Chess Week in Allegheny County! \nWe are so thankful for the local government support of chess. To honor this week\, the Queen’s Gambit Chess Institute is hosting a celebration event on Sunday\, October 6th from 9:00 am – 2:00 pm at Schenley Plaza under the tent. The event includes a speed chess tournament\, a simul with a national grandmaster\, and lessons for new players.
URL:https://www.kidsburgh.org/ec/chess-week-celebration/
LOCATION:Schenley Plaza\, 4100 Forbes Ave\, Pittsburgh\, PA\, 15213\, United States
CATEGORIES:Education,Community
ATTACH;FMTTYPE=image/jpeg:https://www.kidsburgh.org/wp-content/uploads/2019/09/Official-2017-e1571765563105.jpg
ORGANIZER;CN="The%20Queen%27s%20Gambit%20Chess%20Institute":MAILTO:chess.tqg@gmail.com
GEO:40.4431825;-79.9532681
X-APPLE-STRUCTURED-LOCATION;VALUE=URI;X-ADDRESS=Schenley Plaza 4100 Forbes Ave Pittsburgh PA 15213 United States;X-APPLE-RADIUS=500;X-TITLE=4100 Forbes Ave:geo:-79.9532681,40.4431825
END:VEVENT
END:VCALENDAR