BEGIN:VCALENDAR
VERSION:2.0
PRODID:-//Kidsburgh - ECPv6.0.1.1//NONSGML v1.0//EN
CALSCALE:GREGORIAN
METHOD:PUBLISH
X-WR-CALNAME:Kidsburgh
X-ORIGINAL-URL:https://www.kidsburgh.org
X-WR-CALDESC:Events for Kidsburgh
REFRESH-INTERVAL;VALUE=DURATION:PT1H
X-Robots-Tag:noindex
X-PUBLISHED-TTL:PT1H
BEGIN:VTIMEZONE
TZID:America/New_York
BEGIN:DAYLIGHT
TZOFFSETFROM:-0500
TZOFFSETTO:-0400
TZNAME:EDT
DTSTART:20190310T070000
END:DAYLIGHT
BEGIN:STANDARD
TZOFFSETFROM:-0400
TZOFFSETTO:-0500
TZNAME:EST
DTSTART:20191103T060000
END:STANDARD
END:VTIMEZONE
BEGIN:VEVENT
DTSTART;TZID=America/New_York:20191102T130000
DTEND;TZID=America/New_York:20191102T160000
DTSTAMP:20221005T201022
CREATED:20191030T201826Z
LAST-MODIFIED:20200409T142718Z
UID:56221-1572699600-1572710400@www.kidsburgh.org
SUMMARY:Hot Metal Happening at Schenely Fountain
DESCRIPTION:1-4 p.m. Saturday\, November \nDrop-in Hot Metal Happening at Schenley Fountain \nThe University Art Gallery (UAG) is partnering with Rivers of Steel Arts to offer a Hot Metal Happening for the public featuring a free\, drop-in aluminum casting workshop. Get hands-on and carve your own unique design into a customizable scratch mold. Then watch as the skilled foundry team casts each design in molten aluminum reaching 1200 degrees Fahrenheit. \nScratch mold workshops are fun for all ages and require no prior experience but Rivers of Steel Arts technicians are always close by to help you achieve the best final product. \nThe UAG will be open 12-4pm. Food\, refreshments and prizes! \n12.30pm: Spanish\, 20-minute drop-in tour of Metal from Clay: Pittsburgh’s Aluminum Stories\, currently on view in the UAG \n3pm: 20-minute drop-in tour of Metal from Clay: Pittsburgh’s Aluminum Stories\, currently on view in the UAG \nFree and open to the public. Drop-in for any and all of these activities!
URL:https://www.kidsburgh.org/ec/hot-metal-happening-at-schenely-fountain/
LOCATION:Schenley Drive\, Pittsburgh\, PA 15213\, Pittsburgh\, PA\, 15222\, United States
CATEGORIES:Arts and Culture
ATTACH;FMTTYPE=image/jpeg:https://www.kidsburgh.org/wp-content/uploads/2019/10/Hot_metal_happening-e1572621159529.jpg
ORGANIZER;CN="University%20Art%20Gallery":MAILTO:uag@pitt.edu
GEO:40.4475255;-79.9933976
END:VEVENT
END:VCALENDAR