BEGIN:VCALENDAR
VERSION:2.0
PRODID:-//Kidsburgh - ECPv6.0.1.1//NONSGML v1.0//EN
CALSCALE:GREGORIAN
METHOD:PUBLISH
X-WR-CALNAME:Kidsburgh
X-ORIGINAL-URL:https://www.kidsburgh.org
X-WR-CALDESC:Events for Kidsburgh
REFRESH-INTERVAL;VALUE=DURATION:PT1H
X-Robots-Tag:noindex
X-PUBLISHED-TTL:PT1H
BEGIN:VTIMEZONE
TZID:America/New_York
BEGIN:DAYLIGHT
TZOFFSETFROM:-0500
TZOFFSETTO:-0400
TZNAME:EDT
DTSTART:20190310T070000
END:DAYLIGHT
BEGIN:STANDARD
TZOFFSETFROM:-0400
TZOFFSETTO:-0500
TZNAME:EST
DTSTART:20191103T060000
END:STANDARD
BEGIN:DAYLIGHT
TZOFFSETFROM:-0500
TZOFFSETTO:-0400
TZNAME:EDT
DTSTART:20200308T070000
END:DAYLIGHT
BEGIN:STANDARD
TZOFFSETFROM:-0400
TZOFFSETTO:-0500
TZNAME:EST
DTSTART:20201101T060000
END:STANDARD
BEGIN:DAYLIGHT
TZOFFSETFROM:-0500
TZOFFSETTO:-0400
TZNAME:EDT
DTSTART:20210314T070000
END:DAYLIGHT
BEGIN:STANDARD
TZOFFSETFROM:-0400
TZOFFSETTO:-0500
TZNAME:EST
DTSTART:20211107T060000
END:STANDARD
BEGIN:DAYLIGHT
TZOFFSETFROM:-0500
TZOFFSETTO:-0400
TZNAME:EDT
DTSTART:20220313T070000
END:DAYLIGHT
BEGIN:STANDARD
TZOFFSETFROM:-0400
TZOFFSETTO:-0500
TZNAME:EST
DTSTART:20221106T060000
END:STANDARD
END:VTIMEZONE
BEGIN:VEVENT
DTSTART;TZID=America/New_York:20220430T153000
DTEND;TZID=America/New_York:20220430T173000
DTSTAMP:20221005T202127
CREATED:20220423T015656Z
LAST-MODIFIED:20220423T015656Z
UID:90548-1651332600-1651339800@www.kidsburgh.org
SUMMARY:Super Hero Science
DESCRIPTION:Learn the science behind your favorite superheroes and villains! Make kryptonite slime\, learn about the force of a Hulk smash\, test “indestructible” wolverine claws\, and much\, much\, more!
URL:https://www.kidsburgh.org/ec/super-hero-science/
LOCATION:Sarah Heinz House\, 1 Heinz St\,\, Pittsburgh\, PA\, 15212\, United States
CATEGORIES:Science and Technology,Education,Remake Learning
ATTACH;FMTTYPE=image/png:https://www.kidsburgh.org/wp-content/uploads/2022/04/04-30-2022_pa-southwestern_gindelen___48585.png
ORGANIZER;CN="Sarah%20Heinz%20House":MAILTO:bechtold@sarahheinzhouse.com
GEO:40.4546886;-79.9933102
X-APPLE-STRUCTURED-LOCATION;VALUE=URI;X-ADDRESS=Sarah Heinz House 1 Heinz St Pittsburgh PA 15212 United States;X-APPLE-RADIUS=500;X-TITLE=1 Heinz St\,:geo:-79.9933102,40.4546886
END:VEVENT
BEGIN:VEVENT
DTSTART;TZID=America/New_York:20191025T180000
DTEND;TZID=America/New_York:20191025T200000
DTSTAMP:20221005T202127
CREATED:20190927T202957Z
LAST-MODIFIED:20190927T202957Z
UID:54834-1572026400-1572033600@www.kidsburgh.org
SUMMARY:Sarah Heinz House Fall Fest
DESCRIPTION:Join us for a night of fall-themed Family Fun and see the unveiling of SHH 4.0\, the renovation of our original building! \nRegister for programs\, tour our facilities\, swim in our pool\, play games\, make crafts\, drive robots and create digital art at our newly-renovated \nNorthside facility! \nFree and open to the public!!! \n 
URL:https://www.kidsburgh.org/ec/sarah-heinz-house-fall-fest/
LOCATION:Sarah Heinz House\, 1 Heinz St\,\, Pittsburgh\, PA\, 15212\, United States
CATEGORIES:Arts and Culture,Science and Technology,Health and Wellness,Community
ATTACH;FMTTYPE=image/jpeg:https://www.kidsburgh.org/wp-content/uploads/2019/09/Orange-and-Red-Leaves-Fall-Festival-Flyer-e1571765520185.jpg
ORGANIZER;CN="Sarah%20Heinz%20House":MAILTO:bechtold@sarahheinzhouse.com
GEO:40.4546886;-79.9933102
X-APPLE-STRUCTURED-LOCATION;VALUE=URI;X-ADDRESS=Sarah Heinz House 1 Heinz St Pittsburgh PA 15212 United States;X-APPLE-RADIUS=500;X-TITLE=1 Heinz St\,:geo:-79.9933102,40.4546886
END:VEVENT
END:VCALENDAR