BEGIN:VCALENDAR
VERSION:2.0
PRODID:-//Kidsburgh - ECPv6.0.1.1//NONSGML v1.0//EN
CALSCALE:GREGORIAN
METHOD:PUBLISH
X-WR-CALNAME:Kidsburgh
X-ORIGINAL-URL:https://www.kidsburgh.org
X-WR-CALDESC:Events for Kidsburgh
REFRESH-INTERVAL;VALUE=DURATION:PT1H
X-Robots-Tag:noindex
X-PUBLISHED-TTL:PT1H
BEGIN:VTIMEZONE
TZID:America/New_York
BEGIN:DAYLIGHT
TZOFFSETFROM:-0500
TZOFFSETTO:-0400
TZNAME:EDT
DTSTART:20220313T070000
END:DAYLIGHT
BEGIN:STANDARD
TZOFFSETFROM:-0400
TZOFFSETTO:-0500
TZNAME:EST
DTSTART:20221106T060000
END:STANDARD
END:VTIMEZONE
BEGIN:VEVENT
DTSTART;TZID=America/New_York:20220430T103000
DTEND;TZID=America/New_York:20220430T110000
DTSTAMP:20221005T201153
CREATED:20220408T225722Z
LAST-MODIFIED:20220408T225722Z
UID:90230-1651314600-1651316400@www.kidsburgh.org
SUMMARY:Pittsburgh Dog & Frog Book Reading
DESCRIPTION:A reading of the children’s book\, Pittsburgh Dog & Frog by Annette Hostoffer. Join us as the author reads her book and takes us on a journey around Pittsburgh. Fun for all ages-grab your kids (and dogs) and head down to Salty Paws Pittsburgh (Pennsylvania’s first doggie ice cream bar) to learn about our city and all of its cool\, historic sites! Heinz\, the dog\, and his frog friend teach us about our rivers and bridges\, The Point and Pittsburgh’s significance in our Nation’s history. \nHave your picture taken with a 3-foot-tall cardboard cutout of Heinz while your pups enjoy some dog friendly ice cream and snacks (themed for the day)! Salty Paws Pittsburgh is Pennsylvania’s first doggie ice cream bar and is a dog friendly destination. Lean more about us here: www.saltypawspittsburgh.com
URL:https://www.kidsburgh.org/ec/pittsburgh-dog-frog-book-reading/
LOCATION:Salty Paws Pittsburgh\, 4126 Butler Street\, Pittsburgh\, PA\, 15201\, United States
CATEGORIES:Education,Community
ATTACH;FMTTYPE=image/jpeg:https://www.kidsburgh.org/wp-content/uploads/2022/04/dog-and-frog.jpg
END:VEVENT
END:VCALENDAR