BEGIN:VCALENDAR
VERSION:2.0
PRODID:-//Kidsburgh - ECPv6.0.1.1//NONSGML v1.0//EN
CALSCALE:GREGORIAN
METHOD:PUBLISH
X-WR-CALNAME:Kidsburgh
X-ORIGINAL-URL:https://www.kidsburgh.org
X-WR-CALDESC:Events for Kidsburgh
REFRESH-INTERVAL;VALUE=DURATION:PT1H
X-Robots-Tag:noindex
X-PUBLISHED-TTL:PT1H
BEGIN:VTIMEZONE
TZID:America/New_York
BEGIN:DAYLIGHT
TZOFFSETFROM:-0500
TZOFFSETTO:-0400
TZNAME:EDT
DTSTART:20190310T070000
END:DAYLIGHT
BEGIN:STANDARD
TZOFFSETFROM:-0400
TZOFFSETTO:-0500
TZNAME:EST
DTSTART:20191103T060000
END:STANDARD
END:VTIMEZONE
BEGIN:VEVENT
DTSTART;TZID=America/New_York:20191126T183000
DTEND;TZID=America/New_York:20191126T200000
DTSTAMP:20221005T200303
CREATED:20190807T181601Z
LAST-MODIFIED:20190807T181601Z
UID:53934-1574793000-1574798400@www.kidsburgh.org
SUMMARY:Saltworks Mini Workshops
DESCRIPTION:Saltworks Studio is a place to imagine\, explore\, and create! Our classes\, camps\, and workshops offer youth a warm\, welcoming\, and relaxed environment to dream up and perform original pieces of theater that range from silly improvised scenes to plays about the change our students would like to see in their world. With an emphasis on having fun\, positive attitudes\, and collaboration\, our programming encourages students to improve theater and communication skills at their own pace\, whether they’re brand new to acting or have been involved for years. \nSMini Workshop Series Focusing on “The Actor’s Toolkit”: Perfect for either an introduction to acting or for polishing existing skills! \nTuesdays\, 6:30-8:00pm\, Ages 10-16\, $15 each \n11/26 Stage Body: We’ll work on creating physically distinct characters and expressing emotions from head to toe \n12/3 Stage Voice: We’ll work on enunciation and projection then apply those skills to creating unique character voices \n12/10 Stage Presence: We’ll work on the nuances of performance\, like acting between the lines\, comedic and dramatic timing\, and motivated movement \nRegister for class and all three workshops for a total discounted price of just $150! \nAll programming takes place at 569 N Neville Street\, Pittsburgh\, 15213 \nRegister online at saltworks.org \nScholarships available! \nQuestions? rsmith@saltworks.org or (412) 621-6150 ext. 205
URL:https://www.kidsburgh.org/ec/saltworks-mini-workshops/2019-11-26/
LOCATION:Saltworks Theatre Company\, 569 N Neville Street\, Pittsburgh\, 15213\, United States
CATEGORIES:Arts and Culture,Education
GEO:40.4488115;-79.9478276
X-APPLE-STRUCTURED-LOCATION;VALUE=URI;X-ADDRESS=Saltworks Theatre Company 569 N Neville Street Pittsburgh 15213 United States;X-APPLE-RADIUS=500;X-TITLE=569 N Neville Street:geo:-79.9478276,40.4488115
END:VEVENT
BEGIN:VEVENT
DTSTART;TZID=America/New_York:20190924T183000
DTEND;TZID=America/New_York:20190924T200000
DTSTAMP:20221005T200303
CREATED:20190807T181045Z
LAST-MODIFIED:20190807T181045Z
UID:53791-1569349800-1569355200@www.kidsburgh.org
SUMMARY:Fall Theater Classes & Workshops at Saltworks
DESCRIPTION:Saltworks Studio is a place to imagine\, explore\, and create! Our classes\, camps\, and workshops offer youth a warm\, welcoming\, and relaxed environment to dream up and perform original pieces of theater that range from silly improvised scenes to plays about the change our students would like to see in their world. With an emphasis on having fun\, positive attitudes\, and collaboration\, our programming encourages students to improve theater and communication skills at their own pace\, whether they’re brand new to acting or have been involved for years. \nFall Class: It’s All About Improv \nTuesdays\, 9/24-11/12\, 6:30-8:00pm\, Ages 10-12 & 13-16\, $130 \nFrom silly scenes to complex characters\, being able to create entertaining theater at the drop of a hat is challenging but vital for actors of all ages and skill levels. We’ll start with the “rules” of improv\, sharpen our skills through lots of games and group activities\, and end the semester with a showcase that’ll give our students a chance to shine! \nMini Workshop Series Focusing on “The Actor’s Toolkit”: Perfect for either an introduction to acting or for polishing existing skills! \nTuesdays\, 6:30-8:00pm\, Ages 10-16\, $15 each \n11/26 Stage Body: We’ll work on creating physically distinct characters and expressing emotions from head to toe \n12/3 Stage Voice: We’ll work on enunciation and projection then apply those skills to creating unique character voices \n12/10 Stage Presence: We’ll work on the nuances of performance\, like acting between the lines\, comedic and dramatic timing\, and motivated movement \nRegister for class and all three workshops for a total discounted price of just $150! \nAll programming takes place at 569 N Neville Street\, Pittsburgh\, 15213 \nRegister online at saltworks.org \nScholarships available! \nQuestions? rsmith@saltworks.org or (412) 621-6150 ext. 205
URL:https://www.kidsburgh.org/ec/fall-theater-classes-workshops-at-saltworks/
LOCATION:Saltworks Theatre Company\, 569 N Neville Street\, Pittsburgh\, 15213\, United States
CATEGORIES:Arts and Culture,Education
ATTACH;FMTTYPE=image/png:https://www.kidsburgh.org/wp-content/uploads/2019/07/Fall-classes-are-coming-soon-e1565017549835.png
GEO:40.4488115;-79.9478276
X-APPLE-STRUCTURED-LOCATION;VALUE=URI;X-ADDRESS=Saltworks Theatre Company 569 N Neville Street Pittsburgh 15213 United States;X-APPLE-RADIUS=500;X-TITLE=569 N Neville Street:geo:-79.9478276,40.4488115
END:VEVENT
END:VCALENDAR