BEGIN:VCALENDAR
VERSION:2.0
PRODID:-//Kidsburgh - ECPv6.0.1.1//NONSGML v1.0//EN
CALSCALE:GREGORIAN
METHOD:PUBLISH
X-WR-CALNAME:Kidsburgh
X-ORIGINAL-URL:https://www.kidsburgh.org
X-WR-CALDESC:Events for Kidsburgh
REFRESH-INTERVAL;VALUE=DURATION:PT1H
X-Robots-Tag:noindex
X-PUBLISHED-TTL:PT1H
BEGIN:VTIMEZONE
TZID:America/New_York
BEGIN:DAYLIGHT
TZOFFSETFROM:-0500
TZOFFSETTO:-0400
TZNAME:EDT
DTSTART:20190310T070000
END:DAYLIGHT
BEGIN:STANDARD
TZOFFSETFROM:-0400
TZOFFSETTO:-0500
TZNAME:EST
DTSTART:20191103T060000
END:STANDARD
END:VTIMEZONE
BEGIN:VEVENT
DTSTART;VALUE=DATE:20190906
DTEND;VALUE=DATE:20190909
DTSTAMP:20221005T195615
CREATED:20190723T223117Z
LAST-MODIFIED:20190723T223117Z
UID:53746-1567728000-1567987199@www.kidsburgh.org
SUMMARY:Pittsburgh Irish Festival
DESCRIPTION:Sept. 6-8: Pittsburgh Irish Festival\, Sandcastle. Celebrate all thing Irish with live music\, genealogy\, high stepping dance and a kids’ area where kids can make a take-home souvenir\, learn to dance an Irish jog and participate in a singalong.
URL:https://www.kidsburgh.org/ec/pittsburgh-irish-festival/
LOCATION:Sandcastle\, 1000 Sandcastle Drive\, West Homestead\, PA\, 15120\, United States
CATEGORIES:Arts and Culture,Community
GEO:40.3965294;-79.9297895
X-APPLE-STRUCTURED-LOCATION;VALUE=URI;X-ADDRESS=Sandcastle 1000 Sandcastle Drive West Homestead PA 15120 United States;X-APPLE-RADIUS=500;X-TITLE=1000 Sandcastle Drive:geo:-79.9297895,40.3965294
END:VEVENT
BEGIN:VEVENT
DTSTART;VALUE=DATE:20190616
DTEND;VALUE=DATE:20190617
DTSTAMP:20221005T195615
CREATED:20190613T184246Z
LAST-MODIFIED:20190613T184246Z
UID:52588-1560643200-1560729599@www.kidsburgh.org
SUMMARY:Father's Day Belly Flop
DESCRIPTION:Pittsburgh’s wildest waterpark is making this Father’s Day one to remember! On Sunday\, June 16\, Sandcastle will host it’s first-ever Father’s Day Flop\, which officially begins at noon at the mushroom pool. Dads can compete to see who can create the biggest splash. FROGGY will host the event and will have prizes and games! \nDads get in FREE with the purchase of additional admission ticket!  To participate\, visit www.sandcastlewaterpark.com/plan-a-visit/events and click “Register” under the event.sand
URL:https://www.kidsburgh.org/ec/fathers-day-belly-flop/
LOCATION:Sandcastle\, 1000 Sandcastle Drive\, West Homestead\, PA\, 15120\, United States
CATEGORIES:Community
GEO:40.3965294;-79.9297895
X-APPLE-STRUCTURED-LOCATION;VALUE=URI;X-ADDRESS=Sandcastle 1000 Sandcastle Drive West Homestead PA 15120 United States;X-APPLE-RADIUS=500;X-TITLE=1000 Sandcastle Drive:geo:-79.9297895,40.3965294
END:VEVENT
END:VCALENDAR