BEGIN:VCALENDAR
VERSION:2.0
PRODID:-//Kidsburgh - ECPv6.0.1.1//NONSGML v1.0//EN
CALSCALE:GREGORIAN
METHOD:PUBLISH
X-ORIGINAL-URL:https://www.kidsburgh.org
X-WR-CALDESC:Events for Kidsburgh
REFRESH-INTERVAL;VALUE=DURATION:PT1H
X-Robots-Tag:noindex
X-PUBLISHED-TTL:PT1H
BEGIN:VTIMEZONE
TZID:America/New_York
BEGIN:DAYLIGHT
TZOFFSETFROM:-0500
TZOFFSETTO:-0400
TZNAME:EDT
DTSTART:20190310T070000
END:DAYLIGHT
BEGIN:STANDARD
TZOFFSETFROM:-0400
TZOFFSETTO:-0500
TZNAME:EST
DTSTART:20191103T060000
END:STANDARD
END:VTIMEZONE
BEGIN:VEVENT
DTSTART;TZID=America/New_York:20191213T193000
DTEND;TZID=America/New_York:20191213T210000
DTSTAMP:20221005T195843
CREATED:20191203T184322Z
LAST-MODIFIED:20191203T184322Z
UID:57390-1576265400-1576270800@www.kidsburgh.org
SUMMARY:Winter Wonderlands and Caroling
DESCRIPTION:Bring everyone in the family and sing your favorite holiday carols with the Pittsburgh Philharmonic at our “Winter Wonderlands and Holiday Caroling Spectacular!” \nThe first half of the program begins our trip to magical winter wonderlands in sound with the overture to Engelbert Humperdinck’s fairytale opera Hansel and Gretel. Will the siblings be able to escape an evil witch living in a house made of cake and candy to find their way home? \nThe theme of iconic childhood wintertime fantasies continues with Tchaikovsky’s The Nutcracker Suite. We’ll play all the most famous music from the complete ballet. Accompanying the orchestra’s performance will be a slideshow of images from stagings of the Nutcracker ballet from all around the world. \nVaughan-Williams’ rustic and wintery Fantasia on Greensleeves completes the first half. \nBring your Santa hat and be ready to sing in the second half of the program. Let your cell phone do the singing in the world premiere performance of local composer Ryan McMasters’ [[ chhatter // trrremble ]] for cell phone ensemble and orchestra. By scanning a QR code in the program\, your smartphone becomes part of the performance of this brand new piece inspired by old English carols. \nNext\, we’ll invite you to sing along with traditional and new holiday carols from “Hark! The Herald Angels Sing” to “The Christmas Song” (better known as “Chestnuts Roasting on an Open Fire”). \nSanta made us promise to play Leroy Anderson’s Sleigh Ride. We’ll all be in the mood for milk and cookies by the end of this festive evening!
URL:https://www.kidsburgh.org/ec/winter-wonderlands-and-caroling/
LOCATION:QVMS\, 618 Harbaugh St\, Sewickley\, PA\, 15143\, United States
CATEGORIES:Arts and Culture
ATTACH;FMTTYPE=image/jpeg:https://www.kidsburgh.org/wp-content/uploads/2019/11/FB_IMG_1574885219820-e1576779801406.jpg
ORGANIZER;CN="Pittsburgh%20Philharmonic%20Orchestra":MAILTO:mmilli.esq@gmail.com
GEO:40.5359193;-80.1807933
X-APPLE-STRUCTURED-LOCATION;VALUE=URI;X-ADDRESS=QVMS 618 Harbaugh St Sewickley PA 15143 United States;X-APPLE-RADIUS=500;X-TITLE=618 Harbaugh St:geo:-80.1807933,40.5359193
END:VEVENT
END:VCALENDAR