BEGIN:VCALENDAR
VERSION:2.0
PRODID:-//Kidsburgh - ECPv6.0.1.1//NONSGML v1.0//EN
CALSCALE:GREGORIAN
METHOD:PUBLISH
X-WR-CALNAME:Kidsburgh
X-ORIGINAL-URL:https://www.kidsburgh.org
X-WR-CALDESC:Events for Kidsburgh
REFRESH-INTERVAL;VALUE=DURATION:PT1H
X-Robots-Tag:noindex
X-PUBLISHED-TTL:PT1H
BEGIN:VTIMEZONE
TZID:America/New_York
BEGIN:DAYLIGHT
TZOFFSETFROM:-0500
TZOFFSETTO:-0400
TZNAME:EDT
DTSTART:20190310T070000
END:DAYLIGHT
BEGIN:STANDARD
TZOFFSETFROM:-0400
TZOFFSETTO:-0500
TZNAME:EST
DTSTART:20191103T060000
END:STANDARD
BEGIN:DAYLIGHT
TZOFFSETFROM:-0500
TZOFFSETTO:-0400
TZNAME:EDT
DTSTART:20200308T070000
END:DAYLIGHT
BEGIN:STANDARD
TZOFFSETFROM:-0400
TZOFFSETTO:-0500
TZNAME:EST
DTSTART:20201101T060000
END:STANDARD
END:VTIMEZONE
BEGIN:VEVENT
DTSTART;TZID=America/New_York:20200320T193000
DTEND;TZID=America/New_York:20200320T213000
DTSTAMP:20221005T202106
CREATED:20200225T145446Z
LAST-MODIFIED:20200225T145446Z
UID:60871-1584732600-1584739800@www.kidsburgh.org
SUMMARY:Heartbreak at the Symphony
DESCRIPTION:Heartbreak at the Symphony features works on the theme of love and romance.\nWagner’s opera “Tristan und Isolde” tells the ancient story of two lovers bound together by a magic love potion but tragically driven apart by society and politics.\nTchaikovsky’s “Romeo and Juliet Fantasy Overture” tells the story of the battling Montagues and Capulets in one of the most iconic love themes ever written.\nHoward Hanson’s Symphony No. 2 (1930) immediately became known as his “Romantic” Symphony\, largely because of the stirring love theme present in all three movements of the work. Unlike Wagner’s and Tchaikovsky’s stories\, Hanson’s symphony ends with love triumphant!
URL:https://www.kidsburgh.org/ec/heartbreak-at-the-symphony/
LOCATION:Quaker Valley Middle School\, 618 Harbaugh Street\, Sewickley\, PA\, 15143\, United States
CATEGORIES:Arts and Culture
ATTACH;FMTTYPE=image/jpeg:https://www.kidsburgh.org/wp-content/uploads/2020/02/71419BC6-BF85-4FD7-A491-F733B5699CEB.jpeg
ORGANIZER;CN="Pittsburgh%20Philharmonic%20Orchestra":MAILTO:mmilli.esq@gmail.com
GEO:40.5359193;-80.1807933
X-APPLE-STRUCTURED-LOCATION;VALUE=URI;X-ADDRESS=Quaker Valley Middle School 618 Harbaugh Street Sewickley PA 15143 United States;X-APPLE-RADIUS=500;X-TITLE=618 Harbaugh Street:geo:-80.1807933,40.5359193
END:VEVENT
BEGIN:VEVENT
DTSTART;TZID=America/New_York:20191025T193000
DTEND;TZID=America/New_York:20191025T210000
DTSTAMP:20221005T202106
CREATED:20191022T170844Z
LAST-MODIFIED:20191022T170844Z
UID:55986-1572031800-1572037200@www.kidsburgh.org
SUMMARY:Pittsburgh Philharmonic: Resound\, Reclaim\, Renew
DESCRIPTION:Join the Pittsburgh Philharmonic for the first concert of their 2019-2020 concert season.  The program includes Dvorak’s New World Symphony\, Mozart’s Overture to the Magic Flute\, and Coleridge-Taylor’s Petite Suite de Concert. \nPurchase tickets online and at the door. \n  \n  \n 
URL:https://www.kidsburgh.org/ec/pittsburgh-philharmonic-resound-reclaim-renew/
LOCATION:Quaker Valley Middle School\, 618 Harbaugh Street\, Sewickley\, PA\, 15143\, United States
CATEGORIES:Arts and Culture
ATTACH;FMTTYPE=image/jpeg:https://www.kidsburgh.org/wp-content/uploads/2019/10/horns-e1571764897910.jpg
ORGANIZER;CN="Pittsburgh%20Philharmonic%20Orchestra":MAILTO:mmilli.esq@gmail.com
GEO:40.5359193;-80.1807933
X-APPLE-STRUCTURED-LOCATION;VALUE=URI;X-ADDRESS=Quaker Valley Middle School 618 Harbaugh Street Sewickley PA 15143 United States;X-APPLE-RADIUS=500;X-TITLE=618 Harbaugh Street:geo:-80.1807933,40.5359193
END:VEVENT
END:VCALENDAR