BEGIN:VCALENDAR
VERSION:2.0
PRODID:-//Kidsburgh - ECPv6.0.1.1//NONSGML v1.0//EN
CALSCALE:GREGORIAN
METHOD:PUBLISH
X-WR-CALNAME:Kidsburgh
X-ORIGINAL-URL:https://www.kidsburgh.org
X-WR-CALDESC:Events for Kidsburgh
REFRESH-INTERVAL;VALUE=DURATION:PT1H
X-Robots-Tag:noindex
X-PUBLISHED-TTL:PT1H
BEGIN:VTIMEZONE
TZID:America/New_York
BEGIN:DAYLIGHT
TZOFFSETFROM:-0500
TZOFFSETTO:-0400
TZNAME:EDT
DTSTART:20220313T070000
END:DAYLIGHT
BEGIN:STANDARD
TZOFFSETFROM:-0400
TZOFFSETTO:-0500
TZNAME:EST
DTSTART:20221106T060000
END:STANDARD
END:VTIMEZONE
BEGIN:VEVENT
DTSTART;TZID=America/New_York:20220519T170000
DTEND;TZID=America/New_York:20220519T200000
DTSTAMP:20221005T194558
CREATED:20220426T184108Z
LAST-MODIFIED:20220426T184108Z
UID:91111-1652979600-1652990400@www.kidsburgh.org
SUMMARY:Propel NorthSide: Fun in the Lab
DESCRIPTION:Propel NorthSide: Fun in the Lab [Career Ready PA + Arts|Maker|Technology] \nThurs\, May 19\, 5:00-7:00pm \nAges: Grades 5-8 \nHosted by: Propel Schools: North Side \nJoin us for a night of technology and maker fun in the Verizon Innovative Learning Schools Lab. \nhttps://remakelearningdays.org/event/propel-northside-fun-in-the-lab/# 
URL:https://www.kidsburgh.org/ec/propel-northside-fun-in-the-lab/
LOCATION:Propel Schools: Northside\, Pittsburgh\, PA\, 15222\, United States
CATEGORIES:Education,Community,Remake Learning
ATTACH;FMTTYPE=image/jpeg:https://www.kidsburgh.org/wp-content/uploads/2022/04/05-19-2022_pa-southwestern_kgolomb-1-rotated.jpg
END:VEVENT
END:VCALENDAR