BEGIN:VCALENDAR
VERSION:2.0
PRODID:-//Kidsburgh - ECPv6.0.1.1//NONSGML v1.0//EN
CALSCALE:GREGORIAN
METHOD:PUBLISH
X-ORIGINAL-URL:https://www.kidsburgh.org
X-WR-CALDESC:Events for Kidsburgh
REFRESH-INTERVAL;VALUE=DURATION:PT1H
X-Robots-Tag:noindex
X-PUBLISHED-TTL:PT1H
BEGIN:VTIMEZONE
TZID:America/New_York
BEGIN:DAYLIGHT
TZOFFSETFROM:-0500
TZOFFSETTO:-0400
TZNAME:EDT
DTSTART:20200308T070000
END:DAYLIGHT
BEGIN:STANDARD
TZOFFSETFROM:-0400
TZOFFSETTO:-0500
TZNAME:EST
DTSTART:20201101T060000
END:STANDARD
END:VTIMEZONE
BEGIN:VEVENT
DTSTART;TZID=America/New_York:20200113T200000
DTEND;TZID=America/New_York:20200113T210000
DTSTAMP:20221005T195817
CREATED:20191212T181809Z
LAST-MODIFIED:20191212T181809Z
UID:57795-1578945600-1578949200@www.kidsburgh.org
SUMMARY:Community Tap Class
DESCRIPTION:This class is open to all participants ages 14+. No previous experience necessary. \nThis class will focus on technique\, improvisation\, and musicality. In taking this class\, students will be able to comprehend release technique\, articulation\, vocabulary\, and dancing in different time signatures of music. We will also learn different genres of tap\, such as Broadway\, hoofing\, rhythm\, and classical. Bring your tap shoes and let’s make some music! \nYour instructor will be Michaela Kuehni.
URL:https://www.kidsburgh.org/ec/community-tap-class/2020-01-13/
LOCATION:Point Park University\, Lawrence Hall\, 212 Wood Street\, Pittsburgh\, PA\, 15222\, United States
CATEGORIES:Arts and Culture,Health and Wellness,Education,Community
ATTACH;FMTTYPE=image/jpeg:https://www.kidsburgh.org/wp-content/uploads/2019/12/DSC1704-scaled.jpg
ORGANIZER;CN="Community%20and%20Summer%20Education":MAILTO:community@pointpark.edu
GEO:40.4423933;-79.9552342
X-APPLE-STRUCTURED-LOCATION;VALUE=URI;X-ADDRESS=Point Park University Lawrence Hall 212 Wood Street Pittsburgh PA 15222 United States;X-APPLE-RADIUS=500;X-TITLE=Lawrence Hall\, 212 Wood Street:geo:-79.9552342,40.4423933
END:VEVENT
END:VCALENDAR