BEGIN:VCALENDAR
VERSION:2.0
PRODID:-//Kidsburgh - ECPv6.0.1.1//NONSGML v1.0//EN
CALSCALE:GREGORIAN
METHOD:PUBLISH
X-WR-CALNAME:Kidsburgh
X-ORIGINAL-URL:https://www.kidsburgh.org
X-WR-CALDESC:Events for Kidsburgh
REFRESH-INTERVAL;VALUE=DURATION:PT1H
X-Robots-Tag:noindex
X-PUBLISHED-TTL:PT1H
BEGIN:VTIMEZONE
TZID:America/New_York
BEGIN:DAYLIGHT
TZOFFSETFROM:-0500
TZOFFSETTO:-0400
TZNAME:EDT
DTSTART:20200308T070000
END:DAYLIGHT
BEGIN:STANDARD
TZOFFSETFROM:-0400
TZOFFSETTO:-0500
TZNAME:EST
DTSTART:20201101T060000
END:STANDARD
END:VTIMEZONE
BEGIN:VEVENT
DTSTART;TZID=America/New_York:20200615T090000
DTEND;TZID=America/New_York:20200618T143000
DTSTAMP:20221005T195236
CREATED:20200106T191941Z
LAST-MODIFIED:20200106T191941Z
UID:58501-1592211600-1592490600@www.kidsburgh.org
SUMMARY:Junior Baseball League Clinic
DESCRIPTION:Kids ages 7-12 can get the awesome experience of working hands-on with the Point Park Pioneers! Each day of this 4-day program will include 5 hours of instruction\, activity\, and play and includes a souvenir PPU t-shirt and baseball for all participants. Check our website for more details!
URL:https://www.kidsburgh.org/ec/junior-baseball-league-clinic/
LOCATION:Point Park Baseball Field at Greentree Park\, 905 Greentree Road\, Pittsburgh\, PA\, 15220\, United States
CATEGORIES:Health and Wellness,Community
ATTACH;FMTTYPE=image/jpeg:https://www.kidsburgh.org/wp-content/uploads/2020/01/2019_194_CSE_LOGO_CMYK.jpg
ORGANIZER;CN="Point%20Park%20University":MAILTO:hward@pointpark.edu
GEO:40.4224222;-80.0456321
X-APPLE-STRUCTURED-LOCATION;VALUE=URI;X-ADDRESS=Point Park Baseball Field at Greentree Park 905 Greentree Road Pittsburgh PA 15220 United States;X-APPLE-RADIUS=500;X-TITLE=905 Greentree Road:geo:-80.0456321,40.4224222
END:VEVENT
END:VCALENDAR