BEGIN:VCALENDAR
VERSION:2.0
PRODID:-//Kidsburgh - ECPv6.0.1.1//NONSGML v1.0//EN
CALSCALE:GREGORIAN
METHOD:PUBLISH
X-WR-CALNAME:Kidsburgh
X-ORIGINAL-URL:https://www.kidsburgh.org
X-WR-CALDESC:Events for Kidsburgh
REFRESH-INTERVAL;VALUE=DURATION:PT1H
X-Robots-Tag:noindex
X-PUBLISHED-TTL:PT1H
BEGIN:VTIMEZONE
TZID:America/New_York
BEGIN:DAYLIGHT
TZOFFSETFROM:-0500
TZOFFSETTO:-0400
TZNAME:EDT
DTSTART:20220313T070000
END:DAYLIGHT
BEGIN:STANDARD
TZOFFSETFROM:-0400
TZOFFSETTO:-0500
TZNAME:EST
DTSTART:20221106T060000
END:STANDARD
END:VTIMEZONE
BEGIN:VEVENT
DTSTART;TZID=America/New_York:20220917T090000
DTEND;TZID=America/New_York:20220917T150000
DTSTAMP:20221005T195452
CREATED:20220913T020233Z
LAST-MODIFIED:20220913T020233Z
UID:95454-1663405200-1663426800@www.kidsburgh.org
SUMMARY:Point Breeze Neighborhood Yard Sale
DESCRIPTION:Pittsburgh’s Point Breeze neighborhood in the East End will hold its 11th Annual Point Breeze Neighborhood Yard Sale on Saturday\, September 17th from 9am to 3pm\, rain or shine. Plan your route using the online map of our 100+ sellers. Print maps will be available at several locations throughout the neighborhood.\nMore information can be found at https://www.pointbreezeyardsale.org
URL:https://www.kidsburgh.org/ec/point-breeze-neighborhood-yard-sale/
LOCATION:Point Breeze\, Dallas Ave\, Pittsburgh\, 15208\, United States
CATEGORIES:Community
ATTACH;FMTTYPE=image/jpeg:https://www.kidsburgh.org/wp-content/uploads/2022/09/IMG_20210918_105756-scaled.jpg
ORGANIZER;CN="Point%20Breeze%20Organization":MAILTO:info@pointbreezepgh.org
END:VEVENT
END:VCALENDAR