BEGIN:VCALENDAR
VERSION:2.0
PRODID:-//Kidsburgh - ECPv6.0.1.1//NONSGML v1.0//EN
CALSCALE:GREGORIAN
METHOD:PUBLISH
X-ORIGINAL-URL:https://www.kidsburgh.org
X-WR-CALDESC:Events for Kidsburgh
REFRESH-INTERVAL;VALUE=DURATION:PT1H
X-Robots-Tag:noindex
X-PUBLISHED-TTL:PT1H
BEGIN:VTIMEZONE
TZID:America/New_York
BEGIN:DAYLIGHT
TZOFFSETFROM:-0500
TZOFFSETTO:-0400
TZNAME:EDT
DTSTART:20220313T070000
END:DAYLIGHT
BEGIN:STANDARD
TZOFFSETFROM:-0400
TZOFFSETTO:-0500
TZNAME:EST
DTSTART:20221106T060000
END:STANDARD
END:VTIMEZONE
BEGIN:VEVENT
DTSTART;TZID=America/New_York:20220515T143000
DTEND;TZID=America/New_York:20220515T160000
DTSTAMP:20221005T200648
CREATED:20220426T144518Z
LAST-MODIFIED:20220426T144518Z
UID:90967-1652625000-1652630400@www.kidsburgh.org
SUMMARY:CROSSINGS\, a collaborative choral ballet
DESCRIPTION:CROSSINGS\, a collaborative choral ballet [Arts|Youth Voice] \nSun\, May 15\, 2:30-4:00pm \nAge: All ages \nHosted by: Pittsburgh Youth Chorus and Hill Dance Academy Theatre \nExperience the premiere of CROSSINGS\, a coming-of-age story – told through dance\, vocal music\, and spoken word – of a young Black woman growing up “Uptown” and confronting racism in her community.
URL:https://www.kidsburgh.org/ec/crossings-a-collaborative-choral-ballet/
LOCATION:Pittsburgh Youth Chorus and Hill Dance Theatre\, Pittsburgh\, PA\, 15222\, United States
CATEGORIES:Arts and Culture,Community,Remake Learning
ATTACH;FMTTYPE=image/png:https://www.kidsburgh.org/wp-content/uploads/2022/04/05-15-2022_pa-southwestern_kelseyford824___54848.png
END:VEVENT
END:VCALENDAR