BEGIN:VCALENDAR
VERSION:2.0
PRODID:-//Kidsburgh - ECPv6.0.1.1//NONSGML v1.0//EN
CALSCALE:GREGORIAN
METHOD:PUBLISH
X-WR-CALNAME:Kidsburgh
X-ORIGINAL-URL:https://www.kidsburgh.org
X-WR-CALDESC:Events for Kidsburgh
REFRESH-INTERVAL;VALUE=DURATION:PT1H
X-Robots-Tag:noindex
X-PUBLISHED-TTL:PT1H
BEGIN:VTIMEZONE
TZID:America/New_York
BEGIN:DAYLIGHT
TZOFFSETFROM:-0500
TZOFFSETTO:-0400
TZNAME:EDT
DTSTART:20220313T070000
END:DAYLIGHT
BEGIN:STANDARD
TZOFFSETFROM:-0400
TZOFFSETTO:-0500
TZNAME:EST
DTSTART:20221106T060000
END:STANDARD
END:VTIMEZONE
BEGIN:VEVENT
DTSTART;TZID=America/New_York:20220518T170000
DTEND;TZID=America/New_York:20220518T180000
DTSTAMP:20221005T200044
CREATED:20220426T164122Z
LAST-MODIFIED:20220426T164122Z
UID:91053-1652893200-1652896800@www.kidsburgh.org
SUMMARY:Pittsburgh Schiller STEAM Academy 2022 Showcase of Arts and STEAM
DESCRIPTION:  \nJoin us as students and staff show off some of our STEAMy Learning from the 21 – 22 school year\, including student Arts performances and musical performances from our digital music lab.  \nhttps://remakelearningdays.org/event/pittsburgh-schiller-steam-academy-2022-showcase-of-arts-and-steam/# 
URL:https://www.kidsburgh.org/ec/pittsburgh-schiller-steam-academy-2022-showcase-of-arts-and-steam/
LOCATION:Pittsburgh Schiller STEAM Academy\, 1018 Peralta Street\, Pittsburgh\, PA\, United States
CATEGORIES:Remake Learning
ATTACH;FMTTYPE=image/png:https://www.kidsburgh.org/wp-content/uploads/2022/04/05-18-2022_pa-southwestern_adavis4pghschools-org.png
END:VEVENT
END:VCALENDAR