BEGIN:VCALENDAR
VERSION:2.0
PRODID:-//Kidsburgh - ECPv6.0.1.1//NONSGML v1.0//EN
CALSCALE:GREGORIAN
METHOD:PUBLISH
X-WR-CALNAME:Kidsburgh
X-ORIGINAL-URL:https://www.kidsburgh.org
X-WR-CALDESC:Events for Kidsburgh
REFRESH-INTERVAL;VALUE=DURATION:PT1H
X-Robots-Tag:noindex
X-PUBLISHED-TTL:PT1H
BEGIN:VTIMEZONE
TZID:America/New_York
BEGIN:DAYLIGHT
TZOFFSETFROM:-0500
TZOFFSETTO:-0400
TZNAME:EDT
DTSTART:20220313T070000
END:DAYLIGHT
BEGIN:STANDARD
TZOFFSETFROM:-0400
TZOFFSETTO:-0500
TZNAME:EST
DTSTART:20221106T060000
END:STANDARD
END:VTIMEZONE
BEGIN:VEVENT
DTSTART;TZID=America/New_York:20220806T100000
DTEND;TZID=America/New_York:20220806T113000
DTSTAMP:20221005T201237
CREATED:20220630T141422Z
LAST-MODIFIED:20220630T141422Z
UID:93324-1659780000-1659785400@www.kidsburgh.org
SUMMARY:Red or Blue Wire: Click\, Click\, BOOM!
DESCRIPTION:We have all seen the movie where someone has to choose whether to cut the red wire or the blue wire with the clock under ten seconds. But\, what is it really like? Find out from Pittsburgh’s finest\, the Pittsburgh Bureau of Police Bomb Squad Unit. \nFrom bomb suits and tactical gear to robotic platforms and total containment vessels\, this tour will take you on a rare glimpse inside the Bomb Squad. Learn about the history of the unit\, since its formation in 1964\, while you tour the building. See firsthand the various pieces of equipment utilized by this highly specialized team\, and check out some of the devices encountered from actual calls the unit has been part of.\n________________________________________ \nTOUR HOST BIO:\nThe Pittsburgh Police Bomb Squad was formed in 1964. Today the unit is comprised of 8 bomb technicians who receive extensive training from the F.B.I in electronics\, render safe procedures and weapons of mass destruction.\nThe unit has six robotic platforms\, and technicians utilize state-of-the-art technology\, equipment and bomb dogs to ensure that Pittsburgh remains at the forefront of explosive detection and render safe procedures.\nThe unit also has certified scuba divers who can locate and render safe underwater hazardous devices. The Bomb Squad is dedicated to community interaction and participates in numerous community events throughout the year.\n________________________________________ \nTOUR STARTS/ENDS: Pittsburgh Police Bomb Squad\, 2945 Webster Avenue\, Pittsburgh\, PA 15219\n• Restrooms are available\n• Photography is allowed\n• Other: Tour location may change. Ticket holders will be notified of any location change prior to a scheduled event. \nNOTICE: Dates and times are subject to change under emergency circumstances beyond the control of DOORS OPEN Pittsburgh and the Pittsburgh Police Bomb Squad. In the event of cancellation\, ticket holders will be notified at the earliest opportunity and tour times affected will be rescheduled. \nFor tickets and additional information visit: https://doorsopenpgh.org/event/red-or-blue-wire-click-click-boom-2022-05-15/2022-08-06/
URL:https://www.kidsburgh.org/ec/red-or-blue-wire-click-click-boom/
LOCATION:Pittsburgh Police Bomb Squad\, 2945 Webster Avenue\, Pittsburgh\, PA\, 15219\, United States
CATEGORIES:Science and Technology,Education,Community
ATTACH;FMTTYPE=image/jpeg:https://www.kidsburgh.org/wp-content/uploads/2022/06/Red-or-Blue-Wire-Click-Click-BOOM_Event-Square-Graphic-1.jpg
END:VEVENT
BEGIN:VEVENT
DTSTART;TZID=America/New_York:20220724T100000
DTEND;TZID=America/New_York:20220724T113000
DTSTAMP:20221005T201237
CREATED:20220630T152004Z
LAST-MODIFIED:20220630T152004Z
UID:93177-1658656800-1658662200@www.kidsburgh.org
SUMMARY:Red or Blue Wire: Click\, Click\, BOOM!
DESCRIPTION:We have all seen the movie where someone has to choose whether to cut the red wire or the blue wire with the clock under ten seconds. But\, what is it really like? Find out from Pittsburgh’s finest\, the Pittsburgh Bureau of Police Bomb Squad Unit. \nFrom bomb suits and tactical gear to robotic platforms and total containment vessels\, this tour will take you on a rare glimpse inside the Bomb Squad. Learn about the history of the unit\, since its formation in 1964\, while you tour the building. See firsthand the various pieces of equipment utilized by this highly specialized team\, and check out some of the devices encountered from actual calls the unit has been part of. \nTOUR HOST BIO: \nThe Pittsburgh Police Bomb Squad was formed in 1964. Today the unit is comprised of 8 bomb technicians who receive extensive training from the F.B.I in electronics\, render safe procedures and weapons of mass destruction. \nThe unit has six robotic platforms\, and technicians utilize state-of-the-art technology\, equipment and bomb dogs to ensure that Pittsburgh remains at the forefront of explosive detection and render safe procedures. \nThe unit also has certified scuba divers who can locate and render safe underwater hazardous devices. The Bomb Squad is dedicated to community interaction and participates in numerous community events throughout the year. \nTOUR STARTS/ENDS: Pittsburgh Police Bomb Squad\, 2945 Webster Avenue\, Pittsburgh\, PA 15219 \nRestrooms are available\nPhotography is allowed\nOther: Tour location may change. Ticket holders will be notified of any location change prior to a scheduled event. \nNOTICE: Dates and times are subject to change under emergency circumstances beyond the control of DOORS OPEN Pittsburgh and the Pittsburgh Police Bomb Squad. In the event of cancellation\, ticket holders will be notified at the earliest opportunity and tour times affected will be rescheduled.
URL:https://www.kidsburgh.org/ec/red-or-blue-wire-click-click-boom-3/
LOCATION:Pittsburgh Police Bomb Squad\, 2945 Webster Avenue\, Pittsburgh\, PA\, 15219\, United States
CATEGORIES:Education,Community
ATTACH;FMTTYPE=image/jpeg:https://www.kidsburgh.org/wp-content/uploads/2022/06/Red-or-Blue-Wire-Click-Click-BOOM_Event-Square-Graphic.jpg
END:VEVENT
BEGIN:VEVENT
DTSTART;TZID=America/New_York:20220716T100000
DTEND;TZID=America/New_York:20220716T113000
DTSTAMP:20221005T201237
CREATED:20220630T142358Z
LAST-MODIFIED:20220630T142358Z
UID:93141-1657965600-1657971000@www.kidsburgh.org
SUMMARY:Red or Blue Wire: Click\, Click\, BOOM!
DESCRIPTION:We have all seen the movie where someone has to choose whether to cut the red wire or the blue wire with the clock under ten seconds. But\, what is it really like? Find out from Pittsburgh’s finest\, the Pittsburgh Bureau of Police Bomb Squad Unit. \nFrom bomb suits and tactical gear to robotic platforms and total containment vessels\, this tour will take you on a rare glimpse inside the Bomb Squad. Learn about the history of the unit\, since its formation in 1964\, while you tour the building. See firsthand the various pieces of equipment utilized by this highly specialized team\, and check out some of the devices encountered from actual calls the unit has been part of. \nTOUR HOST BIO: \nThe Pittsburgh Police Bomb Squad was formed in 1964. Today the unit is comprised of 8 bomb technicians who receive extensive training from the F.B.I in electronics\, render safe procedures and weapons of mass destruction. \nThe unit has six robotic platforms\, and technicians utilize state-of-the-art technology\, equipment and bomb dogs to ensure that Pittsburgh remains at the forefront of explosive detection and render safe procedures. \nThe unit also has certified scuba divers who can locate and render safe underwater hazardous devices. The Bomb Squad is dedicated to community interaction and participates in numerous community events throughout the year. \nTOUR STARTS/ENDS: Pittsburgh Police Bomb Squad\, 2945 Webster Avenue\, Pittsburgh\, PA 15219 \nRestrooms are available\nPhotography is allowed\nOther: Tour location may change. Ticket holders will be notified of any location change prior to a scheduled event. \nNOTICE: Dates and times are subject to change under emergency circumstances beyond the control of DOORS OPEN Pittsburgh and the Pittsburgh Police Bomb Squad. In the event of cancellation\, ticket holders will be notified at the earliest opportunity and tour times affected will be rescheduled.
URL:https://www.kidsburgh.org/ec/red-or-blue-wire-click-click-boom-2/
LOCATION:Pittsburgh Police Bomb Squad\, 2945 Webster Avenue\, Pittsburgh\, PA\, 15219\, United States
CATEGORIES:Arts and Culture,Education,Community
ATTACH;FMTTYPE=image/jpeg:https://www.kidsburgh.org/wp-content/uploads/2022/06/Red-or-Blue-Wire-Click-Click-BOOM_Event-Eventbrite-Graphic.jpg
END:VEVENT
END:VCALENDAR