BEGIN:VCALENDAR
VERSION:2.0
PRODID:-//Kidsburgh - ECPv6.0.1.1//NONSGML v1.0//EN
CALSCALE:GREGORIAN
METHOD:PUBLISH
X-WR-CALNAME:Kidsburgh
X-ORIGINAL-URL:https://www.kidsburgh.org
X-WR-CALDESC:Events for Kidsburgh
REFRESH-INTERVAL;VALUE=DURATION:PT1H
X-Robots-Tag:noindex
X-PUBLISHED-TTL:PT1H
BEGIN:VTIMEZONE
TZID:America/New_York
BEGIN:DAYLIGHT
TZOFFSETFROM:-0500
TZOFFSETTO:-0400
TZNAME:EDT
DTSTART:20200308T070000
END:DAYLIGHT
BEGIN:STANDARD
TZOFFSETFROM:-0400
TZOFFSETTO:-0500
TZNAME:EST
DTSTART:20201101T060000
END:STANDARD
BEGIN:DAYLIGHT
TZOFFSETFROM:-0500
TZOFFSETTO:-0400
TZNAME:EDT
DTSTART:20210314T070000
END:DAYLIGHT
BEGIN:STANDARD
TZOFFSETFROM:-0400
TZOFFSETTO:-0500
TZNAME:EST
DTSTART:20211107T060000
END:STANDARD
END:VTIMEZONE
BEGIN:VEVENT
DTSTART;TZID=America/New_York:20210813T080000
DTEND;TZID=America/New_York:20210813T170000
DTSTAMP:20221005T200824
CREATED:20210810T205841Z
LAST-MODIFIED:20210810T205841Z
UID:81318-1628841600-1628874000@www.kidsburgh.org
SUMMARY:2021 MotoAmerica Championship Series 
DESCRIPTION:If your kids are born to be wild\, they will thrill to the excitement of the 2021 MotoAmerica Championship Series from Aug. 13-15. The fastest form of motorcycle racing takes place from Aug. 13-15 at Pittsburgh International Race Complex. Racing takes the headline\, but there’s plenty more family-friendly fun with stunt shows\, motorcycle displays and go-karting. Meet the riders in open race paddock or hang out in the Kids Zone and play free carnival games. \nKids ages 12 and younger receive free admission with a paying grownup. Find the details here.
URL:https://www.kidsburgh.org/ec/2021-motoamerica-championship-series/2021-08-13/
LOCATION:Pittsburgh International Race  Complex\, 201 Penndale Road\, Wampum\, 16157
GEO:40.849266;-80.3452148
X-APPLE-STRUCTURED-LOCATION;VALUE=URI;X-ADDRESS=Pittsburgh International Race  Complex 201 Penndale Road Wampum 16157;X-APPLE-RADIUS=500;X-TITLE=201 Penndale Road:geo:-80.3452148,40.849266
END:VEVENT
BEGIN:VEVENT
DTSTART;VALUE=DATE:20200807
DTEND;VALUE=DATE:20200810
DTSTAMP:20221005T200824
CREATED:20200723T221013Z
LAST-MODIFIED:20200724T150154Z
UID:68685-1596758400-1597017599@www.kidsburgh.org
SUMMARY:MotoAmerica Motorcycle Racing
DESCRIPTION:MotoAmerica\, one of the world’s fastest and most exciting professional motorcycle racing competitions\, is back at Pittsburgh International Raceway from August 7 – 9! The three-day championship event will be an action-packed weekend of family-friendly fun. \nAlongside five competitive classes of racing\, Attendees can enjoy stunt shows\, bike displays\, go-karting and an open paddock during all three days. \nTo ensure the safety of riders and spectators\, government-sanctioned safety protocols and social distancing measures will be enforced. \nChildren 16 and under are admitted free of charge with a paying adult. \nAdvance discounted ticket options for the MotoAmerica Series at Pittsburgh International Race Complex are available through Aug. 2\, at $39 for Saturday or Sunday only tickets\, $49 for a two-day Saturday and Sunday ticket and $59 for a three-day ticket. After Aug. 2\, general admission ticket prices will increase by $11. Children 16 and under are admitted free of charge with a paying adult. Active military and veterans receive a discount with valid military ID. Additionally\, spectators with a penchant for camping can purchase RV and tent packages to stay overnight at the track. For more information and to purchase tickets\, visit http://www.motoamerica.com/tickets. \nAbout MotoAmerica \nMotoAmerica is the North American road racing series created in 2014 that is home to the AMA Superbike Championship. MotoAmerica is an affiliate of KRAVE Group LLC\, a partnership that includes three-time 500cc World Champion\, two-time AMA Superbike Champion\, and AMA Hall of Famer Wayne Rainey\, ex-racer and former manager of Team Roberts Chuck Aksland\, motorsports marketing executive Terry Karges\, and businessman Richard Varner. For more information on MotoAmerica\, visit https://motoamerica.com. \nAbout Pittsburgh International Race Complex \nPittsburgh International Race Complex (Pitt Race) is a premier motorsports destination located just 45 minutes from Pittsburgh\, PA. Featuring more than three miles of paved road track for motorsport racing\, public go kart rentals\, and driver training. The facility sits on 400 acres in Beaver County and serves the needs of their community\, customers\, spectators\, and employees. Pitt Race\, where passion meets performance. For more information visit http://pittrace.com.
URL:https://www.kidsburgh.org/ec/motoamerica-motorcycle-racing/
LOCATION:Pittsburgh International Race  Complex\, 201 Penndale Road\, Wampum\, 16157
GEO:40.849266;-80.3452148
X-APPLE-STRUCTURED-LOCATION;VALUE=URI;X-ADDRESS=Pittsburgh International Race  Complex 201 Penndale Road Wampum 16157;X-APPLE-RADIUS=500;X-TITLE=201 Penndale Road:geo:-80.3452148,40.849266
END:VEVENT
BEGIN:VEVENT
DTSTART;VALUE=DATE:20200807
DTEND;VALUE=DATE:20200810
DTSTAMP:20221005T200824
CREATED:20200723T221013Z
LAST-MODIFIED:20200723T221013Z
UID:74244-1596758400-1597017599@www.kidsburgh.org
SUMMARY:MotoAmerica Motorcycle Racing
DESCRIPTION:MotoAmerica\, one of the world’s fastest and most exciting professional motorcycle racing competitions\, is back at Pittsburgh International Raceway from August 7 – 9! The three-day championship event will be an action-packed weekend of family-friendly fun. \nAlongside five competitive classes of racing\, Attendees can enjoy stunt shows\, bike displays\, go-karting and an open paddock during all three days. \nTo ensure the safety of riders and spectators\, government-sanctioned safety protocols and social distancing measures will be enforced. \nChildren 16 and under are admitted free of charge with a paying adult. \nAdvance discounted ticket options for the MotoAmerica Series at Pittsburgh International Race Complex are available through Aug. 2\, at $39 for Saturday or Sunday only tickets\, $49 for a two-day Saturday and Sunday ticket and $59 for a three-day ticket. After Aug. 2\, general admission ticket prices will increase by $11. Children 16 and under are admitted free of charge with a paying adult. Active military and veterans receive a discount with valid military ID. Additionally\, spectators with a penchant for camping can purchase RV and tent packages to stay overnight at the track. For more information and to purchase tickets\, visit http://www.motoamerica.com/tickets. \nAbout MotoAmerica \nMotoAmerica is the North American road racing series created in 2014 that is home to the AMA Superbike Championship. MotoAmerica is an affiliate of KRAVE Group LLC\, a partnership that includes three-time 500cc World Champion\, two-time AMA Superbike Champion\, and AMA Hall of Famer Wayne Rainey\, ex-racer and former manager of Team Roberts Chuck Aksland\, motorsports marketing executive Terry Karges\, and businessman Richard Varner. For more information on MotoAmerica\, visit https://motoamerica.com. \nAbout Pittsburgh International Race Complex \nPittsburgh International Race Complex (Pitt Race) is a premier motorsports destination located just 45 minutes from Pittsburgh\, PA. Featuring more than three miles of paved road track for motorsport racing\, public go kart rentals\, and driver training. The facility sits on 400 acres in Beaver County and serves the needs of their community\, customers\, spectators\, and employees. Pitt Race\, where passion meets performance. For more information visit http://pittrace.com.
URL:https://www.kidsburgh.org/ec/motoamerica-motorcycle-racing-2/
LOCATION:Pittsburgh International Race  Complex\, 201 Penndale Road\, Wampum\, 16157
GEO:40.849266;-80.3452148
X-APPLE-STRUCTURED-LOCATION;VALUE=URI;X-ADDRESS=Pittsburgh International Race  Complex 201 Penndale Road Wampum 16157;X-APPLE-RADIUS=500;X-TITLE=201 Penndale Road:geo:-80.3452148,40.849266
END:VEVENT
END:VCALENDAR