BEGIN:VCALENDAR
VERSION:2.0
PRODID:-//Kidsburgh - ECPv6.0.1.1//NONSGML v1.0//EN
CALSCALE:GREGORIAN
METHOD:PUBLISH
X-ORIGINAL-URL:https://www.kidsburgh.org
X-WR-CALDESC:Events for Kidsburgh
REFRESH-INTERVAL;VALUE=DURATION:PT1H
X-Robots-Tag:noindex
X-PUBLISHED-TTL:PT1H
BEGIN:VTIMEZONE
TZID:America/New_York
BEGIN:DAYLIGHT
TZOFFSETFROM:-0500
TZOFFSETTO:-0400
TZNAME:EDT
DTSTART:20190310T070000
END:DAYLIGHT
BEGIN:STANDARD
TZOFFSETFROM:-0400
TZOFFSETTO:-0500
TZNAME:EST
DTSTART:20191103T060000
END:STANDARD
BEGIN:DAYLIGHT
TZOFFSETFROM:-0500
TZOFFSETTO:-0400
TZNAME:EDT
DTSTART:20200308T070000
END:DAYLIGHT
BEGIN:STANDARD
TZOFFSETFROM:-0400
TZOFFSETTO:-0500
TZNAME:EST
DTSTART:20201101T060000
END:STANDARD
BEGIN:DAYLIGHT
TZOFFSETFROM:-0500
TZOFFSETTO:-0400
TZNAME:EDT
DTSTART:20210314T070000
END:DAYLIGHT
BEGIN:STANDARD
TZOFFSETFROM:-0400
TZOFFSETTO:-0500
TZNAME:EST
DTSTART:20211107T060000
END:STANDARD
END:VTIMEZONE
BEGIN:VEVENT
DTSTART;TZID=America/New_York:20211002T100000
DTEND;TZID=America/New_York:20211002T120000
DTSTAMP:20221005T200810
CREATED:20210802T153226Z
LAST-MODIFIED:20210802T153226Z
UID:81066-1633168800-1633176000@www.kidsburgh.org
SUMMARY:FlyBy 5K and 2-Mile Fun Run
DESCRIPTION:Race the runway with your whole family at the FlyBy 5K and 2-Mile Fun Run/Walk presented by CNX Resources. This unique course lets participants run through the airfield and taxiways of Pittsburgh International Airport\, taking them past aircraft parked along the runway and showing them a side of the airport few get to see.
URL:https://www.kidsburgh.org/ec/flyby-5k-and-2-mile-fun-run/
LOCATION:Pittsburgh International Airport\, 1000 Airport Blvd\, Pittsburgh\, 15231\, United States
CATEGORIES:Health and Wellness
ATTACH;FMTTYPE=image/png:https://www.kidsburgh.org/wp-content/uploads/2021/07/Fly-By-5K-V-No-Tag.png
GEO:40.4957129;-80.2461028
X-APPLE-STRUCTURED-LOCATION;VALUE=URI;X-ADDRESS=Pittsburgh International Airport 1000 Airport Blvd Pittsburgh 15231 United States;X-APPLE-RADIUS=500;X-TITLE=1000 Airport Blvd:geo:-80.2461028,40.4957129
END:VEVENT
BEGIN:VEVENT
DTSTART;TZID=America/New_York:20190921T100000
DTEND;TZID=America/New_York:20190921T120000
DTSTAMP:20221005T200810
CREATED:20190531T173115Z
LAST-MODIFIED:20190615T185648Z
UID:52339-1569060000-1569067200@www.kidsburgh.org
SUMMARY:FlyBy 5K and 2-Mile Fun Run/Walk
DESCRIPTION:Presented by CNX Resources. \nReady to race the runway? Take flight on this one-of-a-kind course that grants you exclusive access to the airfield and taxiways\, past aircraft and alongside the runway at Pittsburgh International Airport. \nAll participants will enjoy a finisher shirt\, beautifully designed finisher medal\, and post-race food and entertainment. Strollers are permitted\, and children aged four years and younger can participate for free! \nThis family-friendly race – will benefit the Allegheny County Airport Authority Charitable Foundation\, a nonprofit organization established to assist members of the military\, families and others traveling through the airport.
URL:https://www.kidsburgh.org/ec/flyby-5k-and-2-mile-fun-run-walk-presented-by-cnx-resources/
LOCATION:Pittsburgh International Airport\, 1000 Airport Blvd\, Pittsburgh\, 15231\, United States
CATEGORIES:Health and Wellness
ATTACH;FMTTYPE=image/png:https://www.kidsburgh.org/wp-content/uploads/2019/05/Fly-By-5K-H-No-Tag-e1560275931158.png
GEO:40.4957129;-80.2461028
X-APPLE-STRUCTURED-LOCATION;VALUE=URI;X-ADDRESS=Pittsburgh International Airport 1000 Airport Blvd Pittsburgh 15231 United States;X-APPLE-RADIUS=500;X-TITLE=1000 Airport Blvd:geo:-80.2461028,40.4957129
END:VEVENT
END:VCALENDAR